{"text_format":"1","workbook":"xlsx","n_sheets":26,"sheets":["説明","請求事業者","利用者情報","請求書","単価表","データ ","1","2","3","4","5","6","7","8","9","10","11","12","13","14","15","16","17","18","19","20"],"not_rendered":{"charts":0,"images":3,"macros":1,"external_links":2,"defined_names":30,"comments":1,"pivot_tables":0},"unopened":[],"bounds":{"document_bytes":16777216,"sheet_cells":100000,"rows_first":2000,"rows_last":500,"rows_between":2000,"halvings":0,"cell_chars":16384,"cell_head_chars":4096},"cells_cut":0,"cells_raw":0,"read":"whole","date_system":"1900"}

{"sheet":"説明","index":0,"n_rows":12,"n_cols":2,"rows_kept":12,"cut":false,"hidden":false,"merged":[[4,0,5,0],[6,0,7,0],[0,0,0,1],[10,0,10,1],[11,0,11,1]]}
["鎌ケ谷市移動支援事業　請求書・実績記録作成支援システムの使い方"]
[]
["シート名","説明"]
["請求事業者","まず、事業所の情報を入力してください。入力内容は請求書にも反映されますので、債権者登録の内容と一致させてください。"]
["利用者情報","利用者の受給者証の情報を入力してください。色がついた部分を入力してください。赤線部分は必須内容です。有効期限が近かったり、切れていたりするとコメントが表示されます。先頭の「№」から該当する提供実績記録票にリンクしています。"]
[]
["（提供実績記録票）1～20","利用者ごとに実績記録を入力してください。色がついた部分を入力してください。入力日の月が異なっていたり、決定日数を超過している場合コメントが表示されます。"]
[]
["請求書","利用者の実績記録をもとに請求書に自動で情報が入力されます。"]
[]
["請求書と実績記録票をプリントし、実績記録票に「サービス提供者印」・「利用者確認印」の押印と、請求書に「事業所」の押印をお願いします。"]
["請求書の提出は利用の翌月１０日までになります。土日・祝日などによって提出期間が短くなる場合がありますのでご注意ください。"]

{"sheet":"請求事業者","index":1,"n_rows":9,"n_cols":3,"rows_kept":9,"cut":false,"hidden":false,"merged":[[1,0,1,1],[0,0,0,1]]}
["請求者の情報を入力してください。請求書の請求事業者の欄に反映されます。請求者は債権者登録の内容と一致する必要があります。変更する場合は債権者登録の変更の手続きが必要になりますので、障がい福祉課までご連絡ください。"]
[]
["事業所番号"]
["〒"]
["住所"]
["電話番号"]
["名称"]
["職氏名"]
["所在地","鎌ケ谷市",{"$f":"VLOOKUP(B9,'データ '!B:C,2,FALSE)","v":5}]

{"sheet":"利用者情報","index":2,"n_rows":23,"n_cols":18,"rows_kept":23,"cut":false,"hidden":false,"merged":[[0,1,0,6]]}
[null,"下記に利用者の受給者証の情報を入力してください。色が付いている部分の入力をお願いします。赤線部分は必須事項になります。",null,null,null,null,null,"【本日の日付】",{"$f":"TODAY()","v":"2020-04-01"}]
[]
["№","登録番号","利用者名","時間数","身体介護の有無","利用者負担の有無","利用者負担上限額","有効期限（始期）","有効期限（終期）","コメント",null,null,null,"氏名","算定額","利用者負担額","請求額","最新の利用月"]
[1,null,null,null,null,null,{"$f":"IF(F4=\"有\",37200,0)","v":0},null,null,{"$f":"IF(I4=0,\"\",IF($I$1>I4,\"受給者証の有効期限が切れいています！\",IF($I$1+31>I4,\"有効期限注意！更新してください！\",\"\")))","v":""},{"$f":"E4","v":0},{"$f":"IF(M4=1,SUM($M$4:M4),0)","v":0},{"$f":"IF(Q4<>0,1,0)","v":0},{"$f":"C4","v":0},{"$f":"IFERROR(INDIRECT(A4&\"!$K$44\"),0)","v":0},{"$f":"IFERROR(INDIRECT(A4&\"!$L$44\"),0)","v":0},{"$f":"IFERROR(INDIRECT(A4&\"!Ｍ44\"),0)","v":0},{"$f":"IF(INDIRECT(A4&\"!Ｂ4\")=31,\"実績入力なし\",INDIRECT(A4&\"!Ｂ4\"))","v":"実績入力なし"}]
[2,null,null,null,null,null,{"$f":"IF(F5=\"有\",37200,0)","v":0},null,null,{"$f":"IF(I5=0,\"\",IF($I$1>I5,\"受給者証の有効期限が切れいています！\",IF($I$1+31>I5,\"有効期限注意！更新してください！\",\"\")))","v":""},0,{"$f":"IF(M5=1,SUM($M$4:M5),0)","v":0},{"$f":"IF(Q5<>0,1,0)","v":0},{"$f":"C5","v":0},{"$f":"IFERROR(INDIRECT(A5&\"!$K$44\"),0)","v":0},{"$f":"IFERROR(INDIRECT(A5&\"!$L$44\"),0)","v":0},{"$f":"IFERROR(INDIRECT(A5&\"!Ｍ44\"),0)","v":0},{"$f":"IF(INDIRECT(A5&\"!Ｂ4\")=31,\"実績入力なし\",INDIRECT(A5&\"!Ｂ4\"))","v":"実績入力なし"}]
[3,null,null,null,null,null,0,null,null,"",0,{"$f":"IF(M6=1,SUM($M$4:M6),0)","v":0},{"$f":"IF(Q6<>0,1,0)","v":0},0,0,0,{"$f":"IFERROR(INDIRECT(A6&\"!Ｍ44\"),0)","v":0},{"$f":"IF(INDIRECT(A6&\"!Ｂ4\")=31,\"実績入力なし\",INDIRECT(A6&\"!Ｂ4\"))","v":"実績入力なし"}]
[4,null,null,null,null,null,0,null,null,"",0,{"$f":"IF(M7=1,SUM($M$4:M7),0)","v":0},0,0,0,0,0,"実績入力なし"]
[5,null,null,null,null,null,0,null,null,"",0,{"$f":"IF(M8=1,SUM($M$4:M8),0)","v":0},0,0,0,0,0,"実績入力なし"]
[6,null,null,null,null,null,0,null,null,"",0,{"$f":"IF(M9=1,SUM($M$4:M9),0)","v":0},0,0,0,0,0,"実績入力なし"]
[7,null,null,null,null,null,0,null,null,"",0,{"$f":"IF(M10=1,SUM($M$4:M10),0)","v":0},0,0,0,0,0,"実績入力なし"]
[8,null,null,null,null,null,0,null,null,"",0,{"$f":"IF(M11=1,SUM($M$4:M11),0)","v":0},0,0,0,0,0,"実績入力なし"]
[9,null,null,null,null,null,0,null,null,"",0,{"$f":"IF(M12=1,SUM($M$4:M12),0)","v":0},0,0,0,0,0,"実績入力なし"]
[10,null,null,null,null,null,0,null,null,"",0,{"$f":"IF(M13=1,SUM($M$4:M13),0)","v":0},0,0,0,0,0,"実績入力なし"]
[11,null,null,null,null,null,0,null,null,{"$f":"IF(I14=0,\"\",IF($I$1>I14,\"受給者証の有効期限が切れいています！\",IF($I$1+31>I14,\"有効期限注意！更新してください！\",\"\")))","v":""},0,{"$f":"IF(M14=1,SUM($M$4:M14),0)","v":0},0,0,0,0,0,"実績入力なし"]
[12,null,null,null,null,null,0,null,null,"",0,{"$f":"IF(M15=1,SUM($M$4:M15),0)","v":0},0,0,0,0,0,"実績入力なし"]
[13,null,null,null,null,null,0,null,null,"",0,{"$f":"IF(M16=1,SUM($M$4:M16),0)","v":0},0,0,0,0,0,"実績入力なし"]
[14,null,null,null,null,null,0,null,null,"",0,{"$f":"IF(M17=1,SUM($M$4:M17),0)","v":0},0,0,0,0,0,"実績入力なし"]
[15,null,null,null,null,null,0,null,null,"",0,{"$f":"IF(M18=1,SUM($M$4:M18),0)","v":0},0,0,0,0,0,"実績入力なし"]
[16,null,null,null,null,null,0,null,null,"",0,{"$f":"IF(M19=1,SUM($M$4:M19),0)","v":0},0,0,0,0,0,"実績入力なし"]
[17,null,null,null,null,null,0,null,null,"",0,{"$f":"IF(M20=1,SUM($M$4:M20),0)","v":0},0,0,0,0,0,"実績入力なし"]
[18,null,null,null,null,null,0,null,null,"",0,{"$f":"IF(M21=1,SUM($M$4:M21),0)","v":0},0,0,0,0,0,"実績入力なし"]
[19,null,null,null,null,null,0,null,null,"",0,{"$f":"IF(M22=1,SUM($M$4:M22),0)","v":0},0,0,0,0,0,"実績入力なし"]
[20,null,null,null,null,null,0,null,null,"",0,{"$f":"IF(M23=1,SUM($M$4:M23),0)","v":0},0,0,0,0,0,"実績入力なし"]

{"sheet":"請求書","index":3,"n_rows":31,"n_cols":30,"rows_kept":31,"cut":false,"hidden":false,"merged":[[25,23,25,24],[25,25,25,31],[26,23,30,24],[26,25,27,26],[26,27,26,31],[27,27,27,31],[28,25,28,26],[28,27,28,31],[29,25,29,26],[29,27,29,31],[30,25,30,26],[30,27,30,31],[19,24,19,26],[19,27,19,28],[19,29,19,30],[20,21,21,23],[20,24,21,26],[20,27,21,28],[20,29,21,30],[1,20,1,31],[2,20,2,31],[5,20,5,23],[5,24,5,30],[6,20,6,30],[16,21,16,23],[16,24,16,26],[16,27,16,28],[16,29,16,30],[13,21,13,23],[13,24,13,26],[13,27,13,28],[13,29,13,30],[14,21,14,23],[14,24,14,26],[14,27,14,28],[14,29,14,30],[22,20,22,26],[23,20,23,31],[7,20,21,20],[7,21,7,22],[7,24,7,25],[8,21,9,23],[8,24,9,26],[8,27,9,28],[8,29,9,30],[10,21,10,23],[10,24,10,26],[10,27,10,28],[17,21,17,23],[17,24,17,26],[17,27,17,28],[17,29,17,30],[18,21,18,23],[18,24,18,26],[18,27,18,28],[18,29,18,30],[15,21,15,23],[15,24,15,26],[15,27,15,28],[15,29,15,30],[11,21,11,23],[11,24,11,26],[11,27,11,28],[11,29,11,30],[12,21,12,23],[12,24,12,26],[12,27,12,28],[12,29,12,30],[10,29,10,30],[19,21,19,23],[6,1,6,11],[28,8,28,12],[29,8,29,12],[30,8,30,12],[26,6,27,7],[26,8,26,12],[30,6,30,7],[29,6,29,7],[28,6,28,7],[26,4,30,5],[27,8,27,12],[22,1,22,7],[23,1,23,12],[25,4,25,5],[25,6,25,12],[18,8,18,9],[18,10,18,11],[19,2,19,4],[19,5,19,7],[19,8,19,9],[19,10,19,11],[20,8,21,9],[20,10,21,11],[2,1,2,12],[1,1,1,12],[16,2,16,4],[16,5,16,7],[16,8,16,9],[16,10,16,11],[15,2,15,4],[15,5,15,7],[15,8,15,9],[15,10,15,11],[11,5,11,7],[11,8,11,9],[11,10,11,11],[18,2,18,4],[18,5,18,7],[7,1,21,1],[5,1,5,4],[5,5,5,11],[8,2,9,4],[10,2,10,4],[11,2,11,4],[12,2,12,4],[13,2,13,4],[8,5,9,7],[8,8,9,9],[8,10,9,11],[10,5,10,7],[10,8,10,9],[7,2,7,3],[7,5,7,6],[12,10,12,11],[10,10,10,11],[20,2,21,4],[20,5,21,7],[14,5,14,7],[14,8,14,9],[14,10,14,11],[17,2,17,4],[17,5,17,7],[17,8,17,9],[17,10,17,11],[12,5,12,7],[12,8,12,9],[14,2,14,4],[13,5,13,7],[13,8,13,9],[13,10,13,11]]}
[]
[null,"鎌ケ谷市地域生活支援事業",null,null,null,null,null,null,null,null,null,null,null,null,null,null,null,null,null,null,"鎌ケ谷市地域生活支援事業"]
[null,"（移動支援、日中一時）請求書",null,null,null,null,null,null,null,null,null,null,null,null,null,null,null,null,null,null,"（移動支援、日中一時）請求書"]
[null,"鎌ケ谷市長　　　　　　　　　様",null,null,null,null,null,null,null,null,null,null,null,null,null,null,null,null,null,null,"鎌ケ谷市長　　　　　　　　　様"]
[]
[null,"請求金額合計",null,null,null,{"$f":"K21+AD21","v":0},null,null,null,null,null,null,null,null,null,null,null,null,null,null,"請求金額合計"]
[]
[null,"内容",{"$f":"Q11","v":""},null,"年",{"$f":"Q11","v":""},null,"月分",null,null,null,null,null,null,null,null,null,null,null,null,"内容",{"$f":"Q11","v":""},null,"年",{"$f":"F8","v":""},null,"月分"]
[null,null,"利用者名",null,null,"算定額",null,null,"利用者負担額",null,"請求額",null,null,null,null,null,null,null,null,null,null,"利用者名",null,null,"算定額",null,null,"利用者負担額",null,"請求額"]
[]
[null,null,{"$f":"IF($Q11=$F$8,IFERROR(VLOOKUP($O11,利用者情報!$L:$Q,3,FALSE),\"\"),\"\")","v":""},null,null,{"$f":"IF($Q11=$F$8,IFERROR(VLOOKUP($O11,利用者情報!$L:$Q,4,FALSE),0),0)","v":0},null,null,{"$f":"IF($Q11=$F$8,IFERROR(VLOOKUP($O11,利用者情報!$L:$Q,5,FALSE),0),0)","v":0},null,{"$f":"IF($Q11=$F$8,IFERROR(VLOOKUP(O11,利用者情報!$L:$Q,6,FALSE),0),0)","v":0},null,null,null,1,{"$f":"IF($F$8=Q11,1,0)","v":1},{"$f":"IFERROR(VLOOKUP(O11,利用者情報!$L:$R,7,FALSE),\"\")","v":""},null,null,null,null,{"$f":"IF($Q21=$F$8,IFERROR(VLOOKUP($O21,利用者情報!$L:$Q,3,FALSE),\"\"),\"\")","v":""},null,null,{"$f":"IF($Q21=$F$8,IFERROR(VLOOKUP($O21,利用者情報!$L:$Q,4,FALSE),0),0)","v":0},null,null,{"$f":"IF($Q21=$F$8,IFERROR(VLOOKUP($O21,利用者情報!$L:$Q,5,FALSE),0),0)","v":0},null,{"$f":"IF($Q21=$F$8,IFERROR(VLOOKUP($O21,利用者情報!$L:$Q,6,FALSE),0),0)","v":0}]
[null,null,{"$f":"IF($Q12=$F$8,IFERROR(VLOOKUP($O12,利用者情報!$L:$Q,3,FALSE),\"\"),\"\")","v":""},null,null,{"$f":"IF($Q12=$F$8,IFERROR(VLOOKUP($O12,利用者情報!$L:$Q,4,FALSE),0),0)","v":0},null,null,{"$f":"IF($Q12=$F$8,IFERROR(VLOOKUP($O12,利用者情報!$L:$Q,5,FALSE),0),0)","v":0},null,{"$f":"IF($Q12=$F$8,IFERROR(VLOOKUP(O12,利用者情報!$L:$Q,6,FALSE),0),0)","v":0},null,null,null,2,{"$f":"IF($F$8=Q12,1,0)","v":1},{"$f":"IFERROR(VLOOKUP(O12,利用者情報!$L:$R,7,FALSE),\"\")","v":""},{"$f":"IFERROR(VLOOKUP(O12,$Q$11:$Q$29,2,FALSE),\"\")","v":""},null,null,null,{"$f":"IF($Q22=$F$8,IFERROR(VLOOKUP($O22,利用者情報!$L:$Q,3,FALSE),\"\"),\"\")","v":""},null,null,{"$f":"IF($Q22=$F$8,IFERROR(VLOOKUP($O22,利用者情報!$L:$Q,4,FALSE),0),0)","v":0},null,null,{"$f":"IF($Q22=$F$8,IFERROR(VLOOKUP($O22,利用者情報!$L:$Q,5,FALSE),0),0)","v":0},null,{"$f":"IF($Q22=$F$8,IFERROR(VLOOKUP($O22,利用者情報!$L:$Q,6,FALSE),0),0)","v":0}]
[null,null,{"$f":"IF($Q13=$F$8,IFERROR(VLOOKUP($O13,利用者情報!$L:$Q,3,FALSE),\"\"),\"\")","v":""},null,null,{"$f":"IF($Q13=$F$8,IFERROR(VLOOKUP($O13,利用者情報!$L:$Q,4,FALSE),0),0)","v":0},null,null,{"$f":"IF($Q13=$F$8,IFERROR(VLOOKUP($O13,利用者情報!$L:$Q,5,FALSE),0),0)","v":0},null,{"$f":"IF($Q13=$F$8,IFERROR(VLOOKUP(O13,利用者情報!$L:$Q,6,FALSE),0),0)","v":0},null,null,null,3,{"$f":"IF($F$8=Q13,1,0)","v":1},{"$f":"IFERROR(VLOOKUP(O13,利用者情報!$L:$R,7,FALSE),\"\")","v":""},"",null,null,null,{"$f":"IF($Q23=$F$8,IFERROR(VLOOKUP($O23,利用者情報!$L:$Q,3,FALSE),\"\"),\"\")","v":""},null,null,{"$f":"IF($Q23=$F$8,IFERROR(VLOOKUP($O23,利用者情報!$L:$Q,4,FALSE),0),0)","v":0},null,null,{"$f":"IF($Q23=$F$8,IFERROR(VLOOKUP($O23,利用者情報!$L:$Q,5,FALSE),0),0)","v":0},null,{"$f":"IF($Q23=$F$8,IFERROR(VLOOKUP($O23,利用者情報!$L:$Q,6,FALSE),0),0)","v":0}]
[null,null,{"$f":"IF($Q14=$F$8,IFERROR(VLOOKUP($O14,利用者情報!$L:$Q,3,FALSE),\"\"),\"\")","v":""},null,null,{"$f":"IF($Q14=$F$8,IFERROR(VLOOKUP($O14,利用者情報!$L:$Q,4,FALSE),0),0)","v":0},null,null,{"$f":"IF($Q14=$F$8,IFERROR(VLOOKUP($O14,利用者情報!$L:$Q,5,FALSE),0),0)","v":0},null,{"$f":"IF($Q14=$F$8,IFERROR(VLOOKUP(O14,利用者情報!$L:$Q,6,FALSE),0),0)","v":0},null,null,null,4,1,{"$f":"IFERROR(VLOOKUP(O14,利用者情報!$L:$R,7,FALSE),\"\")","v":""},"",null,null,null,{"$f":"IF($Q24=$F$8,IFERROR(VLOOKUP($O24,利用者情報!$L:$Q,3,FALSE),\"\"),\"\")","v":""},null,null,{"$f":"IF($Q24=$F$8,IFERROR(VLOOKUP($O24,利用者情報!$L:$Q,4,FALSE),0),0)","v":0},null,null,{"$f":"IF($Q24=$F$8,IFERROR(VLOOKUP($O24,利用者情報!$L:$Q,5,FALSE),0),0)","v":0},null,{"$f":"IF($Q24=$F$8,IFERROR(VLOOKUP($O24,利用者情報!$L:$Q,6,FALSE),0),0)","v":0}]
[null,null,{"$f":"IF($Q15=$F$8,IFERROR(VLOOKUP($O15,利用者情報!$L:$Q,3,FALSE),\"\"),\"\")","v":""},null,null,{"$f":"IF($Q15=$F$8,IFERROR(VLOOKUP($O15,利用者情報!$L:$Q,4,FALSE),0),0)","v":0},null,null,{"$f":"IF($Q15=$F$8,IFERROR(VLOOKUP($O15,利用者情報!$L:$Q,5,FALSE),0),0)","v":0},null,{"$f":"IF($Q15=$F$8,IFERROR(VLOOKUP(O15,利用者情報!$L:$Q,6,FALSE),0),0)","v":0},null,null,null,5,1,{"$f":"IFERROR(VLOOKUP(O15,利用者情報!$L:$R,7,FALSE),\"\")","v":""},"",null,null,null,{"$f":"IF($Q25=$F$8,IFERROR(VLOOKUP($O25,利用者情報!$L:$Q,3,FALSE),\"\"),\"\")","v":""},null,null,{"$f":"IF($Q25=$F$8,IFERROR(VLOOKUP($O25,利用者情報!$L:$Q,4,FALSE),0),0)","v":0},null,null,{"$f":"IF($Q25=$F$8,IFERROR(VLOOKUP($O25,利用者情報!$L:$Q,5,FALSE),0),0)","v":0},null,{"$f":"IF($Q25=$F$8,IFERROR(VLOOKUP($O25,利用者情報!$L:$Q,6,FALSE),0),0)","v":0}]
[null,null,{"$f":"IF($Q16=$F$8,IFERROR(VLOOKUP($O16,利用者情報!$L:$Q,3,FALSE),\"\"),\"\")","v":""},null,null,{"$f":"IF($Q16=$F$8,IFERROR(VLOOKUP($O16,利用者情報!$L:$Q,4,FALSE),0),0)","v":0},null,null,{"$f":"IF($Q16=$F$8,IFERROR(VLOOKUP($O16,利用者情報!$L:$Q,5,FALSE),0),0)","v":0},null,{"$f":"IF($Q16=$F$8,IFERROR(VLOOKUP(O16,利用者情報!$L:$Q,6,FALSE),0),0)","v":0},null,null,null,6,1,{"$f":"IFERROR(VLOOKUP(O16,利用者情報!$L:$R,7,FALSE),\"\")","v":""},"",null,null,null,{"$f":"IF($Q26=$F$8,IFERROR(VLOOKUP($O26,利用者情報!$L:$Q,3,FALSE),\"\"),\"\")","v":""},null,null,{"$f":"IF($Q26=$F$8,IFERROR(VLOOKUP($O26,利用者情報!$L:$Q,4,FALSE),0),0)","v":0},null,null,{"$f":"IF($Q26=$F$8,IFERROR(VLOOKUP($O26,利用者情報!$L:$Q,5,FALSE),0),0)","v":0},null,{"$f":"IF($Q26=$F$8,IFERROR(VLOOKUP($O26,利用者情報!$L:$Q,6,FALSE),0),0)","v":0}]
[null,null,{"$f":"IF($Q17=$F$8,IFERROR(VLOOKUP($O17,利用者情報!$L:$Q,3,FALSE),\"\"),\"\")","v":""},null,null,{"$f":"IF($Q17=$F$8,IFERROR(VLOOKUP($O17,利用者情報!$L:$Q,4,FALSE),0),0)","v":0},null,null,{"$f":"IF($Q17=$F$8,IFERROR(VLOOKUP($O17,利用者情報!$L:$Q,5,FALSE),0),0)","v":0},null,{"$f":"IF($Q17=$F$8,IFERROR(VLOOKUP(O17,利用者情報!$L:$Q,6,FALSE),0),0)","v":0},null,null,null,7,1,{"$f":"IFERROR(VLOOKUP(O17,利用者情報!$L:$R,7,FALSE),\"\")","v":""},"",null,null,null,{"$f":"IF($Q27=$F$8,IFERROR(VLOOKUP($O27,利用者情報!$L:$Q,3,FALSE),\"\"),\"\")","v":""},null,null,{"$f":"IF($Q27=$F$8,IFERROR(VLOOKUP($O27,利用者情報!$L:$Q,4,FALSE),0),0)","v":0},null,null,{"$f":"IF($Q27=$F$8,IFERROR(VLOOKUP($O27,利用者情報!$L:$Q,5,FALSE),0),0)","v":0},null,{"$f":"IF($Q27=$F$8,IFERROR(VLOOKUP($O27,利用者情報!$L:$Q,6,FALSE),0),0)","v":0}]
[null,null,{"$f":"IF($Q18=$F$8,IFERROR(VLOOKUP($O18,利用者情報!$L:$Q,3,FALSE),\"\"),\"\")","v":""},null,null,{"$f":"IF($Q18=$F$8,IFERROR(VLOOKUP($O18,利用者情報!$L:$Q,4,FALSE),0),0)","v":0},null,null,{"$f":"IF($Q18=$F$8,IFERROR(VLOOKUP($O18,利用者情報!$L:$Q,5,FALSE),0),0)","v":0},null,{"$f":"IF($Q18=$F$8,IFERROR(VLOOKUP(O18,利用者情報!$L:$Q,6,FALSE),0),0)","v":0},null,null,null,8,1,{"$f":"IFERROR(VLOOKUP(O18,利用者情報!$L:$R,7,FALSE),\"\")","v":""},"",null,null,null,{"$f":"IF($Q28=$F$8,IFERROR(VLOOKUP($O28,利用者情報!$L:$Q,3,FALSE),\"\"),\"\")","v":""},null,null,{"$f":"IF($Q28=$F$8,IFERROR(VLOOKUP($O28,利用者情報!$L:$Q,4,FALSE),0),0)","v":0},null,null,{"$f":"IF($Q28=$F$8,IFERROR(VLOOKUP($O28,利用者情報!$L:$Q,5,FALSE),0),0)","v":0},null,{"$f":"IF($Q28=$F$8,IFERROR(VLOOKUP($O28,利用者情報!$L:$Q,6,FALSE),0),0)","v":0}]
[null,null,{"$f":"IF($Q19=$F$8,IFERROR(VLOOKUP($O19,利用者情報!$L:$Q,3,FALSE),\"\"),\"\")","v":""},null,null,{"$f":"IF($Q19=$F$8,IFERROR(VLOOKUP($O19,利用者情報!$L:$Q,4,FALSE),0),0)","v":0},null,null,{"$f":"IF($Q19=$F$8,IFERROR(VLOOKUP($O19,利用者情報!$L:$Q,5,FALSE),0),0)","v":0},null,{"$f":"IF($Q19=$F$8,IFERROR(VLOOKUP(O19,利用者情報!$L:$Q,6,FALSE),0),0)","v":0},null,null,null,9,1,{"$f":"IFERROR(VLOOKUP(O19,利用者情報!$L:$R,7,FALSE),\"\")","v":""},"",null,null,null,{"$f":"IF($Q29=$F$8,IFERROR(VLOOKUP($O29,利用者情報!$L:$Q,3,FALSE),\"\"),\"\")","v":""},null,null,{"$f":"IF($Q29=$F$8,IFERROR(VLOOKUP($O29,利用者情報!$L:$Q,4,FALSE),0),0)","v":0},null,null,{"$f":"IF($Q29=$F$8,IFERROR(VLOOKUP($O29,利用者情報!$L:$Q,5,FALSE),0),0)","v":0},null,{"$f":"IF($Q29=$F$8,IFERROR(VLOOKUP($O29,利用者情報!$L:$Q,6,FALSE),0),0)","v":0}]
[null,null,{"$f":"IF($Q20=$F$8,IFERROR(VLOOKUP($O20,利用者情報!$L:$Q,3,FALSE),\"\"),\"\")","v":""},null,null,{"$f":"IF($Q20=$F$8,IFERROR(VLOOKUP($O20,利用者情報!$L:$Q,4,FALSE),0),0)","v":0},null,null,{"$f":"IF($Q20=$F$8,IFERROR(VLOOKUP($O20,利用者情報!$L:$Q,5,FALSE),0),0)","v":0},null,{"$f":"IF($Q20=$F$8,IFERROR(VLOOKUP(O20,利用者情報!$L:$Q,6,FALSE),0),0)","v":0},null,null,null,10,1,{"$f":"IFERROR(VLOOKUP(O20,利用者情報!$L:$R,7,FALSE),\"\")","v":""},"",null,null,null,{"$f":"IF($Q30=$F$8,IFERROR(VLOOKUP($O30,利用者情報!$L:$Q,3,FALSE),\"\"),\"\")","v":""},null,null,{"$f":"IF($Q30=$F$8,IFERROR(VLOOKUP($O30,利用者情報!$L:$Q,4,FALSE),0),0)","v":0},null,null,{"$f":"IF($Q30=$F$8,IFERROR(VLOOKUP($O30,利用者情報!$L:$Q,5,FALSE),0),0)","v":0},null,{"$f":"IF($Q30=$F$8,IFERROR(VLOOKUP($O30,利用者情報!$L:$Q,6,FALSE),0),0)","v":0}]
[null,null,"合計",null,null,{"$f":"SUM(F11:H17)","v":0},null,null,{"$f":"SUM(I11:J17)","v":0},null,{"$f":"SUM(K11:L17)","v":0},null,null,null,11,1,{"$f":"IFERROR(VLOOKUP(O21,利用者情報!$L:$R,7,FALSE),\"\")","v":""},"",null,null,null,"合計",null,null,{"$f":"SUM(Y11:AA20)","v":0},null,null,{"$f":"SUM(AB11:AC20)","v":0},null,{"$f":"SUM(AD11:AE20)","v":0}]
[null,null,null,null,null,null,null,null,null,null,null,null,null,null,12,1,{"$f":"IFERROR(VLOOKUP(O22,利用者情報!$L:$R,7,FALSE),\"\")","v":""},""]
[null,"上記のとおり請求します。",null,null,null,null,null,null,null,null,null,null,null,null,13,1,{"$f":"IFERROR(VLOOKUP(O23,利用者情報!$L:$R,7,FALSE),\"\")","v":""},"",null,null,"上記のとおり請求します。"]
[null,"年　　　月　　　日",null,null,null,null,null,null,null,null,null,null,null,null,14,1,{"$f":"IFERROR(VLOOKUP(O24,利用者情報!$L:$R,7,FALSE),\"\")","v":""},"",null,null,"年　　　月　　　日"]
[null,null,null,null,null,null,null,null,null,null,null,null,null,null,15,1,{"$f":"IFERROR(VLOOKUP(O25,利用者情報!$L:$R,7,FALSE),\"\")","v":""},""]
[null,null,null,null,"事業所番号\n（登録番号）",null,{"$f":"請求事業者!B3","v":0},null,null,null,null,null,null,null,16,1,{"$f":"IFERROR(VLOOKUP(O26,利用者情報!$L:$R,7,FALSE),\"\")","v":""},"",null,null,null,null,null,"事業所番号\n（登録番号）",null,{"$f":"G26","v":0}]
[null,null,null,null,"請求事業者",null,"住　　　所",null,{"$f":"請求事業者!A4&請求事業者!B4","v":"〒"},null,null,null,null,null,17,1,{"$f":"IFERROR(VLOOKUP(O27,利用者情報!$L:$R,7,FALSE),\"\")","v":""},"",null,null,null,null,null,"請求事業者",null,"住　　　所",null,{"$f":"I27","v":"〒"}]
[null,null,null,null,null,null,null,null,{"$f":"請求事業者!B5","v":0},null,null,null,null,null,18,1,{"$f":"IFERROR(VLOOKUP(O28,利用者情報!$L:$R,7,FALSE),\"\")","v":""},"",null,null,null,null,null,null,null,null,null,{"$f":"I28","v":0}]
[null,null,null,null,null,null,"電話番号",null,{"$f":"請求事業者!B6","v":0},null,null,null,null,null,19,1,{"$f":"IFERROR(VLOOKUP(O29,利用者情報!$L:$R,7,FALSE),\"\")","v":""},"",null,null,null,null,null,null,null,"電話番号",null,{"$f":"I29","v":0}]
[null,null,null,null,null,null,"名称",null,{"$f":"請求事業者!B7","v":0},null,null,null,null,null,20,1,{"$f":"IFERROR(VLOOKUP(O30,利用者情報!$L:$R,7,FALSE),\"\")","v":""},null,null,null,null,null,null,null,null,"名称",null,{"$f":"I30","v":0}]
[null,null,null,null,null,null,"職氏名",null,{"$f":"請求事業者!B8","v":0},null,null,null,null,null,null,null,null,null,null,null,null,null,null,null,null,"職氏名",null,{"$f":"I31","v":0}]

{"sheet":"単価表","index":4,"n_rows":87,"n_cols":24,"rows_kept":87,"cut":false,"hidden":false,"merged":[[39,21,39,23],[40,0,40,1],[71,1,71,2],[39,3,39,5],[39,6,39,8],[39,9,39,11],[39,12,39,14],[39,15,39,17],[39,18,39,20],[37,15,37,17],[37,18,37,20],[37,21,37,23],[38,3,38,5],[38,6,38,8],[38,9,38,11],[38,12,38,14],[38,15,38,17],[38,18,38,20],[38,21,38,23],[4,15,4,17],[4,18,4,20],[4,21,4,23],[5,0,5,1],[37,0,39,1],[37,2,40,2],[37,3,37,5],[37,6,37,8],[37,9,37,11],[37,12,37,14],[2,0,4,1],[2,2,5,2],[4,3,4,5],[4,6,4,8],[4,9,4,11],[4,12,4,14],[2,15,2,17],[2,18,2,20],[2,21,2,23],[3,3,3,5],[3,6,3,8],[3,9,3,11],[3,12,3,14],[3,15,3,17],[3,18,3,20],[3,21,3,23],[2,3,2,5],[2,6,2,8],[2,9,2,11],[2,12,2,14]]}
["鎌ケ谷市移動支援事業単価表"]
[null,null,null,null,null,null,null,null,null,null,null,null,null,null,null,null,null,null,null,null,null,null,null,"単位：円"]
["【身体介護　あり】",null,"基本単位","その他",null,null,"１　級地",null,null,"２　級地",null,null,"３　級地",null,null,"４　級地",null,null,"５　級地",null,null,"６　級地"]
[null,null,null,{"$f":"$D$86","v":1},null,null,{"$f":"$D$74","v":1.1080000000000001},null,null,{"$f":"$D$76","v":1.0900000000000001},null,null,{"$f":"$D$78","v":1.0720000000000001},null,null,{"$f":"$D$80","v":1.06},null,null,{"$f":"$D$82","v":1.036},null,null,{"$f":"$D$84","v":1.018}]
[null,null,null,"１～６級地以外",null,null,"特別区",null,null,"成田市、印西市",null,null,"船橋市、浦安市\n袖ケ浦市",null,null,"千葉市、市川市\n松戸市、四街道市\n富津市、習志野市",null,null,"柏市、茂原市\n佐倉市、市原市\n白井市、我孫子市\n鎌ケ谷市、長柄町\n長南町、木更津市\n君津市",null,null,"野田市、東金市\n流山市、八街市\n酒々井町、栄町\n大網白里市、山武市\n富里市"]
["利用時間",null,null,"基準","９割","１割","基準","９割","１割","基準","９割","１割","基準","９割","１割","基準","９割","１割","基準","９割","１割","基準","９割","１割"]
[null,"30分未満",254,{"$f":"ROUNDDOWN($C7*10*D$4,0)","v":2540},{"$f":"D7-F7","v":2286},{"$f":"ROUNDDOWN(D7*0.1,0)","v":254},{"$f":"ROUNDDOWN($C7*10*G$4,0)","v":2814},{"$f":"G7-I7","v":2533},{"$f":"ROUNDDOWN(G7*0.1,0)","v":281},{"$f":"ROUNDDOWN($C7*10*J$4,0)","v":2768},{"$f":"J7-L7","v":2492},{"$f":"ROUNDDOWN(J7*0.1,0)","v":276},{"$f":"ROUNDDOWN($C7*10*M$4,0)","v":2722},{"$f":"M7-O7","v":2450},{"$f":"ROUNDDOWN(M7*0.1,0)","v":272},{"$f":"ROUNDDOWN($C7*10*P$4,0)","v":2692},{"$f":"P7-R7","v":2423},{"$f":"ROUNDDOWN(P7*0.1,0)","v":269},{"$f":"ROUNDDOWN($C7*10*S$4,0)","v":2631},{"$f":"S7-U7","v":2368},{"$f":"ROUNDDOWN(S7*0.1,0)","v":263},{"$f":"ROUNDDOWN($C7*10*V$4,0)","v":2585},{"$f":"V7-X7","v":2327},{"$f":"ROUNDDOWN(V7*0.1,0)","v":258}]
["30分以上","1時間未満",402,{"$f":"ROUNDDOWN($C8*10*D$4,0)","v":4020},{"$f":"D8-F8","v":3618},{"$f":"ROUNDDOWN(D8*0.1,0)","v":402},{"$f":"ROUNDDOWN($C8*10*G$4,0)","v":4454},{"$f":"G8-I8","v":4009},{"$f":"ROUNDDOWN(G8*0.1,0)","v":445},{"$f":"ROUNDDOWN($C8*10*J$4,0)","v":4381},{"$f":"J8-L8","v":3943},{"$f":"ROUNDDOWN(J8*0.1,0)","v":438},{"$f":"ROUNDDOWN($C8*10*M$4,0)","v":4309},{"$f":"M8-O8","v":3879},{"$f":"ROUNDDOWN(M8*0.1,0)","v":430},{"$f":"ROUNDDOWN($C8*10*P$4,0)","v":4261},{"$f":"P8-R8","v":3835},{"$f":"ROUNDDOWN(P8*0.1,0)","v":426},{"$f":"ROUNDDOWN($C8*10*S$4,0)","v":4164},{"$f":"S8-U8","v":3748},{"$f":"ROUNDDOWN(S8*0.1,0)","v":416},{"$f":"ROUNDDOWN($C8*10*V$4,0)","v":4092},{"$f":"V8-X8","v":3683},{"$f":"ROUNDDOWN(V8*0.1,0)","v":409}]
["1時間以上","1時間30分未満",584,5840,5256,584,6470,{"$f":"G9-I9","v":5823},647,6365,5729,636,6260,5634,626,6190,5571,619,6050,5445,605,5945,5351,594]
["1時間30分以上","2時間未満",{"$f":"C9+83","v":667},6670,6003,667,7390,6651,739,7270,6543,727,7150,6435,715,7070,6363,707,6910,6219,691,6790,6111,679]
["2時間以上","2時間30分未満",{"$f":"C10+83","v":750},7500,6750,750,8310,7479,831,8175,7358,817,8040,7236,804,7950,7155,795,7770,6993,777,7635,6872,763]
["2時間30分以上","3時間未満",{"$f":"C11+83","v":833},8330,7497,833,9229,8307,922,9079,8172,907,8929,8037,892,8829,7947,882,8629,7767,862,8479,7632,847]
["3時間以上","3時間30分未満",{"$f":"C12+83","v":916},9160,8244,916,10149,9135,1014,9984,8986,998,9819,8838,981,9709,8739,970,9489,8541,948,9324,8392,932]
["3時間30分以上","4時間未満",{"$f":"C13+83","v":999},9990,8991,999,11068,9962,1106,10889,9801,1088,10709,9639,1070,10589,9531,1058,10349,9315,1034,10169,9153,1016]
["4時間以上","4時間30分未満",{"$f":"C14+83","v":1082},10820,9738,1082,11988,10790,1198,11793,10614,1179,11599,10440,1159,11469,10323,1146,11209,10089,1120,11014,9913,1101]
["4時間30分以上","5時間未満",1165,11650,10485,1165,12908,11618,1290,12698,11429,1269,12488,11240,1248,12349,11115,1234,12069,10863,1206,11859,10674,1185]
["5時間以上","5時間30分未満",1248,12480,11232,1248,13827,12445,1382,13603,12243,1360,13378,12041,1337,13228,11906,1322,12929,11637,1292,12704,11434,1270]
["5時間30分以上","6時間未満",1331,{"$f":"ROUNDDOWN($C18*10*D$4,0)","v":13310},11979,{"$f":"ROUNDDOWN(D18*0.1,0)","v":1331},14747,13273,1474,14507,13057,1450,14268,12842,1426,14108,12698,1410,13789,12411,1378,13549,12195,1354]
["6時間以上","6時間30分未満",1414,14140,12726,1414,15667,14101,1566,15412,13871,1541,15158,13643,1515,14988,13490,1498,14649,13185,1464,14394,12955,1439]
["6時間30分以上","7時間未満",1497,14970,13473,1497,16586,14928,1658,16317,14686,1631,16047,14443,1604,15868,14282,1586,15508,13958,1550,15239,13716,1523]
["7時間以上","7時間30分未満",1580,15800,14220,1580,17506,15756,1750,17222,15500,1722,16937,15244,1693,16748,15074,1674,16368,14732,1636,16084,14476,1608]
["7時間30分以上","8時間未満",1663,16630,14967,1663,18426,16584,1842,18126,16314,1812,17827,16045,1782,17627,15865,1762,17228,15506,1722,16929,15237,1692]
["8時間以上","8時間30分未満",1746,17460,15714,1746,19345,17411,1934,19031,17128,1903,{"$f":"ROUNDDOWN($C23*10*M$4,0)","v":18717},16846,1871,18507,16657,1850,18088,16280,1808,17774,15997,1777]
["8時間30分以上","9時間未満",1829,18290,16461,1829,20265,18239,2026,19936,17943,1993,19606,17646,1960,19387,17449,1938,18948,17054,1894,18619,16758,1861]
["9時間以上","9時間30分未満",1912,{"$f":"ROUNDDOWN($C25*10*D$4,0)","v":19120},17208,1912,21184,19066,2118,20840,18756,2084,20496,18447,2049,20267,18241,2026,19808,17828,1980,19464,17518,1946]
["9時間30分以上","10時間未満",1995,19950,17955,1995,22104,19894,2210,21745,19571,2174,21386,19248,2138,21147,19033,2114,20668,18602,2066,20309,18279,2030]
["10時間以上","10時間30分未満",{"$f":"C26+83","v":2078},20780,18702,2078,{"$f":"ROUNDDOWN($C27*10*G$4,0)","v":23024},20722,2302,{"$f":"ROUNDDOWN($C27*10*J$4,0)","v":22650},20385,2265,22276,20049,2227,{"$f":"ROUNDDOWN($C27*10*P$4,0)","v":22026},19824,2202,21528,19376,2152,21154,19039,2115]
["10時間30分以上","11時間未満",{"$f":"C27+83","v":2161},{"$f":"ROUNDDOWN($C28*10*D$4,0)","v":21610},19449,2161,23943,21549,2394,23554,21199,2355,23165,20849,2316,22906,20616,2290,22387,20149,2238,21998,19799,2199]
["11時間以上","11時間30分未満",2244,{"$f":"ROUNDDOWN($C29*10*D$4,0)","v":22440},20196,2244,24863,22377,2486,24459,22014,2445,24055,21650,2405,23786,21408,2378,23247,20923,2324,22843,20559,2284]
["11時間30分以上","12時間未満",2327,23270,20943,2327,25783,23205,2578,25364,22828,2536,24945,22451,2494,24666,22200,2466,24107,21697,2410,23688,21320,2368]
["12時間以上","12時間30分未満",2410,24100,21690,2410,{"$f":"ROUNDDOWN($C31*10*G$4,0)","v":26702},24032,2670,{"$f":"ROUNDDOWN($C31*10*J$4,0)","v":26269},23643,2626,25835,23252,2583,{"$f":"ROUNDDOWN($C31*10*P$4,0)","v":25546},22992,2554,24967,22471,2496,24533,22080,2453]
["12時間30分以上","13時間未満",2493,24930,22437,2493,27622,24860,2762,27173,24456,2717,26724,24052,2672,26425,23783,2642,25827,23245,2582,25378,22841,2537]
["13時間以上","13時間30分未満",2576,25760,23184,2576,{"$f":"ROUNDDOWN($C33*10*G$4,0)","v":28542},25688,2854,{"$f":"ROUNDDOWN($C33*10*J$4,0)","v":28078},25271,2807,27614,24853,2761,{"$f":"ROUNDDOWN($C33*10*P$4,0)","v":27305},24575,2730,26687,24019,2668,26223,23601,2622]
["13時間30分以上","14時間未満",2659,{"$f":"ROUNDDOWN($C34*10*D$4,0)","v":26590},{"$f":"D34-F34","v":23931},{"$f":"ROUNDDOWN(D34*0.1,0)","v":2659},{"$f":"ROUNDDOWN($C34*10*G$4,0)","v":29461},{"$f":"G34-I34","v":26515},{"$f":"ROUNDDOWN(G34*0.1,0)","v":2946},{"$f":"ROUNDDOWN($C34*10*J$4,0)","v":28983},{"$f":"J34-L34","v":26085},{"$f":"ROUNDDOWN(J34*0.1,0)","v":2898},28504,{"$f":"M34-O34","v":25654},{"$f":"ROUNDDOWN(M34*0.1,0)","v":2850},{"$f":"ROUNDDOWN($C34*10*P$4,0)","v":28185},{"$f":"P34-R34","v":25367},{"$f":"ROUNDDOWN(P34*0.1,0)","v":2818},27547,{"$f":"S34-U34","v":24793},{"$f":"ROUNDDOWN(S34*0.1,0)","v":2754},27068,{"$f":"V34-X34","v":24362},{"$f":"ROUNDDOWN(V34*0.1,0)","v":2706}]
[]
["平成２７年度　鎌ケ谷市移動支援事業単価表 ()"]
[null,null,null,null,null,null,null,null,null,null,null,null,null,null,null,null,null,null,null,null,null,null,null,"単位：円"]
["【身体介護　なし】",null,"基本単位","その他",null,null,"１　級地",null,null,"２　級地",null,null,"３　級地",null,null,"４　級地",null,null,"５　級地",null,null,"６　級地"]
[null,null,null,{"$f":"$D$86","v":1},null,null,{"$f":"$D$74","v":1.1080000000000001},null,null,{"$f":"$D$76","v":1.0900000000000001},null,null,{"$f":"$D$78","v":1.0720000000000001},null,null,{"$f":"$D$80","v":1.06},null,null,{"$f":"$D$82","v":1.036},null,null,{"$f":"$D$84","v":1.018}]
[null,null,null,"１～６級地以外",null,null,"特別区",null,null,"成田市、印西市",null,null,"船橋市、浦安市\n袖ケ浦市",null,null,"千葉市、市川市\n松戸市、四街道市\n富津市、習志野市",null,null,"柏市、茂原市\n佐倉市、市原市\n白井市、我孫子市\n鎌ケ谷市、長柄町\n長南町、木更津市\n君津市",null,null,"野田市、東金市\n流山市、八街市\n酒々井町、栄町\n大網白里市、山武市\n富里市"]
["利用時間",null,null,"基準","９割","１割","基準","９割","１割","基準","９割","１割","基準","９割","１割","基準","９割","１割","基準","９割","１割","基準","９割","１割"]
[null,"30分未満",105,{"$f":"ROUNDDOWN($C42*10*D$39,0)","v":1050},{"$f":"D42-F42","v":945},{"$f":"ROUNDDOWN(D42*0.1,0)","v":105},{"$f":"ROUNDDOWN($C42*10*G$39,0)","v":1163},{"$f":"G42-I42","v":1047},{"$f":"ROUNDDOWN(G42*0.1,0)","v":116},{"$f":"ROUNDDOWN($C42*10*J$39,0)","v":1144},{"$f":"J42-L42","v":1030},{"$f":"ROUNDDOWN(J42*0.1,0)","v":114},{"$f":"ROUNDDOWN($C42*10*M$39,0)","v":1125},{"$f":"M42-O42","v":1013},{"$f":"ROUNDDOWN(M42*0.1,0)","v":112},{"$f":"ROUNDDOWN($C42*10*P$39,0)","v":1113},{"$f":"P42-R42","v":1002},{"$f":"ROUNDDOWN(P42*0.1,0)","v":111},{"$f":"ROUNDDOWN($C42*10*S$39,0)","v":1087},{"$f":"S42-U42","v":979},{"$f":"ROUNDDOWN(S42*0.1,0)","v":108},{"$f":"ROUNDDOWN($C42*10*V$39,0)","v":1068},{"$f":"V42-X42","v":962},{"$f":"ROUNDDOWN(V42*0.1,0)","v":106}]
["30分以上","1時間未満",197,{"$f":"ROUNDDOWN($C43*10*D$39,0)","v":1970},{"$f":"D43-F43","v":1773},{"$f":"ROUNDDOWN(D43*0.1,0)","v":197},{"$f":"ROUNDDOWN($C43*10*G$39,0)","v":2182},{"$f":"G43-I43","v":1964},{"$f":"ROUNDDOWN(G43*0.1,0)","v":218},{"$f":"ROUNDDOWN($C43*10*J$39,0)","v":2147},{"$f":"J43-L43","v":1933},{"$f":"ROUNDDOWN(J43*0.1,0)","v":214},{"$f":"ROUNDDOWN($C43*10*M$39,0)","v":2111},{"$f":"M43-O43","v":1900},{"$f":"ROUNDDOWN(M43*0.1,0)","v":211},{"$f":"ROUNDDOWN($C43*10*P$39,0)","v":2088},{"$f":"P43-R43","v":1880},{"$f":"ROUNDDOWN(P43*0.1,0)","v":208},{"$f":"ROUNDDOWN($C43*10*S$39,0)","v":2040},{"$f":"S43-U43","v":1836},{"$f":"ROUNDDOWN(S43*0.1,0)","v":204},2005,1805,200]
["1時間以上","1時間30分未満",276,2760,2484,276,3058,2753,305,3008,2708,300,2958,2663,295,2925,2633,292,2859,2574,285,2809,2529,280]
["1時間30分以上","2時間未満",{"$f":"C44+70","v":346},3460,3114,346,3833,3450,383,3771,3394,377,3709,3339,370,3667,3301,366,3584,3226,358,3522,3170,352]
["2時間以上","2時間30分未満",{"$f":"C45+70","v":416},4160,3744,416,4609,4149,460,4534,4081,453,4459,4014,445,4409,3969,440,4309,3879,430,4234,3811,423]
["2時間30分以上","3時間未満",{"$f":"C46+70","v":486},4860,4374,486,5384,4846,538,5297,4768,529,5209,4689,520,5151,4636,515,5034,4531,503,4947,4453,494]
["3時間以上","3時間30分未満",556,5560,5004,556,6160,5544,616,6060,5454,606,5960,5364,596,5893,5304,589,5760,5184,576,5660,5094,566]
["3時間30分以上","4時間未満",626,{"$f":"ROUNDDOWN($C49*10*D$39,0)","v":6260},5634,626,6936,6243,693,{"$f":"ROUNDDOWN($C49*10*J$39,0)","v":6823},6141,682,{"$f":"ROUNDDOWN($C49*10*M$39,0)","v":6710},6039,671,{"$f":"ROUNDDOWN($C49*10*P$39,0)","v":6635},5972,663,{"$f":"ROUNDDOWN($C49*10*S$39,0)","v":6485},5837,648,6372,5735,637]
["4時間以上","4時間30分未満",696,6960,6264,696,7711,6940,771,7586,6828,758,7461,6715,746,7377,6640,737,7210,6489,721,7085,6377,708]
["4時間30分以上","5時間未満",766,7660,6894,766,8487,7639,848,8349,7515,834,8211,7390,821,8119,7308,811,7935,7142,793,7797,7018,779]
["5時間以上","5時間30分未満",836,8360,7524,836,9262,8336,926,9112,8201,911,8961,8065,896,8861,7975,886,8660,7794,866,8510,7659,851]
["5時間30分以上","6時間未満",906,9060,8154,906,10038,9035,1003,9875,8888,987,9712,8741,971,9603,8643,960,9386,8448,938,9223,8301,922]
["6時間以上","6時間30分未満",976,9760,8784,976,10814,9733,1081,10638,9575,1063,10462,9416,1046,10345,9311,1034,10111,9100,1011,9935,8942,993]
["6時間30分以上","7時間未満",1046,10460,9414,1046,11589,10431,1158,11401,10261,1140,11213,10092,1121,11087,9979,1108,10836,9753,1083,10648,9584,1064]
["7時間以上","7時間30分未満",1116,11160,10044,1116,12365,11129,1236,12164,10948,1216,11963,10767,1196,11829,10647,1182,11561,10405,1156,11360,10224,1136]
["7時間30分以上","8時間未満",1186,11860,10674,1186,13140,11826,1314,12927,11635,1292,12713,11442,1271,12571,11314,1257,12286,11058,1228,12073,10866,1207]
["8時間以上","8時間30分未満",1256,12560,11304,1256,13916,12525,1391,13690,12321,1369,13464,12118,1346,13313,11982,1331,13012,11711,1301,12786,11508,1278]
["8時間30分以上","9時間未満",{"$f":"C58+70","v":1326},13260,11934,1326,14692,13223,1469,14453,13008,1445,14214,12793,1421,14055,12650,1405,13737,12364,1373,13498,12149,1349]
["9時間以上","9時間30分未満",1396,13960,12564,1396,15467,13921,1546,15216,13695,1521,14965,13469,1496,14797,13318,1479,14462,13016,1446,14211,12790,1421]
["9時間30分以上","10時間未満",1466,14660,13194,1466,16243,14619,1624,15979,14382,1597,15715,14144,1571,15539,13986,1553,15187,13669,1518,14923,13431,1492]
["10時間以上","10時間30分未満",1536,15360,13824,1536,17018,15317,1701,16742,15068,1674,16465,14819,1646,16281,14653,1628,15912,14321,1591,15636,14073,1563]
["10時間30分以上","11時間未満",1606,{"$f":"ROUNDDOWN($C63*10*D$4,0)","v":16060},14454,1606,{"$f":"ROUNDDOWN($C63*10*G$4,0)","v":17794},16015,1779,{"$f":"ROUNDDOWN($C63*10*J$4,0)","v":17505},15755,1750,{"$f":"ROUNDDOWN($C63*10*M$4,0)","v":17216},15495,1721,{"$f":"ROUNDDOWN($C63*10*P$4,0)","v":17023},15321,1702,{"$f":"ROUNDDOWN($C63*10*S$4,0)","v":16638},14975,1663,{"$f":"ROUNDDOWN($C63*10*V$4,0)","v":16349},14715,1634]
["11時間以上","11時間30分未満",1676,16760,15084,1676,18570,16713,1857,18268,16442,1826,17966,16170,1796,17765,15989,1776,17363,15627,1736,17061,15355,1706]
["11時間30分以上","12時間未満",1746,17460,15714,1746,19345,17411,1934,19031,17128,1903,18717,16846,1871,18507,16657,1850,18088,16280,1808,17774,15997,1777]
["12時間以上","12時間30分未満",1816,18160,16344,1816,20121,18109,2012,19794,17815,1979,19467,17521,1946,19249,17325,1924,18813,16932,1881,18486,16638,1848]
["12時間30分以上","13時間未満",1886,18860,16974,1886,20896,18807,2089,20557,18502,2055,20217,18196,2021,19991,17992,1999,19538,17585,1953,19199,17280,1919]
["13時間以上","13時間30分未満",1956,19560,17604,{"$f":"ROUNDDOWN(D68*0.1,0)","v":1956},21672,19505,2167,21320,19188,2132,20968,18872,2096,20733,18660,2073,20264,18238,2026,19912,17921,1991]
["13時間30分以上","14時間未満",2026,20260,{"$f":"D69-F69","v":18234},{"$f":"ROUNDDOWN(D69*0.1,0)","v":2026},22448,{"$f":"G69-I69","v":20204},{"$f":"ROUNDDOWN(G69*0.1,0)","v":2244},22083,{"$f":"J69-L69","v":19875},{"$f":"ROUNDDOWN(J69*0.1,0)","v":2208},21718,{"$f":"M69-O69","v":19547},{"$f":"ROUNDDOWN(M69*0.1,0)","v":2171},21475,{"$f":"P69-R69","v":19328},{"$f":"ROUNDDOWN(P69*0.1,0)","v":2147},20989,{"$f":"S69-U69","v":18891},{"$f":"ROUNDDOWN(S69*0.1,0)","v":2098},20624,{"$f":"V69-X69","v":18562},{"$f":"ROUNDDOWN(V69*0.1,0)","v":2062}]
[]
[]
["級地","地域区分率"]
["級地該当千葉県内市町村名、特別区"]
["1　級地","1108/1000　＝",1.0900000000000001,1.1080000000000001]
["特別区"]
["２　級地","1090/1000　＝",1.0900000000000001,1.0900000000000001]
["　　　成田市、印西市"]
["３　級地","1072/1000＝",1.0720000000000001,1.0720000000000001]
["　　　船橋市、浦安市、袖ヶ浦市"]
["４　級地","1060/1000＝",1.06,1.06]
["　　　千葉市、市川市、松戸市、四街道市、富津市、習志野市"]
["５級地","1036/1000＝",1.036,1.036]
["　　　柏市、茂原市、佐倉市、市原市、白井市、我孫子市、鎌ケ谷市、長柄町、長南町、木更津市、君津市"]
["６　級地","1018/1000＝",1.018,1.018]
["　　　野田市、東金市、流山市、八街市、酒々井町、栄町、大網白里市、山武市、富里市"]
["その他","1000/1000　＝",1,1]
["　　　１～６級地外"]

{"sheet":"データ ","index":5,"n_rows":58,"n_cols":28,"rows_kept":58,"cut":false,"hidden":true,"merged":[[0,5,0,6]]}
[null,null,null,null,null,"区分"]
[null,"特別区",1,null,null,1,"Ａ",null,null,null,"以上","未満",null,null,"その他","その他（9割）",1,{"$f":"Q2&\"（9割）\"","v":"1（9割）"},2,{"$f":"S2&\"（9割）\"","v":"2（9割）"},3,{"$f":"U2&\"（9割）\"","v":"3（9割）"},4,{"$f":"W2&\"（9割）\"","v":"4（9割）"},5,{"$f":"Y2&\"（9割）\"","v":"5（9割）"},6,{"$f":"AA2&\"（9割）\"","v":"6（9割）"}]
[null,"成田市",2,null,null,2,"Ａ",null,null,null,null,"00:30:00","30分未満","30分未満/有",2540,{"$f":"O3-ROUNDDOWN(O3*0.1,0)","v":2286},2814,{"$f":"Q3-ROUNDDOWN(Q3*0.1,0)","v":2533},2768,{"$f":"S3-ROUNDDOWN(S3*0.1,0)","v":2492},2722,{"$f":"U3-ROUNDDOWN(U3*0.1,0)","v":2450},2692,{"$f":"W3-ROUNDDOWN(W3*0.1,0)","v":2423},2631,{"$f":"Y3-ROUNDDOWN(Y3*0.1,0)","v":2368},2585,{"$f":"AA3-ROUNDDOWN(AA3*0.1,0)","v":2327}]
[null,"印西市",2,null,null,3,"Ｂ",null,null,null,"00:30:00","01:00:00","30分以上1時間未満","30分以上1時間未満/有",4020,{"$f":"O4-ROUNDDOWN(O4*0.1,0)","v":3618},4454,4009,4381,{"$f":"S4-ROUNDDOWN(S4*0.1,0)","v":3943},4309,{"$f":"U4-ROUNDDOWN(U4*0.1,0)","v":3879},4261,{"$f":"W4-ROUNDDOWN(W4*0.1,0)","v":3835},4164,{"$f":"Y4-ROUNDDOWN(Y4*0.1,0)","v":3748},4092,{"$f":"AA4-ROUNDDOWN(AA4*0.1,0)","v":3683}]
[null,"船橋市",3,null,null,4,"Ｂ",null,null,null,"01:00:00","01:30:00","1時間以上1時間30分未満","1時間以上1時間30分未満/有",5840,5256,6470,5823,6365,{"$f":"S5-ROUNDDOWN(S5*0.1,0)","v":5729},6260,{"$f":"U5-ROUNDDOWN(U5*0.1,0)","v":5634},6190,{"$f":"W5-ROUNDDOWN(W5*0.1,0)","v":5571},6050,{"$f":"Y5-ROUNDDOWN(Y5*0.1,0)","v":5445},5945,{"$f":"AA5-ROUNDDOWN(AA5*0.1,0)","v":5351}]
[null,"浦安市",3,null,null,5,"Ｃ",null,null,null,"01:30:00","02:00:00","1時間30分以上2時間未満","1時間30分以上2時間未満/有",6670,6003,7390,6651,7270,{"$f":"S6-ROUNDDOWN(S6*0.1,0)","v":6543},7150,{"$f":"U6-ROUNDDOWN(U6*0.1,0)","v":6435},7070,{"$f":"W6-ROUNDDOWN(W6*0.1,0)","v":6363},6910,{"$f":"Y6-ROUNDDOWN(Y6*0.1,0)","v":6219},6790,{"$f":"AA6-ROUNDDOWN(AA6*0.1,0)","v":6111}]
[null,"袖ケ浦市",3,null,null,6,"Ｃ",null,null,null,"02:00:00","02:30:00","2時間以上2時間30分未満","2時間以上2時間30分未満/有",7500,6750,8310,7479,8175,{"$f":"S7-ROUNDDOWN(S7*0.1,0)","v":7358},8040,{"$f":"U7-ROUNDDOWN(U7*0.1,0)","v":7236},7950,{"$f":"W7-ROUNDDOWN(W7*0.1,0)","v":7155},7770,{"$f":"Y7-ROUNDDOWN(Y7*0.1,0)","v":6993},7635,{"$f":"AA7-ROUNDDOWN(AA7*0.1,0)","v":6872}]
[null,"千葉市",4,null,null,"児1","Ａ",null,null,null,"02:30:00","03:00:00","2時間30分以上3時間未満","2時間30分以上3時間未満/有",8330,7497,9229,8307,9079,{"$f":"S8-ROUNDDOWN(S8*0.1,0)","v":8172},8929,{"$f":"U8-ROUNDDOWN(U8*0.1,0)","v":8037},8829,{"$f":"W8-ROUNDDOWN(W8*0.1,0)","v":7947},8629,{"$f":"Y8-ROUNDDOWN(Y8*0.1,0)","v":7767},8479,{"$f":"AA8-ROUNDDOWN(AA8*0.1,0)","v":7632}]
[null,"市川市",4,null,null,"児2","Ｂ",null,null,null,"03:00:00","03:30:00","3時間以上3時間30分未満","3時間以上3時間30分未満/有",9160,8244,10149,9135,9984,{"$f":"S9-ROUNDDOWN(S9*0.1,0)","v":8986},9819,{"$f":"U9-ROUNDDOWN(U9*0.1,0)","v":8838},9709,{"$f":"W9-ROUNDDOWN(W9*0.1,0)","v":8739},9489,{"$f":"Y9-ROUNDDOWN(Y9*0.1,0)","v":8541},9324,{"$f":"AA9-ROUNDDOWN(AA9*0.1,0)","v":8392}]
[null,"松戸市",4,null,null,"児3","Ｃ",null,null,null,"03:30:00","04:00:00","3時間30分以上4時間未満","3時間30分以上4時間未満/有",9990,8991,11068,9962,10889,{"$f":"S10-ROUNDDOWN(S10*0.1,0)","v":9801},10709,{"$f":"U10-ROUNDDOWN(U10*0.1,0)","v":9639},10589,{"$f":"W10-ROUNDDOWN(W10*0.1,0)","v":9531},10349,{"$f":"Y10-ROUNDDOWN(Y10*0.1,0)","v":9315},10169,{"$f":"AA10-ROUNDDOWN(AA10*0.1,0)","v":9153}]
[null,"四街道市",4,null,null,null,null,null,null,null,"04:00:00","04:30:00","4時間以上4時間30分未満","4時間以上4時間30分未満/有",10820,9738,11988,10790,11793,{"$f":"S11-ROUNDDOWN(S11*0.1,0)","v":10614},11599,{"$f":"U11-ROUNDDOWN(U11*0.1,0)","v":10440},11469,{"$f":"W11-ROUNDDOWN(W11*0.1,0)","v":10323},11209,{"$f":"Y11-ROUNDDOWN(Y11*0.1,0)","v":10089},11014,{"$f":"AA11-ROUNDDOWN(AA11*0.1,0)","v":9913}]
[null,"富津市",4,null,null,null,null,null,null,null,"04:30:00","05:00:00","4時間30分以上5時間未満","4時間30分以上5時間未満/有",11650,10485,12908,11618,12698,{"$f":"S12-ROUNDDOWN(S12*0.1,0)","v":11429},12488,{"$f":"U12-ROUNDDOWN(U12*0.1,0)","v":11240},12349,{"$f":"W12-ROUNDDOWN(W12*0.1,0)","v":11115},12069,{"$f":"Y12-ROUNDDOWN(Y12*0.1,0)","v":10863},11859,{"$f":"AA12-ROUNDDOWN(AA12*0.1,0)","v":10674}]
[null,"習志野市",4,null,"有",null,null,null,null,null,"05:00:00","05:30:00","5時間以上5時間30分未満","5時間以上5時間30分未満/有",12480,11232,13827,12445,13603,{"$f":"S13-ROUNDDOWN(S13*0.1,0)","v":12243},13378,{"$f":"U13-ROUNDDOWN(U13*0.1,0)","v":12041},13228,{"$f":"W13-ROUNDDOWN(W13*0.1,0)","v":11906},12929,{"$f":"Y13-ROUNDDOWN(Y13*0.1,0)","v":11637},12704,{"$f":"AA13-ROUNDDOWN(AA13*0.1,0)","v":11434}]
[null,"柏市",5,null,"無",null,null,null,null,null,"05:30:00","06:00:00","5時間30分以上6時間未満","5時間30分以上6時間未満/有",13310,11979,14747,13273,14507,{"$f":"S14-ROUNDDOWN(S14*0.1,0)","v":13057},14268,{"$f":"U14-ROUNDDOWN(U14*0.1,0)","v":12842},14108,{"$f":"W14-ROUNDDOWN(W14*0.1,0)","v":12698},13789,{"$f":"Y14-ROUNDDOWN(Y14*0.1,0)","v":12411},13549,{"$f":"AA14-ROUNDDOWN(AA14*0.1,0)","v":12195}]
[null,"茂原市",5,null,null,null,null,null,null,null,"06:00:00","06:30:00","6時間以上6時間30分未満","6時間以上6時間30分未満/有",14140,12726,15667,14101,15412,{"$f":"S15-ROUNDDOWN(S15*0.1,0)","v":13871},15158,{"$f":"U15-ROUNDDOWN(U15*0.1,0)","v":13643},14988,{"$f":"W15-ROUNDDOWN(W15*0.1,0)","v":13490},14649,{"$f":"Y15-ROUNDDOWN(Y15*0.1,0)","v":13185},14394,{"$f":"AA15-ROUNDDOWN(AA15*0.1,0)","v":12955}]
[null,"佐倉市",5,null,null,null,null,null,null,null,"06:30:00","07:00:00","6時間30分以上7時間未満","6時間30分以上7時間未満/有",14970,13473,16586,14928,16317,{"$f":"S16-ROUNDDOWN(S16*0.1,0)","v":14686},16047,{"$f":"U16-ROUNDDOWN(U16*0.1,0)","v":14443},15868,{"$f":"W16-ROUNDDOWN(W16*0.1,0)","v":14282},15508,{"$f":"Y16-ROUNDDOWN(Y16*0.1,0)","v":13958},15239,{"$f":"AA16-ROUNDDOWN(AA16*0.1,0)","v":13716}]
[null,"市原市",5,null,null,null,null,null,null,null,"07:00:00","07:30:00","7時間以上7時間30分未満","7時間以上7時間30分未満/有",15800,14220,17506,15756,17222,{"$f":"S17-ROUNDDOWN(S17*0.1,0)","v":15500},16937,{"$f":"U17-ROUNDDOWN(U17*0.1,0)","v":15244},16748,{"$f":"W17-ROUNDDOWN(W17*0.1,0)","v":15074},16368,{"$f":"Y17-ROUNDDOWN(Y17*0.1,0)","v":14732},16084,{"$f":"AA17-ROUNDDOWN(AA17*0.1,0)","v":14476}]
[null,"白井市",5,null,null,null,null,null,null,null,"07:30:00","08:00:00","7時間30分以上8時間未満","7時間30分以上8時間未満/有",16630,14967,18426,16584,18126,{"$f":"S18-ROUNDDOWN(S18*0.1,0)","v":16314},17827,{"$f":"U18-ROUNDDOWN(U18*0.1,0)","v":16045},17627,{"$f":"W18-ROUNDDOWN(W18*0.1,0)","v":15865},17228,{"$f":"Y18-ROUNDDOWN(Y18*0.1,0)","v":15506},16929,{"$f":"AA18-ROUNDDOWN(AA18*0.1,0)","v":15237}]
[null,"我孫子市",5,null,null,null,null,null,null,null,"08:00:00","08:30:00","8時間以上8時間30分未満","8時間以上8時間30分未満/有",17460,15714,19345,17411,19031,{"$f":"S19-ROUNDDOWN(S19*0.1,0)","v":17128},18717,{"$f":"U19-ROUNDDOWN(U19*0.1,0)","v":16846},18507,{"$f":"W19-ROUNDDOWN(W19*0.1,0)","v":16657},18088,{"$f":"Y19-ROUNDDOWN(Y19*0.1,0)","v":16280},17774,{"$f":"AA19-ROUNDDOWN(AA19*0.1,0)","v":15997}]
[null,"鎌ケ谷市",5,null,null,null,null,null,null,null,"08:30:00","09:00:00","8時間30分以上9時間未満","8時間30分以上9時間未満/有",18290,16461,20265,18239,19936,{"$f":"S20-ROUNDDOWN(S20*0.1,0)","v":17943},19606,{"$f":"U20-ROUNDDOWN(U20*0.1,0)","v":17646},19387,{"$f":"W20-ROUNDDOWN(W20*0.1,0)","v":17449},18948,{"$f":"Y20-ROUNDDOWN(Y20*0.1,0)","v":17054},18619,{"$f":"AA20-ROUNDDOWN(AA20*0.1,0)","v":16758}]
[null,"長柄町",5,null,null,null,null,null,null,null,"09:00:00","09:30:00","9時間以上9時間30分未満","9時間以上9時間30分未満/有",19120,17208,21184,19066,20840,{"$f":"S21-ROUNDDOWN(S21*0.1,0)","v":18756},20496,{"$f":"U21-ROUNDDOWN(U21*0.1,0)","v":18447},20267,{"$f":"W21-ROUNDDOWN(W21*0.1,0)","v":18241},19808,{"$f":"Y21-ROUNDDOWN(Y21*0.1,0)","v":17828},19464,{"$f":"AA21-ROUNDDOWN(AA21*0.1,0)","v":17518}]
[null,"長南町",5,null,null,null,null,null,null,null,"09:30:00","10:00:00","9時間30分以上10時間未満","9時間30分以上10時間未満/有",19950,17955,22104,19894,21745,{"$f":"S22-ROUNDDOWN(S22*0.1,0)","v":19571},21386,{"$f":"U22-ROUNDDOWN(U22*0.1,0)","v":19248},21147,{"$f":"W22-ROUNDDOWN(W22*0.1,0)","v":19033},20668,{"$f":"Y22-ROUNDDOWN(Y22*0.1,0)","v":18602},20309,{"$f":"AA22-ROUNDDOWN(AA22*0.1,0)","v":18279}]
[null,"木更津市",5,null,null,null,null,null,null,null,"10:00:00","10:30:00","10時間以上10時間30分未満","10時間以上10時間30分未満/有",20780,18702,23024,20722,22650,{"$f":"S23-ROUNDDOWN(S23*0.1,0)","v":20385},22276,{"$f":"U23-ROUNDDOWN(U23*0.1,0)","v":20049},22026,{"$f":"W23-ROUNDDOWN(W23*0.1,0)","v":19824},21528,{"$f":"Y23-ROUNDDOWN(Y23*0.1,0)","v":19376},21154,{"$f":"AA23-ROUNDDOWN(AA23*0.1,0)","v":19039}]
[null,"君津市",5,null,null,null,null,null,null,null,"10:30:00","11:00:00","10時間30分以上11時間未満",{"$f":"M24&\"/有\"","v":"10時間30分以上11時間未満/有"},21610,19449,23943,21549,23554,{"$f":"S24-ROUNDDOWN(S24*0.1,0)","v":21199},23165,{"$f":"U24-ROUNDDOWN(U24*0.1,0)","v":20849},22906,{"$f":"W24-ROUNDDOWN(W24*0.1,0)","v":20616},22387,{"$f":"Y24-ROUNDDOWN(Y24*0.1,0)","v":20149},21998,{"$f":"AA24-ROUNDDOWN(AA24*0.1,0)","v":19799}]
[null,"神栖市","その他",null,null,null,null,null,null,null,"11:00:00","11:30:00","11時間以上11時間30分未満","11時間以上11時間30分未満/有",22440,20196,24863,22377,24459,{"$f":"S25-ROUNDDOWN(S25*0.1,0)","v":22014},24055,{"$f":"U25-ROUNDDOWN(U25*0.1,0)","v":21650},23786,{"$f":"W25-ROUNDDOWN(W25*0.1,0)","v":21408},23247,{"$f":"Y25-ROUNDDOWN(Y25*0.1,0)","v":20923},22843,{"$f":"AA25-ROUNDDOWN(AA25*0.1,0)","v":20559}]
[null,null,null,null,null,null,null,null,null,null,"11:30:00","12:00:00","11時間30分以上12時間未満","11時間30分以上12時間未満/有",23270,20943,25783,23205,25364,{"$f":"S26-ROUNDDOWN(S26*0.1,0)","v":22828},24945,{"$f":"U26-ROUNDDOWN(U26*0.1,0)","v":22451},24666,{"$f":"W26-ROUNDDOWN(W26*0.1,0)","v":22200},24107,{"$f":"Y26-ROUNDDOWN(Y26*0.1,0)","v":21697},23688,{"$f":"AA26-ROUNDDOWN(AA26*0.1,0)","v":21320}]
[null,null,null,null,null,null,null,null,null,null,"12:00:00","12:30:00","12時間以上12時間30分未満","12時間以上12時間30分未満/有",24100,21690,26702,24032,26269,{"$f":"S27-ROUNDDOWN(S27*0.1,0)","v":23643},25835,{"$f":"U27-ROUNDDOWN(U27*0.1,0)","v":23252},25546,{"$f":"W27-ROUNDDOWN(W27*0.1,0)","v":22992},24967,{"$f":"Y27-ROUNDDOWN(Y27*0.1,0)","v":22471},24533,{"$f":"AA27-ROUNDDOWN(AA27*0.1,0)","v":22080}]
[null,null,null,null,null,null,null,null,null,null,"12:30:00","13:00:00","12時間30分以上13時間未満","12時間30分以上13時間未満/有",24930,22437,27622,24860,27173,{"$f":"S28-ROUNDDOWN(S28*0.1,0)","v":24456},26724,{"$f":"U28-ROUNDDOWN(U28*0.1,0)","v":24052},26425,{"$f":"W28-ROUNDDOWN(W28*0.1,0)","v":23783},25827,{"$f":"Y28-ROUNDDOWN(Y28*0.1,0)","v":23245},25378,{"$f":"AA28-ROUNDDOWN(AA28*0.1,0)","v":22841}]
[null,null,null,null,null,null,null,null,null,null,"13:00:00","13:30:00","13時間以上13時間30分未満","13時間以上13時間30分未満/有",25760,23184,28542,25688,28078,{"$f":"S29-ROUNDDOWN(S29*0.1,0)","v":25271},27614,{"$f":"U29-ROUNDDOWN(U29*0.1,0)","v":24853},27305,{"$f":"W29-ROUNDDOWN(W29*0.1,0)","v":24575},26687,{"$f":"Y29-ROUNDDOWN(Y29*0.1,0)","v":24019},26223,{"$f":"AA29-ROUNDDOWN(AA29*0.1,0)","v":23601}]
[null,null,null,null,null,null,null,null,null,null,"13:30:00","14:00:00","13時間30分以上14時間未満","13時間30分以上14時間未満/有",26590,23931,29461,26515,28983,{"$f":"S30-ROUNDDOWN(S30*0.1,0)","v":26085},28504,{"$f":"U30-ROUNDDOWN(U30*0.1,0)","v":25654},28185,{"$f":"W30-ROUNDDOWN(W30*0.1,0)","v":25367},27547,{"$f":"Y30-ROUNDDOWN(Y30*0.1,0)","v":24793},27068,{"$f":"AA30-ROUNDDOWN(AA30*0.1,0)","v":24362}]
[null,null,null,null,null,null,null,null,null,null,null,null,null,"30分未満/無",1050,945,1163,1047,1144,{"$f":"S31-ROUNDDOWN(S31*0.1,0)","v":1030},1125,{"$f":"U31-ROUNDDOWN(U31*0.1,0)","v":1013},1113,{"$f":"W31-ROUNDDOWN(W31*0.1,0)","v":1002},1087,{"$f":"Y31-ROUNDDOWN(Y31*0.1,0)","v":979},1068,{"$f":"AA31-ROUNDDOWN(AA31*0.1,0)","v":962}]
[null,null,null,null,null,null,null,null,null,null,null,null,null,"30分以上1時間未満/無",1970,1773,2182,1964,2147,{"$f":"S32-ROUNDDOWN(S32*0.1,0)","v":1933},2111,{"$f":"U32-ROUNDDOWN(U32*0.1,0)","v":1900},2088,{"$f":"W32-ROUNDDOWN(W32*0.1,0)","v":1880},2040,{"$f":"Y32-ROUNDDOWN(Y32*0.1,0)","v":1836},2005,{"$f":"AA32-ROUNDDOWN(AA32*0.1,0)","v":1805}]
[null,null,null,null,null,null,null,null,null,null,null,null,null,"1時間以上1時間30分未満/無",2760,2484,3058,2753,3008,{"$f":"S33-ROUNDDOWN(S33*0.1,0)","v":2708},2958,{"$f":"U33-ROUNDDOWN(U33*0.1,0)","v":2663},2925,{"$f":"W33-ROUNDDOWN(W33*0.1,0)","v":2633},2859,{"$f":"Y33-ROUNDDOWN(Y33*0.1,0)","v":2574},2809,{"$f":"AA33-ROUNDDOWN(AA33*0.1,0)","v":2529}]
[null,null,null,null,null,null,null,null,null,null,null,null,null,"1時間30分以上2時間未満/無",3460,3114,3833,3450,3771,{"$f":"S34-ROUNDDOWN(S34*0.1,0)","v":3394},3709,{"$f":"U34-ROUNDDOWN(U34*0.1,0)","v":3339},3667,{"$f":"W34-ROUNDDOWN(W34*0.1,0)","v":3301},3584,{"$f":"Y34-ROUNDDOWN(Y34*0.1,0)","v":3226},3522,{"$f":"AA34-ROUNDDOWN(AA34*0.1,0)","v":3170}]
[null,null,null,null,null,null,null,null,null,null,null,null,null,"2時間以上2時間30分未満/無",4160,3744,4609,4149,4534,{"$f":"S35-ROUNDDOWN(S35*0.1,0)","v":4081},4459,{"$f":"U35-ROUNDDOWN(U35*0.1,0)","v":4014},4409,{"$f":"W35-ROUNDDOWN(W35*0.1,0)","v":3969},4309,{"$f":"Y35-ROUNDDOWN(Y35*0.1,0)","v":3879},4234,{"$f":"AA35-ROUNDDOWN(AA35*0.1,0)","v":3811}]
[null,null,null,null,null,null,null,null,null,null,null,null,null,"2時間30分以上3時間未満/無",4860,4374,5384,4846,5297,{"$f":"S36-ROUNDDOWN(S36*0.1,0)","v":4768},5209,{"$f":"U36-ROUNDDOWN(U36*0.1,0)","v":4689},5151,{"$f":"W36-ROUNDDOWN(W36*0.1,0)","v":4636},5034,{"$f":"Y36-ROUNDDOWN(Y36*0.1,0)","v":4531},4947,{"$f":"AA36-ROUNDDOWN(AA36*0.1,0)","v":4453}]
[null,null,null,null,null,null,null,null,null,null,null,null,null,"3時間以上3時間30分未満/無",5560,5004,6160,5544,6060,{"$f":"S37-ROUNDDOWN(S37*0.1,0)","v":5454},5960,{"$f":"U37-ROUNDDOWN(U37*0.1,0)","v":5364},5893,{"$f":"W37-ROUNDDOWN(W37*0.1,0)","v":5304},5760,{"$f":"Y37-ROUNDDOWN(Y37*0.1,0)","v":5184},5660,{"$f":"AA37-ROUNDDOWN(AA37*0.1,0)","v":5094}]
[null,null,null,null,null,null,null,null,null,null,null,null,null,"3時間30分以上4時間未満/無",6260,5634,6936,6243,6823,{"$f":"S38-ROUNDDOWN(S38*0.1,0)","v":6141},6710,{"$f":"U38-ROUNDDOWN(U38*0.1,0)","v":6039},6635,{"$f":"W38-ROUNDDOWN(W38*0.1,0)","v":5972},6485,{"$f":"Y38-ROUNDDOWN(Y38*0.1,0)","v":5837},6372,{"$f":"AA38-ROUNDDOWN(AA38*0.1,0)","v":5735}]
[null,null,null,null,null,null,null,null,null,null,null,null,null,"4時間以上4時間30分未満/無",6960,6264,7711,6940,7586,{"$f":"S39-ROUNDDOWN(S39*0.1,0)","v":6828},7461,{"$f":"U39-ROUNDDOWN(U39*0.1,0)","v":6715},7377,{"$f":"W39-ROUNDDOWN(W39*0.1,0)","v":6640},7210,{"$f":"Y39-ROUNDDOWN(Y39*0.1,0)","v":6489},7085,{"$f":"AA39-ROUNDDOWN(AA39*0.1,0)","v":6377}]
[null,null,null,null,null,null,null,null,null,null,null,null,null,"4時間30分以上5時間未満/無",7660,6894,8487,7639,8349,{"$f":"S40-ROUNDDOWN(S40*0.1,0)","v":7515},8211,{"$f":"U40-ROUNDDOWN(U40*0.1,0)","v":7390},8119,{"$f":"W40-ROUNDDOWN(W40*0.1,0)","v":7308},7935,{"$f":"Y40-ROUNDDOWN(Y40*0.1,0)","v":7142},7797,{"$f":"AA40-ROUNDDOWN(AA40*0.1,0)","v":7018}]
[null,null,null,null,null,null,null,null,null,null,null,null,null,"5時間以上5時間30分未満/無",8360,7524,9262,8336,9112,{"$f":"S41-ROUNDDOWN(S41*0.1,0)","v":8201},8961,{"$f":"U41-ROUNDDOWN(U41*0.1,0)","v":8065},8861,{"$f":"W41-ROUNDDOWN(W41*0.1,0)","v":7975},8660,{"$f":"Y41-ROUNDDOWN(Y41*0.1,0)","v":7794},8510,{"$f":"AA41-ROUNDDOWN(AA41*0.1,0)","v":7659}]
[null,null,null,null,null,null,null,null,null,null,null,null,null,"5時間30分以上6時間未満/無",9060,8154,10038,9035,9875,{"$f":"S42-ROUNDDOWN(S42*0.1,0)","v":8888},9712,{"$f":"U42-ROUNDDOWN(U42*0.1,0)","v":8741},9603,{"$f":"W42-ROUNDDOWN(W42*0.1,0)","v":8643},9386,{"$f":"Y42-ROUNDDOWN(Y42*0.1,0)","v":8448},9223,{"$f":"AA42-ROUNDDOWN(AA42*0.1,0)","v":8301}]
[null,null,null,null,null,null,null,null,null,null,null,null,null,"6時間以上6時間30分未満/無",9760,8784,10814,9733,10638,{"$f":"S43-ROUNDDOWN(S43*0.1,0)","v":9575},10462,{"$f":"U43-ROUNDDOWN(U43*0.1,0)","v":9416},10345,{"$f":"W43-ROUNDDOWN(W43*0.1,0)","v":9311},10111,{"$f":"Y43-ROUNDDOWN(Y43*0.1,0)","v":9100},9935,{"$f":"AA43-ROUNDDOWN(AA43*0.1,0)","v":8942}]
[null,null,null,null,null,null,null,null,null,null,null,null,null,"6時間30分以上7時間未満/無",10460,9414,11589,10431,11401,{"$f":"S44-ROUNDDOWN(S44*0.1,0)","v":10261},11213,{"$f":"U44-ROUNDDOWN(U44*0.1,0)","v":10092},11087,{"$f":"W44-ROUNDDOWN(W44*0.1,0)","v":9979},10836,{"$f":"Y44-ROUNDDOWN(Y44*0.1,0)","v":9753},10648,{"$f":"AA44-ROUNDDOWN(AA44*0.1,0)","v":9584}]
[null,null,null,null,null,null,null,null,null,null,null,null,null,"7時間以上7時間30分未満/無",11160,10044,12365,11129,12164,{"$f":"S45-ROUNDDOWN(S45*0.1,0)","v":10948},11963,{"$f":"U45-ROUNDDOWN(U45*0.1,0)","v":10767},11829,{"$f":"W45-ROUNDDOWN(W45*0.1,0)","v":10647},11561,{"$f":"Y45-ROUNDDOWN(Y45*0.1,0)","v":10405},11360,{"$f":"AA45-ROUNDDOWN(AA45*0.1,0)","v":10224}]
[null,null,null,null,null,null,null,null,null,null,null,null,null,"7時間30分以上8時間未満/無",11860,10674,13140,11826,12927,{"$f":"S46-ROUNDDOWN(S46*0.1,0)","v":11635},12713,{"$f":"U46-ROUNDDOWN(U46*0.1,0)","v":11442},12571,{"$f":"W46-ROUNDDOWN(W46*0.1,0)","v":11314},12286,{"$f":"Y46-ROUNDDOWN(Y46*0.1,0)","v":11058},12073,{"$f":"AA46-ROUNDDOWN(AA46*0.1,0)","v":10866}]
[null,null,null,null,null,null,null,null,null,null,null,null,null,"8時間以上8時間30分未満/無",12560,11304,13916,12525,13690,{"$f":"S47-ROUNDDOWN(S47*0.1,0)","v":12321},13464,{"$f":"U47-ROUNDDOWN(U47*0.1,0)","v":12118},13313,{"$f":"W47-ROUNDDOWN(W47*0.1,0)","v":11982},13012,{"$f":"Y47-ROUNDDOWN(Y47*0.1,0)","v":11711},12786,{"$f":"AA47-ROUNDDOWN(AA47*0.1,0)","v":11508}]
[null,null,null,null,null,null,null,null,0,null,null,null,null,"8時間30分以上9時間未満/無",13260,11934,14692,13223,14453,{"$f":"S48-ROUNDDOWN(S48*0.1,0)","v":13008},14214,{"$f":"U48-ROUNDDOWN(U48*0.1,0)","v":12793},14055,{"$f":"W48-ROUNDDOWN(W48*0.1,0)","v":12650},13737,{"$f":"Y48-ROUNDDOWN(Y48*0.1,0)","v":12364},13498,{"$f":"AA48-ROUNDDOWN(AA48*0.1,0)","v":12149}]
[null,null,null,null,null,null,null,null,null,null,null,null,null,"9時間以上9時間30分未満/無",13960,12564,15467,13921,15216,{"$f":"S49-ROUNDDOWN(S49*0.1,0)","v":13695},14965,{"$f":"U49-ROUNDDOWN(U49*0.1,0)","v":13469},14797,{"$f":"W49-ROUNDDOWN(W49*0.1,0)","v":13318},14462,{"$f":"Y49-ROUNDDOWN(Y49*0.1,0)","v":13016},14211,{"$f":"AA49-ROUNDDOWN(AA49*0.1,0)","v":12790}]
[null,null,null,null,null,null,null,null,null,null,null,null,null,"9時間30分以上10時間未満/無",14660,13194,16243,14619,15979,{"$f":"S50-ROUNDDOWN(S50*0.1,0)","v":14382},15715,{"$f":"U50-ROUNDDOWN(U50*0.1,0)","v":14144},15539,{"$f":"W50-ROUNDDOWN(W50*0.1,0)","v":13986},15187,{"$f":"Y50-ROUNDDOWN(Y50*0.1,0)","v":13669},14923,{"$f":"AA50-ROUNDDOWN(AA50*0.1,0)","v":13431}]
[null,null,null,null,null,null,null,null,null,null,null,null,null,"10時間以上10時間30分未満/無",15360,13824,17018,15317,16742,{"$f":"S51-ROUNDDOWN(S51*0.1,0)","v":15068},16465,{"$f":"U51-ROUNDDOWN(U51*0.1,0)","v":14819},16281,{"$f":"W51-ROUNDDOWN(W51*0.1,0)","v":14653},15912,{"$f":"Y51-ROUNDDOWN(Y51*0.1,0)","v":14321},15636,{"$f":"AA51-ROUNDDOWN(AA51*0.1,0)","v":14073}]
[null,null,null,null,null,null,null,null,null,null,null,null,null,{"$f":"M24&\"/無\"","v":"10時間30分以上11時間未満/無"},16060,14454,17794,16015,17505,{"$f":"S52-ROUNDDOWN(S52*0.1,0)","v":15755},17216,{"$f":"U52-ROUNDDOWN(U52*0.1,0)","v":15495},17023,{"$f":"W52-ROUNDDOWN(W52*0.1,0)","v":15321},16638,{"$f":"Y52-ROUNDDOWN(Y52*0.1,0)","v":14975},16349,{"$f":"AA52-ROUNDDOWN(AA52*0.1,0)","v":14715}]
[null,null,null,null,null,null,null,null,null,null,null,null,null,"11時間以上11時間30分未満/無",16760,15084,18570,16713,18268,{"$f":"S53-ROUNDDOWN(S53*0.1,0)","v":16442},17966,{"$f":"U53-ROUNDDOWN(U53*0.1,0)","v":16170},17765,{"$f":"W53-ROUNDDOWN(W53*0.1,0)","v":15989},17363,{"$f":"Y53-ROUNDDOWN(Y53*0.1,0)","v":15627},17061,{"$f":"AA53-ROUNDDOWN(AA53*0.1,0)","v":15355}]
[null,null,null,null,null,null,null,null,null,null,null,null,null,"11時間30分以上12時間未満/無",17460,15714,19345,17411,19031,{"$f":"S54-ROUNDDOWN(S54*0.1,0)","v":17128},18717,{"$f":"U54-ROUNDDOWN(U54*0.1,0)","v":16846},18507,{"$f":"W54-ROUNDDOWN(W54*0.1,0)","v":16657},18088,{"$f":"Y54-ROUNDDOWN(Y54*0.1,0)","v":16280},17774,{"$f":"AA54-ROUNDDOWN(AA54*0.1,0)","v":15997}]
[null,null,null,null,null,null,null,null,null,null,null,null,null,"12時間以上12時間30分未満/無",18160,16344,20121,18109,19794,{"$f":"S55-ROUNDDOWN(S55*0.1,0)","v":17815},19467,{"$f":"U55-ROUNDDOWN(U55*0.1,0)","v":17521},19249,{"$f":"W55-ROUNDDOWN(W55*0.1,0)","v":17325},18813,{"$f":"Y55-ROUNDDOWN(Y55*0.1,0)","v":16932},18486,{"$f":"AA55-ROUNDDOWN(AA55*0.1,0)","v":16638}]
[null,null,null,null,null,null,null,null,null,null,null,null,null,"12時間30分以上13時間未満/無",18860,16974,20896,18807,20557,{"$f":"S56-ROUNDDOWN(S56*0.1,0)","v":18502},20217,{"$f":"U56-ROUNDDOWN(U56*0.1,0)","v":18196},19991,{"$f":"W56-ROUNDDOWN(W56*0.1,0)","v":17992},19538,{"$f":"Y56-ROUNDDOWN(Y56*0.1,0)","v":17585},19199,{"$f":"AA56-ROUNDDOWN(AA56*0.1,0)","v":17280}]
[null,null,null,null,null,null,null,null,null,null,null,null,null,"13時間以上13時間30分未満/無",19560,17604,21672,19505,21320,{"$f":"S57-ROUNDDOWN(S57*0.1,0)","v":19188},20968,{"$f":"U57-ROUNDDOWN(U57*0.1,0)","v":18872},20733,{"$f":"W57-ROUNDDOWN(W57*0.1,0)","v":18660},20264,{"$f":"Y57-ROUNDDOWN(Y57*0.1,0)","v":18238},19912,{"$f":"AA57-ROUNDDOWN(AA57*0.1,0)","v":17921}]
[null,null,null,null,null,null,null,null,null,null,null,null,null,"13時間30分以上14時間未満/無",20260,18234,22448,20204,22083,{"$f":"S58-ROUNDDOWN(S58*0.1,0)","v":19875},21718,{"$f":"U58-ROUNDDOWN(U58*0.1,0)","v":19547},21475,{"$f":"W58-ROUNDDOWN(W58*0.1,0)","v":19328},20989,{"$f":"Y58-ROUNDDOWN(Y58*0.1,0)","v":18891},20624,{"$f":"AA58-ROUNDDOWN(AA58*0.1,0)","v":18562}]

{"sheet":"1","index":6,"n_rows":44,"n_cols":23,"rows_kept":44,"cut":false,"hidden":false,"merged":[[43,0,43,7],[10,12,11,12],[10,14,11,14],[10,16,11,16],[7,0,7,4],[7,5,7,6],[7,7,7,8],[8,0,8,4],[8,5,8,6],[8,7,8,8],[10,21,11,21],[10,0,10,2],[10,8,11,8],[10,10,11,10],[10,11,11,11],[10,3,10,5],[10,6,10,7],[10,13,11,13],[10,9,11,9],[3,1,3,4],[4,6,5,7],[4,0,5,2],[10,19,11,19],[10,20,11,20],[6,16,8,16],[6,0,6,2],[6,3,6,4],[4,3,5,5],[6,6,6,7],[4,8,5,10],[4,11,4,14],[5,11,5,14],[6,9,8,10],[6,11,8,14],[3,5,3,14]]}
[null,"№",1]
[]
[]
[null,{"$f":"EOMONTH(B13,0)","v":"1900-01-31"},null,null,null,"鎌ケ谷市移動支援サービス提供実績記録票"]
["登録番号",null,null,{"$f":"VLOOKUP($C$1,利用者情報!A:U,COLUMN(利用者情報!B3),FALSE)","v":0},null,null,"支給決定障がい者等氏名\n（児童氏名）",null,{"$f":"VLOOKUP($C$1,利用者情報!A:U,COLUMN(利用者情報!C1),FALSE)","v":0},null,null,"事業所登録番号"]
[null,null,null,null,null,null,null,null,null,null,null,{"$f":"請求事業者!B3","v":0},null,null,null,null,"コメント",null,"決定時間数"]
["契約支給量",null,null,"身体介護を\n伴う",null,{"$f":"IF(VLOOKUP(C1,利用者情報!A:G,5)=\"有\",CONCATENATE(VLOOKUP(C1,利用者情報!A:G,4)&\"時間\"),\"\")","v":""},"身体介護を\n伴わない",null,{"$f":"IF(VLOOKUP(C1,利用者情報!A:G,5)<>\"有\",CONCATENATE(VLOOKUP(C1,利用者情報!A:G,4)&\"時間\"),\"\")","v":"時間"},"事業所及び\nその事業所",null,{"$f":"請求事業者!B7","v":0},null,null,null,null,{"$f":"利用者情報!J4","v":""},null,{"$f":"IF(F7=\"\",I7,F7)","v":"時間"}]
["利用者負担の有無",null,null,null,null,"利用者の負担割合",null,"利用者負担上限額"]
[{"$f":"VLOOKUP($C$1,利用者情報!A:U,COLUMN(利用者情報!F3),FALSE)","v":0},null,null,null,null,{"$f":"IF(A9=\"有\",\"1割\",\"0割\")","v":"0割"},null,{"$f":"VLOOKUP($C$1,利用者情報!A:U,COLUMN(利用者情報!G3),FALSE)","v":0},null,null,null,null,null,null,null,null,null,null,null,null,null,null,{"$f":"請求事業者!C9","v":5}]
[null,null,null,null,null,null,null,null,null,null,null,null,null,null,null,null,null,null,null,null,null,null,"便宜上区分"]
["日付",null,null,"支援計画",null,null,null,null,"算定\n時間","派遣\n人数","算定額","利用者\n負担額","請求額","サービス\n提供者印","利用者\n確認印",null,"コメント",null,null,"利用者負担額\n累計","上限到達フラグ","上限達成時の利用者負担額",{"$f":"IF(F7=\"\",\"無\",\"有\")","v":"無"}]
["月","日","曜日","開始\n時間","終了\n時間","計画\n時間数","開始\n時間","終了\n時間",null,null,null,null,null,null,null,null,null,"請求額","利用者\n負担額",null,null,null,{"$f":"IF(A9=\"有\",\"（9割）\",\"\")","v":""}]
[{"$f":"IF(B13=\"\",\"\",TEXT(B13,\"m\"))","v":""},null,{"$f":"IF(B13=\"\",\"\",B13)","v":""},null,null,null,null,null,{"$f":"H13-G13","v":0},null,{"$f":"IF($H13=0,0,INDEX(単価,MATCH(W13,時間,0),MATCH($W$9,地域区分,0)))","v":0},{"$f":"IF(U13=0,S13,V13)","v":0},{"$f":"K13-L13","v":0},null,null,1,{"$f":"IF(A13=\"\",\"\",IF($A$13<>A13,\"月が異なります！\",IF(SUM($I$13:I13)>$S$7,\"決定時間数を超過しています！\",\"\")))","v":""},{"$f":"IF(I13=0,0,INDEX(単価,MATCH(W13,時間,0),MATCH(IF(W12=\"\",W9,W9&W12),地域区分,0)))","v":0},{"$f":"K13-R13","v":0},{"$f":"SUM($S$13:S13)","v":0},null,null,{"$f":"IF(I13=0,0,CONCATENATE(VLOOKUP(I13+\"00:01\",'データ '!K:M,3,TRUE),\"/\",$W$11))","v":0}]
[{"$f":"IF(B14=\"\",\"\",TEXT(B14,\"m\"))","v":""},null,{"$f":"IF(B14=\"\",\"\",B14)","v":""},null,null,null,null,null,{"$f":"H14-G14","v":0},null,{"$f":"IF($H14=0,0,INDEX(単価,MATCH(W14,時間,0),MATCH($W$9,地域区分,0)))","v":0},{"$f":"IF(U14=0,S14,V14)","v":0},{"$f":"K14-L14","v":0},null,null,2,{"$f":"IF(A14=\"\",\"\",IF($A$13<>A14,\"月が異なります！\",IF(SUM($I$13:I14)>$S$7,\"決定時間数を超過しています！\",\"\")))","v":""},{"$f":"IF(AND($H14=0),0,IF($A$9=\"有\",INDEX(単価,MATCH(W14,時間,0),MATCH($W$9&$W$12,地域区分,0)),INDEX(単価,MATCH(W14,時間,0),MATCH($W$9,地域区分,0))))","v":0},{"$f":"K14-R14","v":0},{"$f":"SUM($S$13:S14)","v":0},{"$f":"IF(AND(T13<$H$9,T14>$H$9),1,IF(T14>$H$9,2,0))","v":0},{"$f":"IF(U14=1,$H$9-T13,0)","v":0},{"$f":"IF(I14=0,0,CONCATENATE(VLOOKUP(I14+\"00:01\",'データ '!K:M,3,TRUE),\"/\",$W$11))","v":0}]
["",null,"",null,null,null,null,null,0,null,0,{"$f":"IF(U15=0,S15,V15)","v":0},{"$f":"K15-L15","v":0},null,null,3,{"$f":"IF(A15=\"\",\"\",IF($A$13<>A15,\"月が異なります！\",IF(SUM($I$13:I15)>$S$7,\"決定時間数を超過しています！\",\"\")))","v":""},0,0,{"$f":"SUM($S$13:S15)","v":0},{"$f":"IF(AND(T14<$H$9,T15>$H$9),1,IF(T15>$H$9,2,0))","v":0},{"$f":"IF(U15=1,$H$9-T14,0)","v":0},{"$f":"IF(I15=0,0,CONCATENATE(VLOOKUP(I15+\"00:01\",'データ '!K:M,3,TRUE),\"/\",$W$11))","v":0}]
["",null,"",null,null,null,null,null,0,null,0,0,0,null,null,4,{"$f":"IF(A16=\"\",\"\",IF($A$13<>A16,\"月が異なります！\",IF(SUM($I$13:I16)>$S$7,\"決定時間数を超過しています！\",\"\")))","v":""},0,0,{"$f":"SUM($S$13:S16)","v":0},0,0,{"$f":"IF(I16=0,0,CONCATENATE(VLOOKUP(I16+\"00:01\",'データ '!K:M,3,TRUE),\"/\",$W$11))","v":0}]
["",null,"",null,null,null,null,null,0,null,0,0,0,null,null,5,{"$f":"IF(A17=\"\",\"\",IF($A$13<>A17,\"月が異なります！\",IF(SUM($I$13:I17)>$S$7,\"決定時間数を超過しています！\",\"\")))","v":""},0,0,{"$f":"SUM($S$13:S17)","v":0},0,0,{"$f":"IF(I17=0,0,CONCATENATE(VLOOKUP(I17+\"00:01\",'データ '!K:M,3,TRUE),\"/\",$W$11))","v":0}]
["",null,"",null,null,null,null,null,0,null,0,0,0,null,null,6,{"$f":"IF(A18=\"\",\"\",IF($A$13<>A18,\"月が異なります！\",IF(SUM($I$13:I18)>$S$7,\"決定時間数を超過しています！\",\"\")))","v":""},0,0,{"$f":"SUM($S$13:S18)","v":0},0,0,{"$f":"IF(I18=0,0,CONCATENATE(VLOOKUP(I18+\"00:01\",'データ '!K:M,3,TRUE),\"/\",$W$11))","v":0}]
["",null,"",null,null,null,null,null,0,null,0,0,0,null,null,7,{"$f":"IF(A19=\"\",\"\",IF($A$13<>A19,\"月が異なります！\",IF(SUM($I$13:I19)>$S$7,\"決定時間数を超過しています！\",\"\")))","v":""},0,0,{"$f":"SUM($S$13:S19)","v":0},0,0,{"$f":"IF(I19=0,0,CONCATENATE(VLOOKUP(I19+\"00:01\",'データ '!K:M,3,TRUE),\"/\",$W$11))","v":0}]
["",null,"",null,null,null,null,null,0,null,0,0,0,null,null,8,{"$f":"IF(A20=\"\",\"\",IF($A$13<>A20,\"月が異なります！\",IF(SUM($I$13:I20)>$S$7,\"決定時間数を超過しています！\",\"\")))","v":""},0,0,{"$f":"SUM($S$13:S20)","v":0},0,0,{"$f":"IF(I20=0,0,CONCATENATE(VLOOKUP(I20+\"00:01\",'データ '!K:M,3,TRUE),\"/\",$W$11))","v":0}]
["",null,"",null,null,null,null,null,0,null,0,{"$f":"IF(U21=0,S21,V21)","v":0},0,null,null,9,{"$f":"IF(A21=\"\",\"\",IF($A$13<>A21,\"月が異なります！\",IF(SUM($I$13:I21)>$S$7,\"決定時間数を超過しています！\",\"\")))","v":""},0,0,{"$f":"SUM($S$13:S21)","v":0},0,0,{"$f":"IF(I21=0,0,CONCATENATE(VLOOKUP(I21+\"00:01\",'データ '!K:M,3,TRUE),\"/\",$W$11))","v":0}]
["",null,"",null,null,null,null,null,0,null,0,{"$f":"IF(U22=0,S22,V22)","v":0},0,null,null,10,{"$f":"IF(A22=\"\",\"\",IF($A$13<>A22,\"月が異なります！\",IF(SUM($I$13:I22)>$S$7,\"決定時間数を超過しています！\",\"\")))","v":""},0,{"$f":"K22-R22","v":0},{"$f":"SUM($S$13:S22)","v":0},0,0,{"$f":"IF(I22=0,0,CONCATENATE(VLOOKUP(I22+\"00:01\",'データ '!K:M,3,TRUE),\"/\",$W$11))","v":0}]
["",null,"",null,null,null,null,null,0,null,0,0,0,null,null,11,{"$f":"IF(A23=\"\",\"\",IF($A$13<>A23,\"月が異なります！\",IF(SUM($I$13:I23)>$S$7,\"決定時間数を超過しています！\",\"\")))","v":""},0,0,{"$f":"SUM($S$13:S23)","v":0},0,0,{"$f":"IF(I23=0,0,CONCATENATE(VLOOKUP(I23+\"00:01\",'データ '!K:M,3,TRUE),\"/\",$W$11))","v":0}]
["",null,"",null,null,null,null,null,0,null,0,0,0,null,null,12,{"$f":"IF(A24=\"\",\"\",IF($A$13<>A24,\"月が異なります！\",IF(SUM($I$13:I24)>$S$7,\"決定時間数を超過しています！\",\"\")))","v":""},0,0,{"$f":"SUM($S$13:S24)","v":0},0,0,{"$f":"IF(I24=0,0,CONCATENATE(VLOOKUP(I24+\"00:01\",'データ '!K:M,3,TRUE),\"/\",$W$11))","v":0}]
["",null,"",null,null,null,null,null,0,null,0,0,0,null,null,13,{"$f":"IF(A25=\"\",\"\",IF($A$13<>A25,\"月が異なります！\",IF(SUM($I$13:I25)>$S$7,\"決定時間数を超過しています！\",\"\")))","v":""},0,0,{"$f":"SUM($S$13:S25)","v":0},0,0,{"$f":"IF(I25=0,0,CONCATENATE(VLOOKUP(I25+\"00:01\",'データ '!K:M,3,TRUE),\"/\",$W$11))","v":0}]
["",null,"",null,null,null,null,null,0,null,0,0,0,null,null,14,{"$f":"IF(A26=\"\",\"\",IF($A$13<>A26,\"月が異なります！\",IF(SUM($I$13:I26)>$S$7,\"決定時間数を超過しています！\",\"\")))","v":""},0,0,{"$f":"SUM($S$13:S26)","v":0},0,0,{"$f":"IF(I26=0,0,CONCATENATE(VLOOKUP(I26+\"00:01\",'データ '!K:M,3,TRUE),\"/\",$W$11))","v":0}]
["",null,"",null,null,null,null,null,0,null,0,0,0,null,null,15,{"$f":"IF(A27=\"\",\"\",IF($A$13<>A27,\"月が異なります！\",IF(SUM($I$13:I27)>$S$7,\"決定時間数を超過しています！\",\"\")))","v":""},0,0,{"$f":"SUM($S$13:S27)","v":0},0,0,{"$f":"IF(I27=0,0,CONCATENATE(VLOOKUP(I27+\"00:01\",'データ '!K:M,3,TRUE),\"/\",$W$11))","v":0}]
["",null,"",null,null,null,null,null,0,null,0,0,0,null,null,16,{"$f":"IF(A28=\"\",\"\",IF($A$13<>A28,\"月が異なります！\",IF(SUM($I$13:I28)>$S$7,\"決定時間数を超過しています！\",\"\")))","v":""},0,0,{"$f":"SUM($S$13:S28)","v":0},0,0,{"$f":"IF(I28=0,0,CONCATENATE(VLOOKUP(I28+\"00:01\",'データ '!K:M,3,TRUE),\"/\",$W$11))","v":0}]
["",null,"",null,null,null,null,null,0,null,0,0,0,null,null,17,{"$f":"IF(A29=\"\",\"\",IF($A$13<>A29,\"月が異なります！\",IF(SUM($I$13:I29)>$S$7,\"決定時間数を超過しています！\",\"\")))","v":""},0,0,{"$f":"SUM($S$13:S29)","v":0},0,0,{"$f":"IF(I29=0,0,CONCATENATE(VLOOKUP(I29+\"00:01\",'データ '!K:M,3,TRUE),\"/\",$W$11))","v":0}]
["",null,"",null,null,null,null,null,0,null,0,0,0,null,null,18,{"$f":"IF(A30=\"\",\"\",IF($A$13<>A30,\"月が異なります！\",IF(SUM($I$13:I30)>$S$7,\"決定時間数を超過しています！\",\"\")))","v":""},0,0,{"$f":"SUM($S$13:S30)","v":0},0,0,{"$f":"IF(I30=0,0,CONCATENATE(VLOOKUP(I30+\"00:01\",'データ '!K:M,3,TRUE),\"/\",$W$11))","v":0}]
["",null,"",null,null,null,null,null,0,null,0,0,0,null,null,19,{"$f":"IF(A31=\"\",\"\",IF($A$13<>A31,\"月が異なります！\",IF(SUM($I$13:I31)>$S$7,\"決定時間数を超過しています！\",\"\")))","v":""},0,0,{"$f":"SUM($S$13:S31)","v":0},0,0,{"$f":"IF(I31=0,0,CONCATENATE(VLOOKUP(I31+\"00:01\",'データ '!K:M,3,TRUE),\"/\",$W$11))","v":0}]
["",null,"",null,null,null,null,null,0,null,0,0,0,null,null,20,{"$f":"IF(A32=\"\",\"\",IF($A$13<>A32,\"月が異なります！\",IF(SUM($I$13:I32)>$S$7,\"決定時間数を超過しています！\",\"\")))","v":""},0,0,{"$f":"SUM($S$13:S32)","v":0},0,0,{"$f":"IF(I32=0,0,CONCATENATE(VLOOKUP(I32+\"00:01\",'データ '!K:M,3,TRUE),\"/\",$W$11))","v":0}]
["",null,"",null,null,null,null,null,0,null,0,0,0,null,null,21,{"$f":"IF(A33=\"\",\"\",IF($A$13<>A33,\"月が異なります！\",IF(SUM($I$13:I33)>$S$7,\"決定時間数を超過しています！\",\"\")))","v":""},0,0,{"$f":"SUM($S$13:S33)","v":0},0,0,{"$f":"IF(I33=0,0,CONCATENATE(VLOOKUP(I33+\"00:01\",'データ '!K:M,3,TRUE),\"/\",$W$11))","v":0}]
["",null,"",null,null,null,null,null,0,null,0,0,0,null,null,22,{"$f":"IF(A34=\"\",\"\",IF($A$13<>A34,\"月が異なります！\",IF(SUM($I$13:I34)>$S$7,\"決定時間数を超過しています！\",\"\")))","v":""},0,0,{"$f":"SUM($S$13:S34)","v":0},0,0,{"$f":"IF(I34=0,0,CONCATENATE(VLOOKUP(I34+\"00:01\",'データ '!K:M,3,TRUE),\"/\",$W$11))","v":0}]
["",null,"",null,null,null,null,null,0,null,0,0,0,null,null,23,{"$f":"IF(A35=\"\",\"\",IF($A$13<>A35,\"月が異なります！\",IF(SUM($I$13:I35)>$S$7,\"決定時間数を超過しています！\",\"\")))","v":""},0,0,{"$f":"SUM($S$13:S35)","v":0},0,0,{"$f":"IF(I35=0,0,CONCATENATE(VLOOKUP(I35+\"00:01\",'データ '!K:M,3,TRUE),\"/\",$W$11))","v":0}]
["",null,"",null,null,null,null,null,0,null,0,0,0,null,null,24,{"$f":"IF(A36=\"\",\"\",IF($A$13<>A36,\"月が異なります！\",IF(SUM($I$13:I36)>$S$7,\"決定時間数を超過しています！\",\"\")))","v":""},0,0,{"$f":"SUM($S$13:S36)","v":0},0,0,{"$f":"IF(I36=0,0,CONCATENATE(VLOOKUP(I36+\"00:01\",'データ '!K:M,3,TRUE),\"/\",$W$11))","v":0}]
["",null,"",null,null,null,null,null,0,null,0,0,0,null,null,25,{"$f":"IF(A37=\"\",\"\",IF($A$13<>A37,\"月が異なります！\",IF(SUM($I$13:I37)>$S$7,\"決定時間数を超過しています！\",\"\")))","v":""},0,0,{"$f":"SUM($S$13:S37)","v":0},0,0,{"$f":"IF(I37=0,0,CONCATENATE(VLOOKUP(I37+\"00:01\",'データ '!K:M,3,TRUE),\"/\",$W$11))","v":0}]
["",null,"",null,null,null,null,null,0,null,0,0,0,null,null,26,{"$f":"IF(A38=\"\",\"\",IF($A$13<>A38,\"月が異なります！\",IF(SUM($I$13:I38)>$S$7,\"決定時間数を超過しています！\",\"\")))","v":""},0,0,{"$f":"SUM($S$13:S38)","v":0},0,0,{"$f":"IF(I38=0,0,CONCATENATE(VLOOKUP(I38+\"00:01\",'データ '!K:M,3,TRUE),\"/\",$W$11))","v":0}]
["",null,"",null,null,null,null,null,0,null,0,0,0,null,null,27,{"$f":"IF(A39=\"\",\"\",IF($A$13<>A39,\"月が異なります！\",IF(SUM($I$13:I39)>$S$7,\"決定時間数を超過しています！\",\"\")))","v":""},0,0,{"$f":"SUM($S$13:S39)","v":0},0,0,{"$f":"IF(I39=0,0,CONCATENATE(VLOOKUP(I39+\"00:01\",'データ '!K:M,3,TRUE),\"/\",$W$11))","v":0}]
["",null,"",null,null,null,null,null,0,null,0,0,0,null,null,28,{"$f":"IF(A40=\"\",\"\",IF($A$13<>A40,\"月が異なります！\",IF(SUM($I$13:I40)>$S$7,\"決定時間数を超過しています！\",\"\")))","v":""},0,0,{"$f":"SUM($S$13:S40)","v":0},0,0,{"$f":"IF(I40=0,0,CONCATENATE(VLOOKUP(I40+\"00:01\",'データ '!K:M,3,TRUE),\"/\",$W$11))","v":0}]
["",null,"",null,null,null,null,null,0,null,0,0,0,null,null,29,{"$f":"IF(A41=\"\",\"\",IF($A$13<>A41,\"月が異なります！\",IF(SUM($I$13:I41)>$S$7,\"決定時間数を超過しています！\",\"\")))","v":""},0,0,{"$f":"SUM($S$13:S41)","v":0},0,0,{"$f":"IF(I41=0,0,CONCATENATE(VLOOKUP(I41+\"00:01\",'データ '!K:M,3,TRUE),\"/\",$W$11))","v":0}]
["",null,"",null,null,null,null,null,0,null,0,0,0,null,null,30,{"$f":"IF(A42=\"\",\"\",IF($A$13<>A42,\"月が異なります！\",IF(SUM($I$13:I42)>$S$7,\"決定時間数を超過しています！\",\"\")))","v":""},0,0,{"$f":"SUM($S$13:S42)","v":0},0,0,{"$f":"IF(I42=0,0,CONCATENATE(VLOOKUP(I42+\"00:01\",'データ '!K:M,3,TRUE),\"/\",$W$11))","v":0}]
["",null,"",null,null,null,null,null,0,null,0,0,0,null,null,31,{"$f":"IF(A43=\"\",\"\",IF($A$13<>A43,\"月が異なります！\",IF(SUM($I$13:I43)>$S$7,\"決定時間数を超過しています！\",\"\")))","v":""},0,0,{"$f":"SUM($S$13:S43)","v":0},0,0,{"$f":"IF(I43=0,0,CONCATENATE(VLOOKUP(I43+\"00:01\",'データ '!K:M,3,TRUE),\"/\",$W$11))","v":0}]
["合計",null,null,null,null,null,null,null,{"$f":"SUM(I13:I43)","v":0},null,{"$f":"SUM(K13:K43)","v":0},{"$f":"SUM(L13:L43)","v":0},{"$f":"SUM(M13:M43)","v":0},null,null,null,null,null,null,null,null,null,{"$f":"IF(I44>=$X$8,$Y$9,IF(AND(I44<$X$8,I44>=$X$7),$Y$8,IF(I44<$X$7,$Y$7)))&$W$11","v":"無"}]

{"sheet":"2","index":7,"n_rows":44,"n_cols":23,"rows_kept":44,"cut":false,"hidden":false,"merged":[[10,19,11,19],[10,20,11,20],[10,21,11,21],[43,0,43,7],[10,9,11,9],[10,10,11,10],[10,11,11,11],[10,12,11,12],[10,13,11,13],[10,14,11,14],[10,0,10,2],[10,3,10,5],[10,6,10,7],[10,8,11,8],[10,16,11,16],[6,16,8,16],[7,0,7,4],[7,5,7,6],[7,7,7,8],[8,0,8,4],[6,0,6,2],[6,3,6,4],[6,6,6,7],[6,9,8,10],[6,11,8,14],[8,5,8,6],[8,7,8,8],[4,11,4,14],[5,11,5,14],[3,1,3,4],[4,0,5,2],[4,3,5,5],[4,6,5,7],[4,8,5,10],[3,5,3,14]]}
[null,"№",2]
[]
[]
[null,{"$f":"EOMONTH(B13,0)","v":"1900-01-31"},null,null,null,"鎌ケ谷市移動支援サービス提供実績記録票"]
["登録番号",null,null,{"$f":"VLOOKUP($C$1,利用者情報!A:U,COLUMN(利用者情報!B3),FALSE)","v":0},null,null,"支給決定障がい者等氏名\n（児童氏名）",null,{"$f":"VLOOKUP($C$1,利用者情報!A:U,COLUMN(利用者情報!C1),FALSE)","v":0},null,null,"事業所登録番号"]
[null,null,null,null,null,null,null,null,null,null,null,{"$f":"請求事業者!B3","v":0},null,null,null,null,"コメント",null,"決定時間数"]
["契約支給量",null,null,"身体介護を\n伴う",null,{"$f":"IF(VLOOKUP(C1,利用者情報!A:G,5)=\"有\",CONCATENATE(VLOOKUP(C1,利用者情報!A:G,4)&\"時間\"),\"\")","v":""},"身体介護を\n伴わない",null,{"$f":"IF(VLOOKUP(C1,利用者情報!A:G,5)<>\"有\",CONCATENATE(VLOOKUP(C1,利用者情報!A:G,4)&\"時間\"),\"\")","v":"時間"},"事業所及び\nその事業所",null,{"$f":"請求事業者!B7","v":0},null,null,null,null,{"$f":"利用者情報!J4","v":""},null,{"$f":"IF(F7=\"\",I7,F7)","v":"時間"}]
["利用者負担の有無",null,null,null,null,"利用者の負担割合",null,"利用者負担上限額"]
[{"$f":"VLOOKUP($C$1,利用者情報!A:U,COLUMN(利用者情報!F3),FALSE)","v":0},null,null,null,null,{"$f":"IF(A9=\"有\",\"1割\",\"0割\")","v":"0割"},null,{"$f":"VLOOKUP($C$1,利用者情報!A:U,COLUMN(利用者情報!G3),FALSE)","v":0},null,null,null,null,null,null,null,null,null,null,null,null,null,null,{"$f":"請求事業者!C9","v":5}]
[null,null,null,null,null,null,null,null,null,null,null,null,null,null,null,null,null,null,null,null,null,null,"便宜上区分"]
["日付",null,null,"支援計画",null,null,null,null,"算定\n時間","派遣\n人数","算定額","利用者\n負担額","請求額","サービス\n提供者印","利用者\n確認印",null,"コメント",null,null,"利用者負担額\n累計","上限到達フラグ","上限達成時の利用者負担額",{"$f":"IF(F7=\"\",\"無\",\"有\")","v":"無"}]
["月","日","曜日","開始\n時間","終了\n時間","計画\n時間数","開始\n時間","終了\n時間",null,null,null,null,null,null,null,null,null,"請求額","利用者\n負担額",null,null,null,{"$f":"IF(A9=\"有\",\"（9割）\",\"\")","v":""}]
[{"$f":"IF(B13=\"\",\"\",TEXT(B13,\"m\"))","v":""},null,{"$f":"IF(B13=\"\",\"\",B13)","v":""},null,null,null,null,null,{"$f":"H13-G13","v":0},null,{"$f":"IF($H13=0,0,INDEX(単価,MATCH(W13,時間,0),MATCH($W$9,地域区分,0)))","v":0},{"$f":"IF(U13=0,S13,V13)","v":0},{"$f":"K13-L13","v":0},null,null,1,{"$f":"IF(A13=\"\",\"\",IF($A$13<>A13,\"月が異なります！\",IF(SUM($I$13:I13)>$S$7,\"決定時間数を超過しています！\",\"\")))","v":""},{"$f":"IF(I13=0,0,INDEX(単価,MATCH(W13,時間,0),MATCH(IF(W12=\"\",W9,W9&W12),地域区分,0)))","v":0},{"$f":"K13-R13","v":0},{"$f":"SUM($S$13:S13)","v":0},null,null,{"$f":"IF(I13=0,0,CONCATENATE(VLOOKUP(I13+\"00:01\",'データ '!K:M,3,TRUE),\"/\",$W$11))","v":0}]
[{"$f":"IF(B14=\"\",\"\",TEXT(B14,\"m\"))","v":""},null,{"$f":"IF(B14=\"\",\"\",B14)","v":""},null,null,null,null,null,{"$f":"H14-G14","v":0},null,{"$f":"IF($H14=0,0,INDEX(単価,MATCH(W14,時間,0),MATCH($W$9,地域区分,0)))","v":0},{"$f":"IF(U14=0,S14,V14)","v":0},{"$f":"K14-L14","v":0},null,null,2,{"$f":"IF(A14=\"\",\"\",IF($A$13<>A14,\"月が異なります！\",IF(SUM($I$13:I14)>$S$7,\"決定時間数を超過しています！\",\"\")))","v":""},{"$f":"IF(AND($H14=0),0,IF($A$9=\"有\",INDEX(単価,MATCH(W14,時間,0),MATCH($W$9&$W$12,地域区分,0)),INDEX(単価,MATCH(W14,時間,0),MATCH($W$9,地域区分,0))))","v":0},{"$f":"K14-R14","v":0},{"$f":"SUM($S$13:S14)","v":0},{"$f":"IF(AND(T13<$H$9,T14>$H$9),1,IF(T14>$H$9,2,0))","v":0},{"$f":"IF(U14=1,$H$9-T13,0)","v":0},{"$f":"IF(I14=0,0,CONCATENATE(VLOOKUP(I14+\"00:01\",'データ '!K:M,3,TRUE),\"/\",$W$11))","v":0}]
["",null,"",null,null,null,null,null,0,null,0,{"$f":"IF(U15=0,S15,V15)","v":0},{"$f":"K15-L15","v":0},null,null,3,{"$f":"IF(A15=\"\",\"\",IF($A$13<>A15,\"月が異なります！\",IF(SUM($I$13:I15)>$S$7,\"決定時間数を超過しています！\",\"\")))","v":""},0,0,{"$f":"SUM($S$13:S15)","v":0},{"$f":"IF(AND(T14<$H$9,T15>$H$9),1,IF(T15>$H$9,2,0))","v":0},{"$f":"IF(U15=1,$H$9-T14,0)","v":0},{"$f":"IF(I15=0,0,CONCATENATE(VLOOKUP(I15+\"00:01\",'データ '!K:M,3,TRUE),\"/\",$W$11))","v":0}]
["",null,"",null,null,null,null,null,0,null,0,0,0,null,null,4,{"$f":"IF(A16=\"\",\"\",IF($A$13<>A16,\"月が異なります！\",IF(SUM($I$13:I16)>$S$7,\"決定時間数を超過しています！\",\"\")))","v":""},0,0,{"$f":"SUM($S$13:S16)","v":0},0,0,{"$f":"IF(I16=0,0,CONCATENATE(VLOOKUP(I16+\"00:01\",'データ '!K:M,3,TRUE),\"/\",$W$11))","v":0}]
["",null,"",null,null,null,null,null,0,null,0,0,0,null,null,5,{"$f":"IF(A17=\"\",\"\",IF($A$13<>A17,\"月が異なります！\",IF(SUM($I$13:I17)>$S$7,\"決定時間数を超過しています！\",\"\")))","v":""},0,0,{"$f":"SUM($S$13:S17)","v":0},0,0,{"$f":"IF(I17=0,0,CONCATENATE(VLOOKUP(I17+\"00:01\",'データ '!K:M,3,TRUE),\"/\",$W$11))","v":0}]
["",null,"",null,null,null,null,null,0,null,0,0,0,null,null,6,{"$f":"IF(A18=\"\",\"\",IF($A$13<>A18,\"月が異なります！\",IF(SUM($I$13:I18)>$S$7,\"決定時間数を超過しています！\",\"\")))","v":""},0,0,{"$f":"SUM($S$13:S18)","v":0},0,0,{"$f":"IF(I18=0,0,CONCATENATE(VLOOKUP(I18+\"00:01\",'データ '!K:M,3,TRUE),\"/\",$W$11))","v":0}]
["",null,"",null,null,null,null,null,0,null,0,0,0,null,null,7,{"$f":"IF(A19=\"\",\"\",IF($A$13<>A19,\"月が異なります！\",IF(SUM($I$13:I19)>$S$7,\"決定時間数を超過しています！\",\"\")))","v":""},0,0,{"$f":"SUM($S$13:S19)","v":0},0,0,{"$f":"IF(I19=0,0,CONCATENATE(VLOOKUP(I19+\"00:01\",'データ '!K:M,3,TRUE),\"/\",$W$11))","v":0}]
["",null,"",null,null,null,null,null,0,null,0,0,0,null,null,8,{"$f":"IF(A20=\"\",\"\",IF($A$13<>A20,\"月が異なります！\",IF(SUM($I$13:I20)>$S$7,\"決定時間数を超過しています！\",\"\")))","v":""},0,0,{"$f":"SUM($S$13:S20)","v":0},0,0,{"$f":"IF(I20=0,0,CONCATENATE(VLOOKUP(I20+\"00:01\",'データ '!K:M,3,TRUE),\"/\",$W$11))","v":0}]
["",null,"",null,null,null,null,null,0,null,0,{"$f":"IF(U21=0,S21,V21)","v":0},0,null,null,9,{"$f":"IF(A21=\"\",\"\",IF($A$13<>A21,\"月が異なります！\",IF(SUM($I$13:I21)>$S$7,\"決定時間数を超過しています！\",\"\")))","v":""},0,0,{"$f":"SUM($S$13:S21)","v":0},0,0,{"$f":"IF(I21=0,0,CONCATENATE(VLOOKUP(I21+\"00:01\",'データ '!K:M,3,TRUE),\"/\",$W$11))","v":0}]
["",null,"",null,null,null,null,null,0,null,0,{"$f":"IF(U22=0,S22,V22)","v":0},0,null,null,10,{"$f":"IF(A22=\"\",\"\",IF($A$13<>A22,\"月が異なります！\",IF(SUM($I$13:I22)>$S$7,\"決定時間数を超過しています！\",\"\")))","v":""},0,{"$f":"K22-R22","v":0},{"$f":"SUM($S$13:S22)","v":0},0,0,{"$f":"IF(I22=0,0,CONCATENATE(VLOOKUP(I22+\"00:01\",'データ '!K:M,3,TRUE),\"/\",$W$11))","v":0}]
["",null,"",null,null,null,null,null,0,null,0,0,0,null,null,11,{"$f":"IF(A23=\"\",\"\",IF($A$13<>A23,\"月が異なります！\",IF(SUM($I$13:I23)>$S$7,\"決定時間数を超過しています！\",\"\")))","v":""},0,0,{"$f":"SUM($S$13:S23)","v":0},0,0,{"$f":"IF(I23=0,0,CONCATENATE(VLOOKUP(I23+\"00:01\",'データ '!K:M,3,TRUE),\"/\",$W$11))","v":0}]
["",null,"",null,null,null,null,null,0,null,0,0,0,null,null,12,{"$f":"IF(A24=\"\",\"\",IF($A$13<>A24,\"月が異なります！\",IF(SUM($I$13:I24)>$S$7,\"決定時間数を超過しています！\",\"\")))","v":""},0,0,{"$f":"SUM($S$13:S24)","v":0},0,0,{"$f":"IF(I24=0,0,CONCATENATE(VLOOKUP(I24+\"00:01\",'データ '!K:M,3,TRUE),\"/\",$W$11))","v":0}]
["",null,"",null,null,null,null,null,0,null,0,0,0,null,null,13,{"$f":"IF(A25=\"\",\"\",IF($A$13<>A25,\"月が異なります！\",IF(SUM($I$13:I25)>$S$7,\"決定時間数を超過しています！\",\"\")))","v":""},0,0,{"$f":"SUM($S$13:S25)","v":0},0,0,{"$f":"IF(I25=0,0,CONCATENATE(VLOOKUP(I25+\"00:01\",'データ '!K:M,3,TRUE),\"/\",$W$11))","v":0}]
["",null,"",null,null,null,null,null,0,null,0,0,0,null,null,14,{"$f":"IF(A26=\"\",\"\",IF($A$13<>A26,\"月が異なります！\",IF(SUM($I$13:I26)>$S$7,\"決定時間数を超過しています！\",\"\")))","v":""},0,0,{"$f":"SUM($S$13:S26)","v":0},0,0,{"$f":"IF(I26=0,0,CONCATENATE(VLOOKUP(I26+\"00:01\",'データ '!K:M,3,TRUE),\"/\",$W$11))","v":0}]
["",null,"",null,null,null,null,null,0,null,0,0,0,null,null,15,{"$f":"IF(A27=\"\",\"\",IF($A$13<>A27,\"月が異なります！\",IF(SUM($I$13:I27)>$S$7,\"決定時間数を超過しています！\",\"\")))","v":""},0,0,{"$f":"SUM($S$13:S27)","v":0},0,0,{"$f":"IF(I27=0,0,CONCATENATE(VLOOKUP(I27+\"00:01\",'データ '!K:M,3,TRUE),\"/\",$W$11))","v":0}]
["",null,"",null,null,null,null,null,0,null,0,0,0,null,null,16,{"$f":"IF(A28=\"\",\"\",IF($A$13<>A28,\"月が異なります！\",IF(SUM($I$13:I28)>$S$7,\"決定時間数を超過しています！\",\"\")))","v":""},0,0,{"$f":"SUM($S$13:S28)","v":0},0,0,{"$f":"IF(I28=0,0,CONCATENATE(VLOOKUP(I28+\"00:01\",'データ '!K:M,3,TRUE),\"/\",$W$11))","v":0}]
["",null,"",null,null,null,null,null,0,null,0,0,0,null,null,17,{"$f":"IF(A29=\"\",\"\",IF($A$13<>A29,\"月が異なります！\",IF(SUM($I$13:I29)>$S$7,\"決定時間数を超過しています！\",\"\")))","v":""},0,0,{"$f":"SUM($S$13:S29)","v":0},0,0,{"$f":"IF(I29=0,0,CONCATENATE(VLOOKUP(I29+\"00:01\",'データ '!K:M,3,TRUE),\"/\",$W$11))","v":0}]
["",null,"",null,null,null,null,null,0,null,0,0,0,null,null,18,{"$f":"IF(A30=\"\",\"\",IF($A$13<>A30,\"月が異なります！\",IF(SUM($I$13:I30)>$S$7,\"決定時間数を超過しています！\",\"\")))","v":""},0,0,{"$f":"SUM($S$13:S30)","v":0},0,0,{"$f":"IF(I30=0,0,CONCATENATE(VLOOKUP(I30+\"00:01\",'データ '!K:M,3,TRUE),\"/\",$W$11))","v":0}]
["",null,"",null,null,null,null,null,0,null,0,0,0,null,null,19,{"$f":"IF(A31=\"\",\"\",IF($A$13<>A31,\"月が異なります！\",IF(SUM($I$13:I31)>$S$7,\"決定時間数を超過しています！\",\"\")))","v":""},0,0,{"$f":"SUM($S$13:S31)","v":0},0,0,{"$f":"IF(I31=0,0,CONCATENATE(VLOOKUP(I31+\"00:01\",'データ '!K:M,3,TRUE),\"/\",$W$11))","v":0}]
["",null,"",null,null,null,null,null,0,null,0,0,0,null,null,20,{"$f":"IF(A32=\"\",\"\",IF($A$13<>A32,\"月が異なります！\",IF(SUM($I$13:I32)>$S$7,\"決定時間数を超過しています！\",\"\")))","v":""},0,0,{"$f":"SUM($S$13:S32)","v":0},0,0,{"$f":"IF(I32=0,0,CONCATENATE(VLOOKUP(I32+\"00:01\",'データ '!K:M,3,TRUE),\"/\",$W$11))","v":0}]
["",null,"",null,null,null,null,null,0,null,0,0,0,null,null,21,{"$f":"IF(A33=\"\",\"\",IF($A$13<>A33,\"月が異なります！\",IF(SUM($I$13:I33)>$S$7,\"決定時間数を超過しています！\",\"\")))","v":""},0,0,{"$f":"SUM($S$13:S33)","v":0},0,0,{"$f":"IF(I33=0,0,CONCATENATE(VLOOKUP(I33+\"00:01\",'データ '!K:M,3,TRUE),\"/\",$W$11))","v":0}]
["",null,"",null,null,null,null,null,0,null,0,0,0,null,null,22,{"$f":"IF(A34=\"\",\"\",IF($A$13<>A34,\"月が異なります！\",IF(SUM($I$13:I34)>$S$7,\"決定時間数を超過しています！\",\"\")))","v":""},0,0,{"$f":"SUM($S$13:S34)","v":0},0,0,{"$f":"IF(I34=0,0,CONCATENATE(VLOOKUP(I34+\"00:01\",'データ '!K:M,3,TRUE),\"/\",$W$11))","v":0}]
["",null,"",null,null,null,null,null,0,null,0,0,0,null,null,23,{"$f":"IF(A35=\"\",\"\",IF($A$13<>A35,\"月が異なります！\",IF(SUM($I$13:I35)>$S$7,\"決定時間数を超過しています！\",\"\")))","v":""},0,0,{"$f":"SUM($S$13:S35)","v":0},0,0,{"$f":"IF(I35=0,0,CONCATENATE(VLOOKUP(I35+\"00:01\",'データ '!K:M,3,TRUE),\"/\",$W$11))","v":0}]
["",null,"",null,null,null,null,null,0,null,0,0,0,null,null,24,{"$f":"IF(A36=\"\",\"\",IF($A$13<>A36,\"月が異なります！\",IF(SUM($I$13:I36)>$S$7,\"決定時間数を超過しています！\",\"\")))","v":""},0,0,{"$f":"SUM($S$13:S36)","v":0},0,0,{"$f":"IF(I36=0,0,CONCATENATE(VLOOKUP(I36+\"00:01\",'データ '!K:M,3,TRUE),\"/\",$W$11))","v":0}]
["",null,"",null,null,null,null,null,0,null,0,0,0,null,null,25,{"$f":"IF(A37=\"\",\"\",IF($A$13<>A37,\"月が異なります！\",IF(SUM($I$13:I37)>$S$7,\"決定時間数を超過しています！\",\"\")))","v":""},0,0,{"$f":"SUM($S$13:S37)","v":0},0,0,{"$f":"IF(I37=0,0,CONCATENATE(VLOOKUP(I37+\"00:01\",'データ '!K:M,3,TRUE),\"/\",$W$11))","v":0}]
["",null,"",null,null,null,null,null,0,null,0,0,0,null,null,26,{"$f":"IF(A38=\"\",\"\",IF($A$13<>A38,\"月が異なります！\",IF(SUM($I$13:I38)>$S$7,\"決定時間数を超過しています！\",\"\")))","v":""},0,0,{"$f":"SUM($S$13:S38)","v":0},0,0,{"$f":"IF(I38=0,0,CONCATENATE(VLOOKUP(I38+\"00:01\",'データ '!K:M,3,TRUE),\"/\",$W$11))","v":0}]
["",null,"",null,null,null,null,null,0,null,0,0,0,null,null,27,{"$f":"IF(A39=\"\",\"\",IF($A$13<>A39,\"月が異なります！\",IF(SUM($I$13:I39)>$S$7,\"決定時間数を超過しています！\",\"\")))","v":""},0,0,{"$f":"SUM($S$13:S39)","v":0},0,0,{"$f":"IF(I39=0,0,CONCATENATE(VLOOKUP(I39+\"00:01\",'データ '!K:M,3,TRUE),\"/\",$W$11))","v":0}]
["",null,"",null,null,null,null,null,0,null,0,0,0,null,null,28,{"$f":"IF(A40=\"\",\"\",IF($A$13<>A40,\"月が異なります！\",IF(SUM($I$13:I40)>$S$7,\"決定時間数を超過しています！\",\"\")))","v":""},0,0,{"$f":"SUM($S$13:S40)","v":0},0,0,{"$f":"IF(I40=0,0,CONCATENATE(VLOOKUP(I40+\"00:01\",'データ '!K:M,3,TRUE),\"/\",$W$11))","v":0}]
["",null,"",null,null,null,null,null,0,null,0,0,0,null,null,29,{"$f":"IF(A41=\"\",\"\",IF($A$13<>A41,\"月が異なります！\",IF(SUM($I$13:I41)>$S$7,\"決定時間数を超過しています！\",\"\")))","v":""},0,0,{"$f":"SUM($S$13:S41)","v":0},0,0,{"$f":"IF(I41=0,0,CONCATENATE(VLOOKUP(I41+\"00:01\",'データ '!K:M,3,TRUE),\"/\",$W$11))","v":0}]
["",null,"",null,null,null,null,null,0,null,0,0,0,null,null,30,{"$f":"IF(A42=\"\",\"\",IF($A$13<>A42,\"月が異なります！\",IF(SUM($I$13:I42)>$S$7,\"決定時間数を超過しています！\",\"\")))","v":""},0,0,{"$f":"SUM($S$13:S42)","v":0},0,0,{"$f":"IF(I42=0,0,CONCATENATE(VLOOKUP(I42+\"00:01\",'データ '!K:M,3,TRUE),\"/\",$W$11))","v":0}]
["",null,"",null,null,null,null,null,0,null,0,0,0,null,null,31,{"$f":"IF(A43=\"\",\"\",IF($A$13<>A43,\"月が異なります！\",IF(SUM($I$13:I43)>$S$7,\"決定時間数を超過しています！\",\"\")))","v":""},0,0,{"$f":"SUM($S$13:S43)","v":0},0,0,{"$f":"IF(I43=0,0,CONCATENATE(VLOOKUP(I43+\"00:01\",'データ '!K:M,3,TRUE),\"/\",$W$11))","v":0}]
["合計",null,null,null,null,null,null,null,{"$f":"SUM(I13:I43)","v":0},null,{"$f":"SUM(K13:K43)","v":0},{"$f":"SUM(L13:L43)","v":0},{"$f":"SUM(M13:M43)","v":0},null,null,null,null,null,null,null,null,null,{"$f":"IF(I44>=$X$8,$Y$9,IF(AND(I44<$X$8,I44>=$X$7),$Y$8,IF(I44<$X$7,$Y$7)))&$W$11","v":"無"}]

{"sheet":"3","index":8,"n_rows":44,"n_cols":23,"rows_kept":44,"cut":false,"hidden":false,"merged":[[10,19,11,19],[10,20,11,20],[10,21,11,21],[43,0,43,7],[10,9,11,9],[10,10,11,10],[10,11,11,11],[10,12,11,12],[10,13,11,13],[10,14,11,14],[10,0,10,2],[10,3,10,5],[10,6,10,7],[10,8,11,8],[10,16,11,16],[6,16,8,16],[7,0,7,4],[7,5,7,6],[7,7,7,8],[8,0,8,4],[6,0,6,2],[6,3,6,4],[6,6,6,7],[6,9,8,10],[6,11,8,14],[8,5,8,6],[8,7,8,8],[4,11,4,14],[5,11,5,14],[3,1,3,4],[4,0,5,2],[4,3,5,5],[4,6,5,7],[4,8,5,10],[3,5,3,14]]}
[null,"№",3]
[]
[]
[null,{"$f":"EOMONTH(B13,0)","v":"1900-01-31"},null,null,null,"鎌ケ谷市移動支援サービス提供実績記録票"]
["登録番号",null,null,{"$f":"VLOOKUP($C$1,利用者情報!A:U,COLUMN(利用者情報!B3),FALSE)","v":0},null,null,"支給決定障がい者等氏名\n（児童氏名）",null,{"$f":"VLOOKUP($C$1,利用者情報!A:U,COLUMN(利用者情報!C1),FALSE)","v":0},null,null,"事業所登録番号"]
[null,null,null,null,null,null,null,null,null,null,null,{"$f":"請求事業者!B3","v":0},null,null,null,null,"コメント",null,"決定時間数"]
["契約支給量",null,null,"身体介護を\n伴う",null,{"$f":"IF(VLOOKUP(C1,利用者情報!A:G,5)=\"有\",CONCATENATE(VLOOKUP(C1,利用者情報!A:G,4)&\"時間\"),\"\")","v":""},"身体介護を\n伴わない",null,{"$f":"IF(VLOOKUP(C1,利用者情報!A:G,5)<>\"有\",CONCATENATE(VLOOKUP(C1,利用者情報!A:G,4)&\"時間\"),\"\")","v":"時間"},"事業所及び\nその事業所",null,{"$f":"請求事業者!B7","v":0},null,null,null,null,{"$f":"利用者情報!J4","v":""},null,{"$f":"IF(F7=\"\",I7,F7)","v":"時間"}]
["利用者負担の有無",null,null,null,null,"利用者の負担割合",null,"利用者負担上限額"]
[{"$f":"VLOOKUP($C$1,利用者情報!A:U,COLUMN(利用者情報!F3),FALSE)","v":0},null,null,null,null,{"$f":"IF(A9=\"有\",\"1割\",\"0割\")","v":"0割"},null,{"$f":"VLOOKUP($C$1,利用者情報!A:U,COLUMN(利用者情報!G3),FALSE)","v":0},null,null,null,null,null,null,null,null,null,null,null,null,null,null,{"$f":"請求事業者!C9","v":5}]
[null,null,null,null,null,null,null,null,null,null,null,null,null,null,null,null,null,null,null,null,null,null,"便宜上区分"]
["日付",null,null,"支援計画",null,null,null,null,"算定\n時間","派遣\n人数","算定額","利用者\n負担額","請求額","サービス\n提供者印","利用者\n確認印",null,"コメント",null,null,"利用者負担額\n累計","上限到達フラグ","上限達成時の利用者負担額",{"$f":"IF(F7=\"\",\"無\",\"有\")","v":"無"}]
["月","日","曜日","開始\n時間","終了\n時間","計画\n時間数","開始\n時間","終了\n時間",null,null,null,null,null,null,null,null,null,"請求額","利用者\n負担額",null,null,null,{"$f":"IF(A9=\"有\",\"（9割）\",\"\")","v":""}]
[{"$f":"IF(B13=\"\",\"\",TEXT(B13,\"m\"))","v":""},null,{"$f":"IF(B13=\"\",\"\",B13)","v":""},null,null,null,null,null,{"$f":"H13-G13","v":0},null,{"$f":"IF($H13=0,0,INDEX(単価,MATCH(W13,時間,0),MATCH($W$9,地域区分,0)))","v":0},{"$f":"IF(U13=0,S13,V13)","v":0},{"$f":"K13-L13","v":0},null,null,1,{"$f":"IF(A13=\"\",\"\",IF($A$13<>A13,\"月が異なります！\",IF(SUM($I$13:I13)>$S$7,\"決定時間数を超過しています！\",\"\")))","v":""},{"$f":"IF(I13=0,0,INDEX(単価,MATCH(W13,時間,0),MATCH(IF(W12=\"\",W9,W9&W12),地域区分,0)))","v":0},{"$f":"K13-R13","v":0},{"$f":"SUM($S$13:S13)","v":0},null,null,{"$f":"IF(I13=0,0,CONCATENATE(VLOOKUP(I13+\"00:01\",'データ '!K:M,3,TRUE),\"/\",$W$11))","v":0}]
[{"$f":"IF(B14=\"\",\"\",TEXT(B14,\"m\"))","v":""},null,{"$f":"IF(B14=\"\",\"\",B14)","v":""},null,null,null,null,null,{"$f":"H14-G14","v":0},null,{"$f":"IF($H14=0,0,INDEX(単価,MATCH(W14,時間,0),MATCH($W$9,地域区分,0)))","v":0},{"$f":"IF(U14=0,S14,V14)","v":0},{"$f":"K14-L14","v":0},null,null,2,{"$f":"IF(A14=\"\",\"\",IF($A$13<>A14,\"月が異なります！\",IF(SUM($I$13:I14)>$S$7,\"決定時間数を超過しています！\",\"\")))","v":""},{"$f":"IF(AND($H14=0),0,IF($A$9=\"有\",INDEX(単価,MATCH(W14,時間,0),MATCH($W$9&$W$12,地域区分,0)),INDEX(単価,MATCH(W14,時間,0),MATCH($W$9,地域区分,0))))","v":0},{"$f":"K14-R14","v":0},{"$f":"SUM($S$13:S14)","v":0},{"$f":"IF(AND(T13<$H$9,T14>$H$9),1,IF(T14>$H$9,2,0))","v":0},{"$f":"IF(U14=1,$H$9-T13,0)","v":0},{"$f":"IF(I14=0,0,CONCATENATE(VLOOKUP(I14+\"00:01\",'データ '!K:M,3,TRUE),\"/\",$W$11))","v":0}]
["",null,"",null,null,null,null,null,0,null,0,{"$f":"IF(U15=0,S15,V15)","v":0},{"$f":"K15-L15","v":0},null,null,3,{"$f":"IF(A15=\"\",\"\",IF($A$13<>A15,\"月が異なります！\",IF(SUM($I$13:I15)>$S$7,\"決定時間数を超過しています！\",\"\")))","v":""},0,0,{"$f":"SUM($S$13:S15)","v":0},{"$f":"IF(AND(T14<$H$9,T15>$H$9),1,IF(T15>$H$9,2,0))","v":0},{"$f":"IF(U15=1,$H$9-T14,0)","v":0},{"$f":"IF(I15=0,0,CONCATENATE(VLOOKUP(I15+\"00:01\",'データ '!K:M,3,TRUE),\"/\",$W$11))","v":0}]
["",null,"",null,null,null,null,null,0,null,0,0,0,null,null,4,{"$f":"IF(A16=\"\",\"\",IF($A$13<>A16,\"月が異なります！\",IF(SUM($I$13:I16)>$S$7,\"決定時間数を超過しています！\",\"\")))","v":""},0,0,{"$f":"SUM($S$13:S16)","v":0},0,0,{"$f":"IF(I16=0,0,CONCATENATE(VLOOKUP(I16+\"00:01\",'データ '!K:M,3,TRUE),\"/\",$W$11))","v":0}]
["",null,"",null,null,null,null,null,0,null,0,0,0,null,null,5,{"$f":"IF(A17=\"\",\"\",IF($A$13<>A17,\"月が異なります！\",IF(SUM($I$13:I17)>$S$7,\"決定時間数を超過しています！\",\"\")))","v":""},0,0,{"$f":"SUM($S$13:S17)","v":0},0,0,{"$f":"IF(I17=0,0,CONCATENATE(VLOOKUP(I17+\"00:01\",'データ '!K:M,3,TRUE),\"/\",$W$11))","v":0}]
["",null,"",null,null,null,null,null,0,null,0,0,0,null,null,6,{"$f":"IF(A18=\"\",\"\",IF($A$13<>A18,\"月が異なります！\",IF(SUM($I$13:I18)>$S$7,\"決定時間数を超過しています！\",\"\")))","v":""},0,0,{"$f":"SUM($S$13:S18)","v":0},0,0,{"$f":"IF(I18=0,0,CONCATENATE(VLOOKUP(I18+\"00:01\",'データ '!K:M,3,TRUE),\"/\",$W$11))","v":0}]
["",null,"",null,null,null,null,null,0,null,0,0,0,null,null,7,{"$f":"IF(A19=\"\",\"\",IF($A$13<>A19,\"月が異なります！\",IF(SUM($I$13:I19)>$S$7,\"決定時間数を超過しています！\",\"\")))","v":""},0,0,{"$f":"SUM($S$13:S19)","v":0},0,0,{"$f":"IF(I19=0,0,CONCATENATE(VLOOKUP(I19+\"00:01\",'データ '!K:M,3,TRUE),\"/\",$W$11))","v":0}]
["",null,"",null,null,null,null,null,0,null,0,0,0,null,null,8,{"$f":"IF(A20=\"\",\"\",IF($A$13<>A20,\"月が異なります！\",IF(SUM($I$13:I20)>$S$7,\"決定時間数を超過しています！\",\"\")))","v":""},0,0,{"$f":"SUM($S$13:S20)","v":0},0,0,{"$f":"IF(I20=0,0,CONCATENATE(VLOOKUP(I20+\"00:01\",'データ '!K:M,3,TRUE),\"/\",$W$11))","v":0}]
["",null,"",null,null,null,null,null,0,null,0,{"$f":"IF(U21=0,S21,V21)","v":0},0,null,null,9,{"$f":"IF(A21=\"\",\"\",IF($A$13<>A21,\"月が異なります！\",IF(SUM($I$13:I21)>$S$7,\"決定時間数を超過しています！\",\"\")))","v":""},0,0,{"$f":"SUM($S$13:S21)","v":0},0,0,{"$f":"IF(I21=0,0,CONCATENATE(VLOOKUP(I21+\"00:01\",'データ '!K:M,3,TRUE),\"/\",$W$11))","v":0}]
["",null,"",null,null,null,null,null,0,null,0,{"$f":"IF(U22=0,S22,V22)","v":0},0,null,null,10,{"$f":"IF(A22=\"\",\"\",IF($A$13<>A22,\"月が異なります！\",IF(SUM($I$13:I22)>$S$7,\"決定時間数を超過しています！\",\"\")))","v":""},0,{"$f":"K22-R22","v":0},{"$f":"SUM($S$13:S22)","v":0},0,0,{"$f":"IF(I22=0,0,CONCATENATE(VLOOKUP(I22+\"00:01\",'データ '!K:M,3,TRUE),\"/\",$W$11))","v":0}]
["",null,"",null,null,null,null,null,0,null,0,0,0,null,null,11,{"$f":"IF(A23=\"\",\"\",IF($A$13<>A23,\"月が異なります！\",IF(SUM($I$13:I23)>$S$7,\"決定時間数を超過しています！\",\"\")))","v":""},0,0,{"$f":"SUM($S$13:S23)","v":0},0,0,{"$f":"IF(I23=0,0,CONCATENATE(VLOOKUP(I23+\"00:01\",'データ '!K:M,3,TRUE),\"/\",$W$11))","v":0}]
["",null,"",null,null,null,null,null,0,null,0,0,0,null,null,12,{"$f":"IF(A24=\"\",\"\",IF($A$13<>A24,\"月が異なります！\",IF(SUM($I$13:I24)>$S$7,\"決定時間数を超過しています！\",\"\")))","v":""},0,0,{"$f":"SUM($S$13:S24)","v":0},0,0,{"$f":"IF(I24=0,0,CONCATENATE(VLOOKUP(I24+\"00:01\",'データ '!K:M,3,TRUE),\"/\",$W$11))","v":0}]
["",null,"",null,null,null,null,null,0,null,0,0,0,null,null,13,{"$f":"IF(A25=\"\",\"\",IF($A$13<>A25,\"月が異なります！\",IF(SUM($I$13:I25)>$S$7,\"決定時間数を超過しています！\",\"\")))","v":""},0,0,{"$f":"SUM($S$13:S25)","v":0},0,0,{"$f":"IF(I25=0,0,CONCATENATE(VLOOKUP(I25+\"00:01\",'データ '!K:M,3,TRUE),\"/\",$W$11))","v":0}]
["",null,"",null,null,null,null,null,0,null,0,0,0,null,null,14,{"$f":"IF(A26=\"\",\"\",IF($A$13<>A26,\"月が異なります！\",IF(SUM($I$13:I26)>$S$7,\"決定時間数を超過しています！\",\"\")))","v":""},0,0,{"$f":"SUM($S$13:S26)","v":0},0,0,{"$f":"IF(I26=0,0,CONCATENATE(VLOOKUP(I26+\"00:01\",'データ '!K:M,3,TRUE),\"/\",$W$11))","v":0}]
["",null,"",null,null,null,null,null,0,null,0,0,0,null,null,15,{"$f":"IF(A27=\"\",\"\",IF($A$13<>A27,\"月が異なります！\",IF(SUM($I$13:I27)>$S$7,\"決定時間数を超過しています！\",\"\")))","v":""},0,0,{"$f":"SUM($S$13:S27)","v":0},0,0,{"$f":"IF(I27=0,0,CONCATENATE(VLOOKUP(I27+\"00:01\",'データ '!K:M,3,TRUE),\"/\",$W$11))","v":0}]
["",null,"",null,null,null,null,null,0,null,0,0,0,null,null,16,{"$f":"IF(A28=\"\",\"\",IF($A$13<>A28,\"月が異なります！\",IF(SUM($I$13:I28)>$S$7,\"決定時間数を超過しています！\",\"\")))","v":""},0,0,{"$f":"SUM($S$13:S28)","v":0},0,0,{"$f":"IF(I28=0,0,CONCATENATE(VLOOKUP(I28+\"00:01\",'データ '!K:M,3,TRUE),\"/\",$W$11))","v":0}]
["",null,"",null,null,null,null,null,0,null,0,0,0,null,null,17,{"$f":"IF(A29=\"\",\"\",IF($A$13<>A29,\"月が異なります！\",IF(SUM($I$13:I29)>$S$7,\"決定時間数を超過しています！\",\"\")))","v":""},0,0,{"$f":"SUM($S$13:S29)","v":0},0,0,{"$f":"IF(I29=0,0,CONCATENATE(VLOOKUP(I29+\"00:01\",'データ '!K:M,3,TRUE),\"/\",$W$11))","v":0}]
["",null,"",null,null,null,null,null,0,null,0,0,0,null,null,18,{"$f":"IF(A30=\"\",\"\",IF($A$13<>A30,\"月が異なります！\",IF(SUM($I$13:I30)>$S$7,\"決定時間数を超過しています！\",\"\")))","v":""},0,0,{"$f":"SUM($S$13:S30)","v":0},0,0,{"$f":"IF(I30=0,0,CONCATENATE(VLOOKUP(I30+\"00:01\",'データ '!K:M,3,TRUE),\"/\",$W$11))","v":0}]
["",null,"",null,null,null,null,null,0,null,0,0,0,null,null,19,{"$f":"IF(A31=\"\",\"\",IF($A$13<>A31,\"月が異なります！\",IF(SUM($I$13:I31)>$S$7,\"決定時間数を超過しています！\",\"\")))","v":""},0,0,{"$f":"SUM($S$13:S31)","v":0},0,0,{"$f":"IF(I31=0,0,CONCATENATE(VLOOKUP(I31+\"00:01\",'データ '!K:M,3,TRUE),\"/\",$W$11))","v":0}]
["",null,"",null,null,null,null,null,0,null,0,0,0,null,null,20,{"$f":"IF(A32=\"\",\"\",IF($A$13<>A32,\"月が異なります！\",IF(SUM($I$13:I32)>$S$7,\"決定時間数を超過しています！\",\"\")))","v":""},0,0,{"$f":"SUM($S$13:S32)","v":0},0,0,{"$f":"IF(I32=0,0,CONCATENATE(VLOOKUP(I32+\"00:01\",'データ '!K:M,3,TRUE),\"/\",$W$11))","v":0}]
["",null,"",null,null,null,null,null,0,null,0,0,0,null,null,21,{"$f":"IF(A33=\"\",\"\",IF($A$13<>A33,\"月が異なります！\",IF(SUM($I$13:I33)>$S$7,\"決定時間数を超過しています！\",\"\")))","v":""},0,0,{"$f":"SUM($S$13:S33)","v":0},0,0,{"$f":"IF(I33=0,0,CONCATENATE(VLOOKUP(I33+\"00:01\",'データ '!K:M,3,TRUE),\"/\",$W$11))","v":0}]
["",null,"",null,null,null,null,null,0,null,0,0,0,null,null,22,{"$f":"IF(A34=\"\",\"\",IF($A$13<>A34,\"月が異なります！\",IF(SUM($I$13:I34)>$S$7,\"決定時間数を超過しています！\",\"\")))","v":""},0,0,{"$f":"SUM($S$13:S34)","v":0},0,0,{"$f":"IF(I34=0,0,CONCATENATE(VLOOKUP(I34+\"00:01\",'データ '!K:M,3,TRUE),\"/\",$W$11))","v":0}]
["",null,"",null,null,null,null,null,0,null,0,0,0,null,null,23,{"$f":"IF(A35=\"\",\"\",IF($A$13<>A35,\"月が異なります！\",IF(SUM($I$13:I35)>$S$7,\"決定時間数を超過しています！\",\"\")))","v":""},0,0,{"$f":"SUM($S$13:S35)","v":0},0,0,{"$f":"IF(I35=0,0,CONCATENATE(VLOOKUP(I35+\"00:01\",'データ '!K:M,3,TRUE),\"/\",$W$11))","v":0}]
["",null,"",null,null,null,null,null,0,null,0,0,0,null,null,24,{"$f":"IF(A36=\"\",\"\",IF($A$13<>A36,\"月が異なります！\",IF(SUM($I$13:I36)>$S$7,\"決定時間数を超過しています！\",\"\")))","v":""},0,0,{"$f":"SUM($S$13:S36)","v":0},0,0,{"$f":"IF(I36=0,0,CONCATENATE(VLOOKUP(I36+\"00:01\",'データ '!K:M,3,TRUE),\"/\",$W$11))","v":0}]
["",null,"",null,null,null,null,null,0,null,0,0,0,null,null,25,{"$f":"IF(A37=\"\",\"\",IF($A$13<>A37,\"月が異なります！\",IF(SUM($I$13:I37)>$S$7,\"決定時間数を超過しています！\",\"\")))","v":""},0,0,{"$f":"SUM($S$13:S37)","v":0},0,0,{"$f":"IF(I37=0,0,CONCATENATE(VLOOKUP(I37+\"00:01\",'データ '!K:M,3,TRUE),\"/\",$W$11))","v":0}]
["",null,"",null,null,null,null,null,0,null,0,0,0,null,null,26,{"$f":"IF(A38=\"\",\"\",IF($A$13<>A38,\"月が異なります！\",IF(SUM($I$13:I38)>$S$7,\"決定時間数を超過しています！\",\"\")))","v":""},0,0,{"$f":"SUM($S$13:S38)","v":0},0,0,{"$f":"IF(I38=0,0,CONCATENATE(VLOOKUP(I38+\"00:01\",'データ '!K:M,3,TRUE),\"/\",$W$11))","v":0}]
["",null,"",null,null,null,null,null,0,null,0,0,0,null,null,27,{"$f":"IF(A39=\"\",\"\",IF($A$13<>A39,\"月が異なります！\",IF(SUM($I$13:I39)>$S$7,\"決定時間数を超過しています！\",\"\")))","v":""},0,0,{"$f":"SUM($S$13:S39)","v":0},0,0,{"$f":"IF(I39=0,0,CONCATENATE(VLOOKUP(I39+\"00:01\",'データ '!K:M,3,TRUE),\"/\",$W$11))","v":0}]
["",null,"",null,null,null,null,null,0,null,0,0,0,null,null,28,{"$f":"IF(A40=\"\",\"\",IF($A$13<>A40,\"月が異なります！\",IF(SUM($I$13:I40)>$S$7,\"決定時間数を超過しています！\",\"\")))","v":""},0,0,{"$f":"SUM($S$13:S40)","v":0},0,0,{"$f":"IF(I40=0,0,CONCATENATE(VLOOKUP(I40+\"00:01\",'データ '!K:M,3,TRUE),\"/\",$W$11))","v":0}]
["",null,"",null,null,null,null,null,0,null,0,0,0,null,null,29,{"$f":"IF(A41=\"\",\"\",IF($A$13<>A41,\"月が異なります！\",IF(SUM($I$13:I41)>$S$7,\"決定時間数を超過しています！\",\"\")))","v":""},0,0,{"$f":"SUM($S$13:S41)","v":0},0,0,{"$f":"IF(I41=0,0,CONCATENATE(VLOOKUP(I41+\"00:01\",'データ '!K:M,3,TRUE),\"/\",$W$11))","v":0}]
["",null,"",null,null,null,null,null,0,null,0,0,0,null,null,30,{"$f":"IF(A42=\"\",\"\",IF($A$13<>A42,\"月が異なります！\",IF(SUM($I$13:I42)>$S$7,\"決定時間数を超過しています！\",\"\")))","v":""},0,0,{"$f":"SUM($S$13:S42)","v":0},0,0,{"$f":"IF(I42=0,0,CONCATENATE(VLOOKUP(I42+\"00:01\",'データ '!K:M,3,TRUE),\"/\",$W$11))","v":0}]
["",null,"",null,null,null,null,null,0,null,0,0,0,null,null,31,{"$f":"IF(A43=\"\",\"\",IF($A$13<>A43,\"月が異なります！\",IF(SUM($I$13:I43)>$S$7,\"決定時間数を超過しています！\",\"\")))","v":""},0,0,{"$f":"SUM($S$13:S43)","v":0},0,0,{"$f":"IF(I43=0,0,CONCATENATE(VLOOKUP(I43+\"00:01\",'データ '!K:M,3,TRUE),\"/\",$W$11))","v":0}]
["合計",null,null,null,null,null,null,null,{"$f":"SUM(I13:I43)","v":0},null,{"$f":"SUM(K13:K43)","v":0},{"$f":"SUM(L13:L43)","v":0},{"$f":"SUM(M13:M43)","v":0},null,null,null,null,null,null,null,null,null,{"$f":"IF(I44>=$X$8,$Y$9,IF(AND(I44<$X$8,I44>=$X$7),$Y$8,IF(I44<$X$7,$Y$7)))&$W$11","v":"無"}]

{"sheet":"4","index":9,"n_rows":44,"n_cols":23,"rows_kept":44,"cut":false,"hidden":false,"merged":[[10,19,11,19],[10,20,11,20],[10,21,11,21],[43,0,43,7],[10,9,11,9],[10,10,11,10],[10,11,11,11],[10,12,11,12],[10,13,11,13],[10,14,11,14],[10,0,10,2],[10,3,10,5],[10,6,10,7],[10,8,11,8],[10,16,11,16],[6,16,8,16],[7,0,7,4],[7,5,7,6],[7,7,7,8],[8,0,8,4],[6,0,6,2],[6,3,6,4],[6,6,6,7],[6,9,8,10],[6,11,8,14],[8,5,8,6],[8,7,8,8],[4,11,4,14],[5,11,5,14],[3,1,3,4],[4,0,5,2],[4,3,5,5],[4,6,5,7],[4,8,5,10],[3,5,3,14]]}
[null,"№",4]
[]
[]
[null,{"$f":"EOMONTH(B13,0)","v":"1900-01-31"},null,null,null,"鎌ケ谷市移動支援サービス提供実績記録票"]
["登録番号",null,null,{"$f":"VLOOKUP($C$1,利用者情報!A:U,COLUMN(利用者情報!B3),FALSE)","v":0},null,null,"支給決定障がい者等氏名\n（児童氏名）",null,{"$f":"VLOOKUP($C$1,利用者情報!A:U,COLUMN(利用者情報!C1),FALSE)","v":0},null,null,"事業所登録番号"]
[null,null,null,null,null,null,null,null,null,null,null,{"$f":"請求事業者!B3","v":0},null,null,null,null,"コメント",null,"決定時間数"]
["契約支給量",null,null,"身体介護を\n伴う",null,{"$f":"IF(VLOOKUP(C1,利用者情報!A:G,5)=\"有\",CONCATENATE(VLOOKUP(C1,利用者情報!A:G,4)&\"時間\"),\"\")","v":""},"身体介護を\n伴わない",null,{"$f":"IF(VLOOKUP(C1,利用者情報!A:G,5)<>\"有\",CONCATENATE(VLOOKUP(C1,利用者情報!A:G,4)&\"時間\"),\"\")","v":"時間"},"事業所及び\nその事業所",null,{"$f":"請求事業者!B7","v":0},null,null,null,null,{"$f":"利用者情報!J4","v":""},null,{"$f":"IF(F7=\"\",I7,F7)","v":"時間"}]
["利用者負担の有無",null,null,null,null,"利用者の負担割合",null,"利用者負担上限額"]
[{"$f":"VLOOKUP($C$1,利用者情報!A:U,COLUMN(利用者情報!F3),FALSE)","v":0},null,null,null,null,{"$f":"IF(A9=\"有\",\"1割\",\"0割\")","v":"0割"},null,{"$f":"VLOOKUP($C$1,利用者情報!A:U,COLUMN(利用者情報!G3),FALSE)","v":0},null,null,null,null,null,null,null,null,null,null,null,null,null,null,{"$f":"請求事業者!C9","v":5}]
[null,null,null,null,null,null,null,null,null,null,null,null,null,null,null,null,null,null,null,null,null,null,"便宜上区分"]
["日付",null,null,"支援計画",null,null,null,null,"算定\n時間","派遣\n人数","算定額","利用者\n負担額","請求額","サービス\n提供者印","利用者\n確認印",null,"コメント",null,null,"利用者負担額\n累計","上限到達フラグ","上限達成時の利用者負担額",{"$f":"IF(F7=\"\",\"無\",\"有\")","v":"無"}]
["月","日","曜日","開始\n時間","終了\n時間","計画\n時間数","開始\n時間","終了\n時間",null,null,null,null,null,null,null,null,null,"請求額","利用者\n負担額",null,null,null,{"$f":"IF(A9=\"有\",\"（9割）\",\"\")","v":""}]
[{"$f":"IF(B13=\"\",\"\",TEXT(B13,\"m\"))","v":""},null,{"$f":"IF(B13=\"\",\"\",B13)","v":""},null,null,null,null,null,{"$f":"H13-G13","v":0},null,{"$f":"IF($H13=0,0,INDEX(単価,MATCH(W13,時間,0),MATCH($W$9,地域区分,0)))","v":0},{"$f":"IF(U13=0,S13,V13)","v":0},{"$f":"K13-L13","v":0},null,null,1,{"$f":"IF(A13=\"\",\"\",IF($A$13<>A13,\"月が異なります！\",IF(SUM($I$13:I13)>$S$7,\"決定時間数を超過しています！\",\"\")))","v":""},{"$f":"IF(I13=0,0,INDEX(単価,MATCH(W13,時間,0),MATCH(IF(W12=\"\",W9,W9&W12),地域区分,0)))","v":0},{"$f":"K13-R13","v":0},{"$f":"SUM($S$13:S13)","v":0},null,null,{"$f":"IF(I13=0,0,CONCATENATE(VLOOKUP(I13+\"00:01\",'データ '!K:M,3,TRUE),\"/\",$W$11))","v":0}]
[{"$f":"IF(B14=\"\",\"\",TEXT(B14,\"m\"))","v":""},null,{"$f":"IF(B14=\"\",\"\",B14)","v":""},null,null,null,null,null,{"$f":"H14-G14","v":0},null,{"$f":"IF($H14=0,0,INDEX(単価,MATCH(W14,時間,0),MATCH($W$9,地域区分,0)))","v":0},{"$f":"IF(U14=0,S14,V14)","v":0},{"$f":"K14-L14","v":0},null,null,2,{"$f":"IF(A14=\"\",\"\",IF($A$13<>A14,\"月が異なります！\",IF(SUM($I$13:I14)>$S$7,\"決定時間数を超過しています！\",\"\")))","v":""},{"$f":"IF(AND($H14=0),0,IF($A$9=\"有\",INDEX(単価,MATCH(W14,時間,0),MATCH($W$9&$W$12,地域区分,0)),INDEX(単価,MATCH(W14,時間,0),MATCH($W$9,地域区分,0))))","v":0},{"$f":"K14-R14","v":0},{"$f":"SUM($S$13:S14)","v":0},{"$f":"IF(AND(T13<$H$9,T14>$H$9),1,IF(T14>$H$9,2,0))","v":0},{"$f":"IF(U14=1,$H$9-T13,0)","v":0},{"$f":"IF(I14=0,0,CONCATENATE(VLOOKUP(I14+\"00:01\",'データ '!K:M,3,TRUE),\"/\",$W$11))","v":0}]
["",null,"",null,null,null,null,null,0,null,0,{"$f":"IF(U15=0,S15,V15)","v":0},{"$f":"K15-L15","v":0},null,null,3,{"$f":"IF(A15=\"\",\"\",IF($A$13<>A15,\"月が異なります！\",IF(SUM($I$13:I15)>$S$7,\"決定時間数を超過しています！\",\"\")))","v":""},0,0,{"$f":"SUM($S$13:S15)","v":0},{"$f":"IF(AND(T14<$H$9,T15>$H$9),1,IF(T15>$H$9,2,0))","v":0},{"$f":"IF(U15=1,$H$9-T14,0)","v":0},{"$f":"IF(I15=0,0,CONCATENATE(VLOOKUP(I15+\"00:01\",'データ '!K:M,3,TRUE),\"/\",$W$11))","v":0}]
["",null,"",null,null,null,null,null,0,null,0,0,0,null,null,4,{"$f":"IF(A16=\"\",\"\",IF($A$13<>A16,\"月が異なります！\",IF(SUM($I$13:I16)>$S$7,\"決定時間数を超過しています！\",\"\")))","v":""},0,0,{"$f":"SUM($S$13:S16)","v":0},0,0,{"$f":"IF(I16=0,0,CONCATENATE(VLOOKUP(I16+\"00:01\",'データ '!K:M,3,TRUE),\"/\",$W$11))","v":0}]
["",null,"",null,null,null,null,null,0,null,0,0,0,null,null,5,{"$f":"IF(A17=\"\",\"\",IF($A$13<>A17,\"月が異なります！\",IF(SUM($I$13:I17)>$S$7,\"決定時間数を超過しています！\",\"\")))","v":""},0,0,{"$f":"SUM($S$13:S17)","v":0},0,0,{"$f":"IF(I17=0,0,CONCATENATE(VLOOKUP(I17+\"00:01\",'データ '!K:M,3,TRUE),\"/\",$W$11))","v":0}]
["",null,"",null,null,null,null,null,0,null,0,0,0,null,null,6,{"$f":"IF(A18=\"\",\"\",IF($A$13<>A18,\"月が異なります！\",IF(SUM($I$13:I18)>$S$7,\"決定時間数を超過しています！\",\"\")))","v":""},0,0,{"$f":"SUM($S$13:S18)","v":0},0,0,{"$f":"IF(I18=0,0,CONCATENATE(VLOOKUP(I18+\"00:01\",'データ '!K:M,3,TRUE),\"/\",$W$11))","v":0}]
["",null,"",null,null,null,null,null,0,null,0,0,0,null,null,7,{"$f":"IF(A19=\"\",\"\",IF($A$13<>A19,\"月が異なります！\",IF(SUM($I$13:I19)>$S$7,\"決定時間数を超過しています！\",\"\")))","v":""},0,0,{"$f":"SUM($S$13:S19)","v":0},0,0,{"$f":"IF(I19=0,0,CONCATENATE(VLOOKUP(I19+\"00:01\",'データ '!K:M,3,TRUE),\"/\",$W$11))","v":0}]
["",null,"",null,null,null,null,null,0,null,0,0,0,null,null,8,{"$f":"IF(A20=\"\",\"\",IF($A$13<>A20,\"月が異なります！\",IF(SUM($I$13:I20)>$S$7,\"決定時間数を超過しています！\",\"\")))","v":""},0,0,{"$f":"SUM($S$13:S20)","v":0},0,0,{"$f":"IF(I20=0,0,CONCATENATE(VLOOKUP(I20+\"00:01\",'データ '!K:M,3,TRUE),\"/\",$W$11))","v":0}]
["",null,"",null,null,null,null,null,0,null,0,{"$f":"IF(U21=0,S21,V21)","v":0},0,null,null,9,{"$f":"IF(A21=\"\",\"\",IF($A$13<>A21,\"月が異なります！\",IF(SUM($I$13:I21)>$S$7,\"決定時間数を超過しています！\",\"\")))","v":""},0,0,{"$f":"SUM($S$13:S21)","v":0},0,0,{"$f":"IF(I21=0,0,CONCATENATE(VLOOKUP(I21+\"00:01\",'データ '!K:M,3,TRUE),\"/\",$W$11))","v":0}]
["",null,"",null,null,null,null,null,0,null,0,{"$f":"IF(U22=0,S22,V22)","v":0},0,null,null,10,{"$f":"IF(A22=\"\",\"\",IF($A$13<>A22,\"月が異なります！\",IF(SUM($I$13:I22)>$S$7,\"決定時間数を超過しています！\",\"\")))","v":""},0,{"$f":"K22-R22","v":0},{"$f":"SUM($S$13:S22)","v":0},0,0,{"$f":"IF(I22=0,0,CONCATENATE(VLOOKUP(I22+\"00:01\",'データ '!K:M,3,TRUE),\"/\",$W$11))","v":0}]
["",null,"",null,null,null,null,null,0,null,0,0,0,null,null,11,{"$f":"IF(A23=\"\",\"\",IF($A$13<>A23,\"月が異なります！\",IF(SUM($I$13:I23)>$S$7,\"決定時間数を超過しています！\",\"\")))","v":""},0,0,{"$f":"SUM($S$13:S23)","v":0},0,0,{"$f":"IF(I23=0,0,CONCATENATE(VLOOKUP(I23+\"00:01\",'データ '!K:M,3,TRUE),\"/\",$W$11))","v":0}]
["",null,"",null,null,null,null,null,0,null,0,0,0,null,null,12,{"$f":"IF(A24=\"\",\"\",IF($A$13<>A24,\"月が異なります！\",IF(SUM($I$13:I24)>$S$7,\"決定時間数を超過しています！\",\"\")))","v":""},0,0,{"$f":"SUM($S$13:S24)","v":0},0,0,{"$f":"IF(I24=0,0,CONCATENATE(VLOOKUP(I24+\"00:01\",'データ '!K:M,3,TRUE),\"/\",$W$11))","v":0}]
["",null,"",null,null,null,null,null,0,null,0,0,0,null,null,13,{"$f":"IF(A25=\"\",\"\",IF($A$13<>A25,\"月が異なります！\",IF(SUM($I$13:I25)>$S$7,\"決定時間数を超過しています！\",\"\")))","v":""},0,0,{"$f":"SUM($S$13:S25)","v":0},0,0,{"$f":"IF(I25=0,0,CONCATENATE(VLOOKUP(I25+\"00:01\",'データ '!K:M,3,TRUE),\"/\",$W$11))","v":0}]
["",null,"",null,null,null,null,null,0,null,0,0,0,null,null,14,{"$f":"IF(A26=\"\",\"\",IF($A$13<>A26,\"月が異なります！\",IF(SUM($I$13:I26)>$S$7,\"決定時間数を超過しています！\",\"\")))","v":""},0,0,{"$f":"SUM($S$13:S26)","v":0},0,0,{"$f":"IF(I26=0,0,CONCATENATE(VLOOKUP(I26+\"00:01\",'データ '!K:M,3,TRUE),\"/\",$W$11))","v":0}]
["",null,"",null,null,null,null,null,0,null,0,0,0,null,null,15,{"$f":"IF(A27=\"\",\"\",IF($A$13<>A27,\"月が異なります！\",IF(SUM($I$13:I27)>$S$7,\"決定時間数を超過しています！\",\"\")))","v":""},0,0,{"$f":"SUM($S$13:S27)","v":0},0,0,{"$f":"IF(I27=0,0,CONCATENATE(VLOOKUP(I27+\"00:01\",'データ '!K:M,3,TRUE),\"/\",$W$11))","v":0}]
["",null,"",null,null,null,null,null,0,null,0,0,0,null,null,16,{"$f":"IF(A28=\"\",\"\",IF($A$13<>A28,\"月が異なります！\",IF(SUM($I$13:I28)>$S$7,\"決定時間数を超過しています！\",\"\")))","v":""},0,0,{"$f":"SUM($S$13:S28)","v":0},0,0,{"$f":"IF(I28=0,0,CONCATENATE(VLOOKUP(I28+\"00:01\",'データ '!K:M,3,TRUE),\"/\",$W$11))","v":0}]
["",null,"",null,null,null,null,null,0,null,0,0,0,null,null,17,{"$f":"IF(A29=\"\",\"\",IF($A$13<>A29,\"月が異なります！\",IF(SUM($I$13:I29)>$S$7,\"決定時間数を超過しています！\",\"\")))","v":""},0,0,{"$f":"SUM($S$13:S29)","v":0},0,0,{"$f":"IF(I29=0,0,CONCATENATE(VLOOKUP(I29+\"00:01\",'データ '!K:M,3,TRUE),\"/\",$W$11))","v":0}]
["",null,"",null,null,null,null,null,0,null,0,0,0,null,null,18,{"$f":"IF(A30=\"\",\"\",IF($A$13<>A30,\"月が異なります！\",IF(SUM($I$13:I30)>$S$7,\"決定時間数を超過しています！\",\"\")))","v":""},0,0,{"$f":"SUM($S$13:S30)","v":0},0,0,{"$f":"IF(I30=0,0,CONCATENATE(VLOOKUP(I30+\"00:01\",'データ '!K:M,3,TRUE),\"/\",$W$11))","v":0}]
["",null,"",null,null,null,null,null,0,null,0,0,0,null,null,19,{"$f":"IF(A31=\"\",\"\",IF($A$13<>A31,\"月が異なります！\",IF(SUM($I$13:I31)>$S$7,\"決定時間数を超過しています！\",\"\")))","v":""},0,0,{"$f":"SUM($S$13:S31)","v":0},0,0,{"$f":"IF(I31=0,0,CONCATENATE(VLOOKUP(I31+\"00:01\",'データ '!K:M,3,TRUE),\"/\",$W$11))","v":0}]
["",null,"",null,null,null,null,null,0,null,0,0,0,null,null,20,{"$f":"IF(A32=\"\",\"\",IF($A$13<>A32,\"月が異なります！\",IF(SUM($I$13:I32)>$S$7,\"決定時間数を超過しています！\",\"\")))","v":""},0,0,{"$f":"SUM($S$13:S32)","v":0},0,0,{"$f":"IF(I32=0,0,CONCATENATE(VLOOKUP(I32+\"00:01\",'データ '!K:M,3,TRUE),\"/\",$W$11))","v":0}]
["",null,"",null,null,null,null,null,0,null,0,0,0,null,null,21,{"$f":"IF(A33=\"\",\"\",IF($A$13<>A33,\"月が異なります！\",IF(SUM($I$13:I33)>$S$7,\"決定時間数を超過しています！\",\"\")))","v":""},0,0,{"$f":"SUM($S$13:S33)","v":0},0,0,{"$f":"IF(I33=0,0,CONCATENATE(VLOOKUP(I33+\"00:01\",'データ '!K:M,3,TRUE),\"/\",$W$11))","v":0}]
["",null,"",null,null,null,null,null,0,null,0,0,0,null,null,22,{"$f":"IF(A34=\"\",\"\",IF($A$13<>A34,\"月が異なります！\",IF(SUM($I$13:I34)>$S$7,\"決定時間数を超過しています！\",\"\")))","v":""},0,0,{"$f":"SUM($S$13:S34)","v":0},0,0,{"$f":"IF(I34=0,0,CONCATENATE(VLOOKUP(I34+\"00:01\",'データ '!K:M,3,TRUE),\"/\",$W$11))","v":0}]
["",null,"",null,null,null,null,null,0,null,0,0,0,null,null,23,{"$f":"IF(A35=\"\",\"\",IF($A$13<>A35,\"月が異なります！\",IF(SUM($I$13:I35)>$S$7,\"決定時間数を超過しています！\",\"\")))","v":""},0,0,{"$f":"SUM($S$13:S35)","v":0},0,0,{"$f":"IF(I35=0,0,CONCATENATE(VLOOKUP(I35+\"00:01\",'データ '!K:M,3,TRUE),\"/\",$W$11))","v":0}]
["",null,"",null,null,null,null,null,0,null,0,0,0,null,null,24,{"$f":"IF(A36=\"\",\"\",IF($A$13<>A36,\"月が異なります！\",IF(SUM($I$13:I36)>$S$7,\"決定時間数を超過しています！\",\"\")))","v":""},0,0,{"$f":"SUM($S$13:S36)","v":0},0,0,{"$f":"IF(I36=0,0,CONCATENATE(VLOOKUP(I36+\"00:01\",'データ '!K:M,3,TRUE),\"/\",$W$11))","v":0}]
["",null,"",null,null,null,null,null,0,null,0,0,0,null,null,25,{"$f":"IF(A37=\"\",\"\",IF($A$13<>A37,\"月が異なります！\",IF(SUM($I$13:I37)>$S$7,\"決定時間数を超過しています！\",\"\")))","v":""},0,0,{"$f":"SUM($S$13:S37)","v":0},0,0,{"$f":"IF(I37=0,0,CONCATENATE(VLOOKUP(I37+\"00:01\",'データ '!K:M,3,TRUE),\"/\",$W$11))","v":0}]
["",null,"",null,null,null,null,null,0,null,0,0,0,null,null,26,{"$f":"IF(A38=\"\",\"\",IF($A$13<>A38,\"月が異なります！\",IF(SUM($I$13:I38)>$S$7,\"決定時間数を超過しています！\",\"\")))","v":""},0,0,{"$f":"SUM($S$13:S38)","v":0},0,0,{"$f":"IF(I38=0,0,CONCATENATE(VLOOKUP(I38+\"00:01\",'データ '!K:M,3,TRUE),\"/\",$W$11))","v":0}]
["",null,"",null,null,null,null,null,0,null,0,0,0,null,null,27,{"$f":"IF(A39=\"\",\"\",IF($A$13<>A39,\"月が異なります！\",IF(SUM($I$13:I39)>$S$7,\"決定時間数を超過しています！\",\"\")))","v":""},0,0,{"$f":"SUM($S$13:S39)","v":0},0,0,{"$f":"IF(I39=0,0,CONCATENATE(VLOOKUP(I39+\"00:01\",'データ '!K:M,3,TRUE),\"/\",$W$11))","v":0}]
["",null,"",null,null,null,null,null,0,null,0,0,0,null,null,28,{"$f":"IF(A40=\"\",\"\",IF($A$13<>A40,\"月が異なります！\",IF(SUM($I$13:I40)>$S$7,\"決定時間数を超過しています！\",\"\")))","v":""},0,0,{"$f":"SUM($S$13:S40)","v":0},0,0,{"$f":"IF(I40=0,0,CONCATENATE(VLOOKUP(I40+\"00:01\",'データ '!K:M,3,TRUE),\"/\",$W$11))","v":0}]
["",null,"",null,null,null,null,null,0,null,0,0,0,null,null,29,{"$f":"IF(A41=\"\",\"\",IF($A$13<>A41,\"月が異なります！\",IF(SUM($I$13:I41)>$S$7,\"決定時間数を超過しています！\",\"\")))","v":""},0,0,{"$f":"SUM($S$13:S41)","v":0},0,0,{"$f":"IF(I41=0,0,CONCATENATE(VLOOKUP(I41+\"00:01\",'データ '!K:M,3,TRUE),\"/\",$W$11))","v":0}]
["",null,"",null,null,null,null,null,0,null,0,0,0,null,null,30,{"$f":"IF(A42=\"\",\"\",IF($A$13<>A42,\"月が異なります！\",IF(SUM($I$13:I42)>$S$7,\"決定時間数を超過しています！\",\"\")))","v":""},0,0,{"$f":"SUM($S$13:S42)","v":0},0,0,{"$f":"IF(I42=0,0,CONCATENATE(VLOOKUP(I42+\"00:01\",'データ '!K:M,3,TRUE),\"/\",$W$11))","v":0}]
["",null,"",null,null,null,null,null,0,null,0,0,0,null,null,31,{"$f":"IF(A43=\"\",\"\",IF($A$13<>A43,\"月が異なります！\",IF(SUM($I$13:I43)>$S$7,\"決定時間数を超過しています！\",\"\")))","v":""},0,0,{"$f":"SUM($S$13:S43)","v":0},0,0,{"$f":"IF(I43=0,0,CONCATENATE(VLOOKUP(I43+\"00:01\",'データ '!K:M,3,TRUE),\"/\",$W$11))","v":0}]
["合計",null,null,null,null,null,null,null,{"$f":"SUM(I13:I43)","v":0},null,{"$f":"SUM(K13:K43)","v":0},{"$f":"SUM(L13:L43)","v":0},{"$f":"SUM(M13:M43)","v":0},null,null,null,null,null,null,null,null,null,{"$f":"IF(I44>=$X$8,$Y$9,IF(AND(I44<$X$8,I44>=$X$7),$Y$8,IF(I44<$X$7,$Y$7)))&$W$11","v":"無"}]

{"sheet":"5","index":10,"n_rows":44,"n_cols":23,"rows_kept":44,"cut":false,"hidden":false,"merged":[[10,19,11,19],[10,20,11,20],[10,21,11,21],[43,0,43,7],[10,9,11,9],[10,10,11,10],[10,11,11,11],[10,12,11,12],[10,13,11,13],[10,14,11,14],[10,0,10,2],[10,3,10,5],[10,6,10,7],[10,8,11,8],[10,16,11,16],[6,16,8,16],[7,0,7,4],[7,5,7,6],[7,7,7,8],[8,0,8,4],[6,0,6,2],[6,3,6,4],[6,6,6,7],[6,9,8,10],[6,11,8,14],[8,5,8,6],[8,7,8,8],[4,11,4,14],[5,11,5,14],[3,1,3,4],[4,0,5,2],[4,3,5,5],[4,6,5,7],[4,8,5,10],[3,5,3,14]]}
[null,"№",5]
[]
[]
[null,{"$f":"EOMONTH(B13,0)","v":"1900-01-31"},null,null,null,"鎌ケ谷市移動支援サービス提供実績記録票"]
["登録番号",null,null,{"$f":"VLOOKUP($C$1,利用者情報!A:U,COLUMN(利用者情報!B3),FALSE)","v":0},null,null,"支給決定障がい者等氏名\n（児童氏名）",null,{"$f":"VLOOKUP($C$1,利用者情報!A:U,COLUMN(利用者情報!C1),FALSE)","v":0},null,null,"事業所登録番号"]
[null,null,null,null,null,null,null,null,null,null,null,{"$f":"請求事業者!B3","v":0},null,null,null,null,"コメント",null,"決定時間数"]
["契約支給量",null,null,"身体介護を\n伴う",null,{"$f":"IF(VLOOKUP(C1,利用者情報!A:G,5)=\"有\",CONCATENATE(VLOOKUP(C1,利用者情報!A:G,4)&\"時間\"),\"\")","v":""},"身体介護を\n伴わない",null,{"$f":"IF(VLOOKUP(C1,利用者情報!A:G,5)<>\"有\",CONCATENATE(VLOOKUP(C1,利用者情報!A:G,4)&\"時間\"),\"\")","v":"時間"},"事業所及び\nその事業所",null,{"$f":"請求事業者!B7","v":0},null,null,null,null,{"$f":"利用者情報!J4","v":""},null,{"$f":"IF(F7=\"\",I7,F7)","v":"時間"}]
["利用者負担の有無",null,null,null,null,"利用者の負担割合",null,"利用者負担上限額"]
[{"$f":"VLOOKUP($C$1,利用者情報!A:U,COLUMN(利用者情報!F3),FALSE)","v":0},null,null,null,null,{"$f":"IF(A9=\"有\",\"1割\",\"0割\")","v":"0割"},null,{"$f":"VLOOKUP($C$1,利用者情報!A:U,COLUMN(利用者情報!G3),FALSE)","v":0},null,null,null,null,null,null,null,null,null,null,null,null,null,null,{"$f":"請求事業者!C9","v":5}]
[null,null,null,null,null,null,null,null,null,null,null,null,null,null,null,null,null,null,null,null,null,null,"便宜上区分"]
["日付",null,null,"支援計画",null,null,null,null,"算定\n時間","派遣\n人数","算定額","利用者\n負担額","請求額","サービス\n提供者印","利用者\n確認印",null,"コメント",null,null,"利用者負担額\n累計","上限到達フラグ","上限達成時の利用者負担額",{"$f":"IF(F7=\"\",\"無\",\"有\")","v":"無"}]
["月","日","曜日","開始\n時間","終了\n時間","計画\n時間数","開始\n時間","終了\n時間",null,null,null,null,null,null,null,null,null,"請求額","利用者\n負担額",null,null,null,{"$f":"IF(A9=\"有\",\"（9割）\",\"\")","v":""}]
[{"$f":"IF(B13=\"\",\"\",TEXT(B13,\"m\"))","v":""},null,{"$f":"IF(B13=\"\",\"\",B13)","v":""},null,null,null,null,null,{"$f":"H13-G13","v":0},null,{"$f":"IF($H13=0,0,INDEX(単価,MATCH(W13,時間,0),MATCH($W$9,地域区分,0)))","v":0},{"$f":"IF(U13=0,S13,V13)","v":0},{"$f":"K13-L13","v":0},null,null,1,{"$f":"IF(A13=\"\",\"\",IF($A$13<>A13,\"月が異なります！\",IF(SUM($I$13:I13)>$S$7,\"決定時間数を超過しています！\",\"\")))","v":""},{"$f":"IF(I13=0,0,INDEX(単価,MATCH(W13,時間,0),MATCH(IF(W12=\"\",W9,W9&W12),地域区分,0)))","v":0},{"$f":"K13-R13","v":0},{"$f":"SUM($S$13:S13)","v":0},null,null,{"$f":"IF(I13=0,0,CONCATENATE(VLOOKUP(I13+\"00:01\",'データ '!K:M,3,TRUE),\"/\",$W$11))","v":0}]
[{"$f":"IF(B14=\"\",\"\",TEXT(B14,\"m\"))","v":""},null,{"$f":"IF(B14=\"\",\"\",B14)","v":""},null,null,null,null,null,{"$f":"H14-G14","v":0},null,{"$f":"IF($H14=0,0,INDEX(単価,MATCH(W14,時間,0),MATCH($W$9,地域区分,0)))","v":0},{"$f":"IF(U14=0,S14,V14)","v":0},{"$f":"K14-L14","v":0},null,null,2,{"$f":"IF(A14=\"\",\"\",IF($A$13<>A14,\"月が異なります！\",IF(SUM($I$13:I14)>$S$7,\"決定時間数を超過しています！\",\"\")))","v":""},{"$f":"IF(AND($H14=0),0,IF($A$9=\"有\",INDEX(単価,MATCH(W14,時間,0),MATCH($W$9&$W$12,地域区分,0)),INDEX(単価,MATCH(W14,時間,0),MATCH($W$9,地域区分,0))))","v":0},{"$f":"K14-R14","v":0},{"$f":"SUM($S$13:S14)","v":0},{"$f":"IF(AND(T13<$H$9,T14>$H$9),1,IF(T14>$H$9,2,0))","v":0},{"$f":"IF(U14=1,$H$9-T13,0)","v":0},{"$f":"IF(I14=0,0,CONCATENATE(VLOOKUP(I14+\"00:01\",'データ '!K:M,3,TRUE),\"/\",$W$11))","v":0}]
["",null,"",null,null,null,null,null,0,null,0,{"$f":"IF(U15=0,S15,V15)","v":0},{"$f":"K15-L15","v":0},null,null,3,{"$f":"IF(A15=\"\",\"\",IF($A$13<>A15,\"月が異なります！\",IF(SUM($I$13:I15)>$S$7,\"決定時間数を超過しています！\",\"\")))","v":""},0,0,{"$f":"SUM($S$13:S15)","v":0},{"$f":"IF(AND(T14<$H$9,T15>$H$9),1,IF(T15>$H$9,2,0))","v":0},{"$f":"IF(U15=1,$H$9-T14,0)","v":0},{"$f":"IF(I15=0,0,CONCATENATE(VLOOKUP(I15+\"00:01\",'データ '!K:M,3,TRUE),\"/\",$W$11))","v":0}]
["",null,"",null,null,null,null,null,0,null,0,0,0,null,null,4,{"$f":"IF(A16=\"\",\"\",IF($A$13<>A16,\"月が異なります！\",IF(SUM($I$13:I16)>$S$7,\"決定時間数を超過しています！\",\"\")))","v":""},0,0,{"$f":"SUM($S$13:S16)","v":0},0,0,{"$f":"IF(I16=0,0,CONCATENATE(VLOOKUP(I16+\"00:01\",'データ '!K:M,3,TRUE),\"/\",$W$11))","v":0}]
["",null,"",null,null,null,null,null,0,null,0,0,0,null,null,5,{"$f":"IF(A17=\"\",\"\",IF($A$13<>A17,\"月が異なります！\",IF(SUM($I$13:I17)>$S$7,\"決定時間数を超過しています！\",\"\")))","v":""},0,0,{"$f":"SUM($S$13:S17)","v":0},0,0,{"$f":"IF(I17=0,0,CONCATENATE(VLOOKUP(I17+\"00:01\",'データ '!K:M,3,TRUE),\"/\",$W$11))","v":0}]
["",null,"",null,null,null,null,null,0,null,0,0,0,null,null,6,{"$f":"IF(A18=\"\",\"\",IF($A$13<>A18,\"月が異なります！\",IF(SUM($I$13:I18)>$S$7,\"決定時間数を超過しています！\",\"\")))","v":""},0,0,{"$f":"SUM($S$13:S18)","v":0},0,0,{"$f":"IF(I18=0,0,CONCATENATE(VLOOKUP(I18+\"00:01\",'データ '!K:M,3,TRUE),\"/\",$W$11))","v":0}]
["",null,"",null,null,null,null,null,0,null,0,0,0,null,null,7,{"$f":"IF(A19=\"\",\"\",IF($A$13<>A19,\"月が異なります！\",IF(SUM($I$13:I19)>$S$7,\"決定時間数を超過しています！\",\"\")))","v":""},0,0,{"$f":"SUM($S$13:S19)","v":0},0,0,{"$f":"IF(I19=0,0,CONCATENATE(VLOOKUP(I19+\"00:01\",'データ '!K:M,3,TRUE),\"/\",$W$11))","v":0}]
["",null,"",null,null,null,null,null,0,null,0,0,0,null,null,8,{"$f":"IF(A20=\"\",\"\",IF($A$13<>A20,\"月が異なります！\",IF(SUM($I$13:I20)>$S$7,\"決定時間数を超過しています！\",\"\")))","v":""},0,0,{"$f":"SUM($S$13:S20)","v":0},0,0,{"$f":"IF(I20=0,0,CONCATENATE(VLOOKUP(I20+\"00:01\",'データ '!K:M,3,TRUE),\"/\",$W$11))","v":0}]
["",null,"",null,null,null,null,null,0,null,0,{"$f":"IF(U21=0,S21,V21)","v":0},0,null,null,9,{"$f":"IF(A21=\"\",\"\",IF($A$13<>A21,\"月が異なります！\",IF(SUM($I$13:I21)>$S$7,\"決定時間数を超過しています！\",\"\")))","v":""},0,0,{"$f":"SUM($S$13:S21)","v":0},0,0,{"$f":"IF(I21=0,0,CONCATENATE(VLOOKUP(I21+\"00:01\",'データ '!K:M,3,TRUE),\"/\",$W$11))","v":0}]
["",null,"",null,null,null,null,null,0,null,0,{"$f":"IF(U22=0,S22,V22)","v":0},0,null,null,10,{"$f":"IF(A22=\"\",\"\",IF($A$13<>A22,\"月が異なります！\",IF(SUM($I$13:I22)>$S$7,\"決定時間数を超過しています！\",\"\")))","v":""},0,{"$f":"K22-R22","v":0},{"$f":"SUM($S$13:S22)","v":0},0,0,{"$f":"IF(I22=0,0,CONCATENATE(VLOOKUP(I22+\"00:01\",'データ '!K:M,3,TRUE),\"/\",$W$11))","v":0}]
["",null,"",null,null,null,null,null,0,null,0,0,0,null,null,11,{"$f":"IF(A23=\"\",\"\",IF($A$13<>A23,\"月が異なります！\",IF(SUM($I$13:I23)>$S$7,\"決定時間数を超過しています！\",\"\")))","v":""},0,0,{"$f":"SUM($S$13:S23)","v":0},0,0,{"$f":"IF(I23=0,0,CONCATENATE(VLOOKUP(I23+\"00:01\",'データ '!K:M,3,TRUE),\"/\",$W$11))","v":0}]
["",null,"",null,null,null,null,null,0,null,0,0,0,null,null,12,{"$f":"IF(A24=\"\",\"\",IF($A$13<>A24,\"月が異なります！\",IF(SUM($I$13:I24)>$S$7,\"決定時間数を超過しています！\",\"\")))","v":""},0,0,{"$f":"SUM($S$13:S24)","v":0},0,0,{"$f":"IF(I24=0,0,CONCATENATE(VLOOKUP(I24+\"00:01\",'データ '!K:M,3,TRUE),\"/\",$W$11))","v":0}]
["",null,"",null,null,null,null,null,0,null,0,0,0,null,null,13,{"$f":"IF(A25=\"\",\"\",IF($A$13<>A25,\"月が異なります！\",IF(SUM($I$13:I25)>$S$7,\"決定時間数を超過しています！\",\"\")))","v":""},0,0,{"$f":"SUM($S$13:S25)","v":0},0,0,{"$f":"IF(I25=0,0,CONCATENATE(VLOOKUP(I25+\"00:01\",'データ '!K:M,3,TRUE),\"/\",$W$11))","v":0}]
["",null,"",null,null,null,null,null,0,null,0,0,0,null,null,14,{"$f":"IF(A26=\"\",\"\",IF($A$13<>A26,\"月が異なります！\",IF(SUM($I$13:I26)>$S$7,\"決定時間数を超過しています！\",\"\")))","v":""},0,0,{"$f":"SUM($S$13:S26)","v":0},0,0,{"$f":"IF(I26=0,0,CONCATENATE(VLOOKUP(I26+\"00:01\",'データ '!K:M,3,TRUE),\"/\",$W$11))","v":0}]
["",null,"",null,null,null,null,null,0,null,0,0,0,null,null,15,{"$f":"IF(A27=\"\",\"\",IF($A$13<>A27,\"月が異なります！\",IF(SUM($I$13:I27)>$S$7,\"決定時間数を超過しています！\",\"\")))","v":""},0,0,{"$f":"SUM($S$13:S27)","v":0},0,0,{"$f":"IF(I27=0,0,CONCATENATE(VLOOKUP(I27+\"00:01\",'データ '!K:M,3,TRUE),\"/\",$W$11))","v":0}]
["",null,"",null,null,null,null,null,0,null,0,0,0,null,null,16,{"$f":"IF(A28=\"\",\"\",IF($A$13<>A28,\"月が異なります！\",IF(SUM($I$13:I28)>$S$7,\"決定時間数を超過しています！\",\"\")))","v":""},0,0,{"$f":"SUM($S$13:S28)","v":0},0,0,{"$f":"IF(I28=0,0,CONCATENATE(VLOOKUP(I28+\"00:01\",'データ '!K:M,3,TRUE),\"/\",$W$11))","v":0}]
["",null,"",null,null,null,null,null,0,null,0,0,0,null,null,17,{"$f":"IF(A29=\"\",\"\",IF($A$13<>A29,\"月が異なります！\",IF(SUM($I$13:I29)>$S$7,\"決定時間数を超過しています！\",\"\")))","v":""},0,0,{"$f":"SUM($S$13:S29)","v":0},0,0,{"$f":"IF(I29=0,0,CONCATENATE(VLOOKUP(I29+\"00:01\",'データ '!K:M,3,TRUE),\"/\",$W$11))","v":0}]
["",null,"",null,null,null,null,null,0,null,0,0,0,null,null,18,{"$f":"IF(A30=\"\",\"\",IF($A$13<>A30,\"月が異なります！\",IF(SUM($I$13:I30)>$S$7,\"決定時間数を超過しています！\",\"\")))","v":""},0,0,{"$f":"SUM($S$13:S30)","v":0},0,0,{"$f":"IF(I30=0,0,CONCATENATE(VLOOKUP(I30+\"00:01\",'データ '!K:M,3,TRUE),\"/\",$W$11))","v":0}]
["",null,"",null,null,null,null,null,0,null,0,0,0,null,null,19,{"$f":"IF(A31=\"\",\"\",IF($A$13<>A31,\"月が異なります！\",IF(SUM($I$13:I31)>$S$7,\"決定時間数を超過しています！\",\"\")))","v":""},0,0,{"$f":"SUM($S$13:S31)","v":0},0,0,{"$f":"IF(I31=0,0,CONCATENATE(VLOOKUP(I31+\"00:01\",'データ '!K:M,3,TRUE),\"/\",$W$11))","v":0}]
["",null,"",null,null,null,null,null,0,null,0,0,0,null,null,20,{"$f":"IF(A32=\"\",\"\",IF($A$13<>A32,\"月が異なります！\",IF(SUM($I$13:I32)>$S$7,\"決定時間数を超過しています！\",\"\")))","v":""},0,0,{"$f":"SUM($S$13:S32)","v":0},0,0,{"$f":"IF(I32=0,0,CONCATENATE(VLOOKUP(I32+\"00:01\",'データ '!K:M,3,TRUE),\"/\",$W$11))","v":0}]
["",null,"",null,null,null,null,null,0,null,0,0,0,null,null,21,{"$f":"IF(A33=\"\",\"\",IF($A$13<>A33,\"月が異なります！\",IF(SUM($I$13:I33)>$S$7,\"決定時間数を超過しています！\",\"\")))","v":""},0,0,{"$f":"SUM($S$13:S33)","v":0},0,0,{"$f":"IF(I33=0,0,CONCATENATE(VLOOKUP(I33+\"00:01\",'データ '!K:M,3,TRUE),\"/\",$W$11))","v":0}]
["",null,"",null,null,null,null,null,0,null,0,0,0,null,null,22,{"$f":"IF(A34=\"\",\"\",IF($A$13<>A34,\"月が異なります！\",IF(SUM($I$13:I34)>$S$7,\"決定時間数を超過しています！\",\"\")))","v":""},0,0,{"$f":"SUM($S$13:S34)","v":0},0,0,{"$f":"IF(I34=0,0,CONCATENATE(VLOOKUP(I34+\"00:01\",'データ '!K:M,3,TRUE),\"/\",$W$11))","v":0}]
["",null,"",null,null,null,null,null,0,null,0,0,0,null,null,23,{"$f":"IF(A35=\"\",\"\",IF($A$13<>A35,\"月が異なります！\",IF(SUM($I$13:I35)>$S$7,\"決定時間数を超過しています！\",\"\")))","v":""},0,0,{"$f":"SUM($S$13:S35)","v":0},0,0,{"$f":"IF(I35=0,0,CONCATENATE(VLOOKUP(I35+\"00:01\",'データ '!K:M,3,TRUE),\"/\",$W$11))","v":0}]
["",null,"",null,null,null,null,null,0,null,0,0,0,null,null,24,{"$f":"IF(A36=\"\",\"\",IF($A$13<>A36,\"月が異なります！\",IF(SUM($I$13:I36)>$S$7,\"決定時間数を超過しています！\",\"\")))","v":""},0,0,{"$f":"SUM($S$13:S36)","v":0},0,0,{"$f":"IF(I36=0,0,CONCATENATE(VLOOKUP(I36+\"00:01\",'データ '!K:M,3,TRUE),\"/\",$W$11))","v":0}]
["",null,"",null,null,null,null,null,0,null,0,0,0,null,null,25,{"$f":"IF(A37=\"\",\"\",IF($A$13<>A37,\"月が異なります！\",IF(SUM($I$13:I37)>$S$7,\"決定時間数を超過しています！\",\"\")))","v":""},0,0,{"$f":"SUM($S$13:S37)","v":0},0,0,{"$f":"IF(I37=0,0,CONCATENATE(VLOOKUP(I37+\"00:01\",'データ '!K:M,3,TRUE),\"/\",$W$11))","v":0}]
["",null,"",null,null,null,null,null,0,null,0,0,0,null,null,26,{"$f":"IF(A38=\"\",\"\",IF($A$13<>A38,\"月が異なります！\",IF(SUM($I$13:I38)>$S$7,\"決定時間数を超過しています！\",\"\")))","v":""},0,0,{"$f":"SUM($S$13:S38)","v":0},0,0,{"$f":"IF(I38=0,0,CONCATENATE(VLOOKUP(I38+\"00:01\",'データ '!K:M,3,TRUE),\"/\",$W$11))","v":0}]
["",null,"",null,null,null,null,null,0,null,0,0,0,null,null,27,{"$f":"IF(A39=\"\",\"\",IF($A$13<>A39,\"月が異なります！\",IF(SUM($I$13:I39)>$S$7,\"決定時間数を超過しています！\",\"\")))","v":""},0,0,{"$f":"SUM($S$13:S39)","v":0},0,0,{"$f":"IF(I39=0,0,CONCATENATE(VLOOKUP(I39+\"00:01\",'データ '!K:M,3,TRUE),\"/\",$W$11))","v":0}]
["",null,"",null,null,null,null,null,0,null,0,0,0,null,null,28,{"$f":"IF(A40=\"\",\"\",IF($A$13<>A40,\"月が異なります！\",IF(SUM($I$13:I40)>$S$7,\"決定時間数を超過しています！\",\"\")))","v":""},0,0,{"$f":"SUM($S$13:S40)","v":0},0,0,{"$f":"IF(I40=0,0,CONCATENATE(VLOOKUP(I40+\"00:01\",'データ '!K:M,3,TRUE),\"/\",$W$11))","v":0}]
["",null,"",null,null,null,null,null,0,null,0,0,0,null,null,29,{"$f":"IF(A41=\"\",\"\",IF($A$13<>A41,\"月が異なります！\",IF(SUM($I$13:I41)>$S$7,\"決定時間数を超過しています！\",\"\")))","v":""},0,0,{"$f":"SUM($S$13:S41)","v":0},0,0,{"$f":"IF(I41=0,0,CONCATENATE(VLOOKUP(I41+\"00:01\",'データ '!K:M,3,TRUE),\"/\",$W$11))","v":0}]
["",null,"",null,null,null,null,null,0,null,0,0,0,null,null,30,{"$f":"IF(A42=\"\",\"\",IF($A$13<>A42,\"月が異なります！\",IF(SUM($I$13:I42)>$S$7,\"決定時間数を超過しています！\",\"\")))","v":""},0,0,{"$f":"SUM($S$13:S42)","v":0},0,0,{"$f":"IF(I42=0,0,CONCATENATE(VLOOKUP(I42+\"00:01\",'データ '!K:M,3,TRUE),\"/\",$W$11))","v":0}]
["",null,"",null,null,null,null,null,0,null,0,0,0,null,null,31,{"$f":"IF(A43=\"\",\"\",IF($A$13<>A43,\"月が異なります！\",IF(SUM($I$13:I43)>$S$7,\"決定時間数を超過しています！\",\"\")))","v":""},0,0,{"$f":"SUM($S$13:S43)","v":0},0,0,{"$f":"IF(I43=0,0,CONCATENATE(VLOOKUP(I43+\"00:01\",'データ '!K:M,3,TRUE),\"/\",$W$11))","v":0}]
["合計",null,null,null,null,null,null,null,{"$f":"SUM(I13:I43)","v":0},null,{"$f":"SUM(K13:K43)","v":0},{"$f":"SUM(L13:L43)","v":0},{"$f":"SUM(M13:M43)","v":0},null,null,null,null,null,null,null,null,null,{"$f":"IF(I44>=$X$8,$Y$9,IF(AND(I44<$X$8,I44>=$X$7),$Y$8,IF(I44<$X$7,$Y$7)))&$W$11","v":"無"}]

{"sheet":"6","index":11,"n_rows":44,"n_cols":23,"rows_kept":44,"cut":false,"hidden":false,"merged":[[10,19,11,19],[10,20,11,20],[10,21,11,21],[43,0,43,7],[10,9,11,9],[10,10,11,10],[10,11,11,11],[10,12,11,12],[10,13,11,13],[10,14,11,14],[10,0,10,2],[10,3,10,5],[10,6,10,7],[10,8,11,8],[10,16,11,16],[6,16,8,16],[7,0,7,4],[7,5,7,6],[7,7,7,8],[8,0,8,4],[6,0,6,2],[6,3,6,4],[6,6,6,7],[6,9,8,10],[6,11,8,14],[8,5,8,6],[8,7,8,8],[4,11,4,14],[5,11,5,14],[3,1,3,4],[4,0,5,2],[4,3,5,5],[4,6,5,7],[4,8,5,10],[3,5,3,14]]}
[null,"№",6]
[]
[]
[null,{"$f":"EOMONTH(B13,0)","v":"1900-01-31"},null,null,null,"鎌ケ谷市移動支援サービス提供実績記録票"]
["登録番号",null,null,{"$f":"VLOOKUP($C$1,利用者情報!A:U,COLUMN(利用者情報!B3),FALSE)","v":0},null,null,"支給決定障がい者等氏名\n（児童氏名）",null,{"$f":"VLOOKUP($C$1,利用者情報!A:U,COLUMN(利用者情報!C1),FALSE)","v":0},null,null,"事業所登録番号"]
[null,null,null,null,null,null,null,null,null,null,null,{"$f":"請求事業者!B3","v":0},null,null,null,null,"コメント",null,"決定時間数"]
["契約支給量",null,null,"身体介護を\n伴う",null,{"$f":"IF(VLOOKUP(C1,利用者情報!A:G,5)=\"有\",CONCATENATE(VLOOKUP(C1,利用者情報!A:G,4)&\"時間\"),\"\")","v":""},"身体介護を\n伴わない",null,{"$f":"IF(VLOOKUP(C1,利用者情報!A:G,5)<>\"有\",CONCATENATE(VLOOKUP(C1,利用者情報!A:G,4)&\"時間\"),\"\")","v":"時間"},"事業所及び\nその事業所",null,{"$f":"請求事業者!B7","v":0},null,null,null,null,{"$f":"利用者情報!J4","v":""},null,{"$f":"IF(F7=\"\",I7,F7)","v":"時間"}]
["利用者負担の有無",null,null,null,null,"利用者の負担割合",null,"利用者負担上限額"]
[{"$f":"VLOOKUP($C$1,利用者情報!A:U,COLUMN(利用者情報!F3),FALSE)","v":0},null,null,null,null,{"$f":"IF(A9=\"有\",\"1割\",\"0割\")","v":"0割"},null,{"$f":"VLOOKUP($C$1,利用者情報!A:U,COLUMN(利用者情報!G3),FALSE)","v":0},null,null,null,null,null,null,null,null,null,null,null,null,null,null,{"$f":"請求事業者!C9","v":5}]
[null,null,null,null,null,null,null,null,null,null,null,null,null,null,null,null,null,null,null,null,null,null,"便宜上区分"]
["日付",null,null,"支援計画",null,null,null,null,"算定\n時間","派遣\n人数","算定額","利用者\n負担額","請求額","サービス\n提供者印","利用者\n確認印",null,"コメント",null,null,"利用者負担額\n累計","上限到達フラグ","上限達成時の利用者負担額",{"$f":"IF(F7=\"\",\"無\",\"有\")","v":"無"}]
["月","日","曜日","開始\n時間","終了\n時間","計画\n時間数","開始\n時間","終了\n時間",null,null,null,null,null,null,null,null,null,"請求額","利用者\n負担額",null,null,null,{"$f":"IF(A9=\"有\",\"（9割）\",\"\")","v":""}]
[{"$f":"IF(B13=\"\",\"\",TEXT(B13,\"m\"))","v":""},null,{"$f":"IF(B13=\"\",\"\",B13)","v":""},null,null,null,null,null,{"$f":"H13-G13","v":0},null,{"$f":"IF($H13=0,0,INDEX(単価,MATCH(W13,時間,0),MATCH($W$9,地域区分,0)))","v":0},{"$f":"IF(U13=0,S13,V13)","v":0},{"$f":"K13-L13","v":0},null,null,1,{"$f":"IF(A13=\"\",\"\",IF($A$13<>A13,\"月が異なります！\",IF(SUM($I$13:I13)>$S$7,\"決定時間数を超過しています！\",\"\")))","v":""},{"$f":"IF(I13=0,0,INDEX(単価,MATCH(W13,時間,0),MATCH(IF(W12=\"\",W9,W9&W12),地域区分,0)))","v":0},{"$f":"K13-R13","v":0},{"$f":"SUM($S$13:S13)","v":0},null,null,{"$f":"IF(I13=0,0,CONCATENATE(VLOOKUP(I13+\"00:01\",'データ '!K:M,3,TRUE),\"/\",$W$11))","v":0}]
[{"$f":"IF(B14=\"\",\"\",TEXT(B14,\"m\"))","v":""},null,{"$f":"IF(B14=\"\",\"\",B14)","v":""},null,null,null,null,null,{"$f":"H14-G14","v":0},null,{"$f":"IF($H14=0,0,INDEX(単価,MATCH(W14,時間,0),MATCH($W$9,地域区分,0)))","v":0},{"$f":"IF(U14=0,S14,V14)","v":0},{"$f":"K14-L14","v":0},null,null,2,{"$f":"IF(A14=\"\",\"\",IF($A$13<>A14,\"月が異なります！\",IF(SUM($I$13:I14)>$S$7,\"決定時間数を超過しています！\",\"\")))","v":""},{"$f":"IF(AND($H14=0),0,IF($A$9=\"有\",INDEX(単価,MATCH(W14,時間,0),MATCH($W$9&$W$12,地域区分,0)),INDEX(単価,MATCH(W14,時間,0),MATCH($W$9,地域区分,0))))","v":0},{"$f":"K14-R14","v":0},{"$f":"SUM($S$13:S14)","v":0},{"$f":"IF(AND(T13<$H$9,T14>$H$9),1,IF(T14>$H$9,2,0))","v":0},{"$f":"IF(U14=1,$H$9-T13,0)","v":0},{"$f":"IF(I14=0,0,CONCATENATE(VLOOKUP(I14+\"00:01\",'データ '!K:M,3,TRUE),\"/\",$W$11))","v":0}]
["",null,"",null,null,null,null,null,0,null,0,{"$f":"IF(U15=0,S15,V15)","v":0},{"$f":"K15-L15","v":0},null,null,3,{"$f":"IF(A15=\"\",\"\",IF($A$13<>A15,\"月が異なります！\",IF(SUM($I$13:I15)>$S$7,\"決定時間数を超過しています！\",\"\")))","v":""},0,0,{"$f":"SUM($S$13:S15)","v":0},{"$f":"IF(AND(T14<$H$9,T15>$H$9),1,IF(T15>$H$9,2,0))","v":0},{"$f":"IF(U15=1,$H$9-T14,0)","v":0},{"$f":"IF(I15=0,0,CONCATENATE(VLOOKUP(I15+\"00:01\",'データ '!K:M,3,TRUE),\"/\",$W$11))","v":0}]
["",null,"",null,null,null,null,null,0,null,0,0,0,null,null,4,{"$f":"IF(A16=\"\",\"\",IF($A$13<>A16,\"月が異なります！\",IF(SUM($I$13:I16)>$S$7,\"決定時間数を超過しています！\",\"\")))","v":""},0,0,{"$f":"SUM($S$13:S16)","v":0},0,0,{"$f":"IF(I16=0,0,CONCATENATE(VLOOKUP(I16+\"00:01\",'データ '!K:M,3,TRUE),\"/\",$W$11))","v":0}]
["",null,"",null,null,null,null,null,0,null,0,0,0,null,null,5,{"$f":"IF(A17=\"\",\"\",IF($A$13<>A17,\"月が異なります！\",IF(SUM($I$13:I17)>$S$7,\"決定時間数を超過しています！\",\"\")))","v":""},0,0,{"$f":"SUM($S$13:S17)","v":0},0,0,{"$f":"IF(I17=0,0,CONCATENATE(VLOOKUP(I17+\"00:01\",'データ '!K:M,3,TRUE),\"/\",$W$11))","v":0}]
["",null,"",null,null,null,null,null,0,null,0,0,0,null,null,6,{"$f":"IF(A18=\"\",\"\",IF($A$13<>A18,\"月が異なります！\",IF(SUM($I$13:I18)>$S$7,\"決定時間数を超過しています！\",\"\")))","v":""},0,0,{"$f":"SUM($S$13:S18)","v":0},0,0,{"$f":"IF(I18=0,0,CONCATENATE(VLOOKUP(I18+\"00:01\",'データ '!K:M,3,TRUE),\"/\",$W$11))","v":0}]
["",null,"",null,null,null,null,null,0,null,0,0,0,null,null,7,{"$f":"IF(A19=\"\",\"\",IF($A$13<>A19,\"月が異なります！\",IF(SUM($I$13:I19)>$S$7,\"決定時間数を超過しています！\",\"\")))","v":""},0,0,{"$f":"SUM($S$13:S19)","v":0},0,0,{"$f":"IF(I19=0,0,CONCATENATE(VLOOKUP(I19+\"00:01\",'データ '!K:M,3,TRUE),\"/\",$W$11))","v":0}]
["",null,"",null,null,null,null,null,0,null,0,0,0,null,null,8,{"$f":"IF(A20=\"\",\"\",IF($A$13<>A20,\"月が異なります！\",IF(SUM($I$13:I20)>$S$7,\"決定時間数を超過しています！\",\"\")))","v":""},0,0,{"$f":"SUM($S$13:S20)","v":0},0,0,{"$f":"IF(I20=0,0,CONCATENATE(VLOOKUP(I20+\"00:01\",'データ '!K:M,3,TRUE),\"/\",$W$11))","v":0}]
["",null,"",null,null,null,null,null,0,null,0,{"$f":"IF(U21=0,S21,V21)","v":0},0,null,null,9,{"$f":"IF(A21=\"\",\"\",IF($A$13<>A21,\"月が異なります！\",IF(SUM($I$13:I21)>$S$7,\"決定時間数を超過しています！\",\"\")))","v":""},0,0,{"$f":"SUM($S$13:S21)","v":0},0,0,{"$f":"IF(I21=0,0,CONCATENATE(VLOOKUP(I21+\"00:01\",'データ '!K:M,3,TRUE),\"/\",$W$11))","v":0}]
["",null,"",null,null,null,null,null,0,null,0,{"$f":"IF(U22=0,S22,V22)","v":0},0,null,null,10,{"$f":"IF(A22=\"\",\"\",IF($A$13<>A22,\"月が異なります！\",IF(SUM($I$13:I22)>$S$7,\"決定時間数を超過しています！\",\"\")))","v":""},0,{"$f":"K22-R22","v":0},{"$f":"SUM($S$13:S22)","v":0},0,0,{"$f":"IF(I22=0,0,CONCATENATE(VLOOKUP(I22+\"00:01\",'データ '!K:M,3,TRUE),\"/\",$W$11))","v":0}]
["",null,"",null,null,null,null,null,0,null,0,0,0,null,null,11,{"$f":"IF(A23=\"\",\"\",IF($A$13<>A23,\"月が異なります！\",IF(SUM($I$13:I23)>$S$7,\"決定時間数を超過しています！\",\"\")))","v":""},0,0,{"$f":"SUM($S$13:S23)","v":0},0,0,{"$f":"IF(I23=0,0,CONCATENATE(VLOOKUP(I23+\"00:01\",'データ '!K:M,3,TRUE),\"/\",$W$11))","v":0}]
["",null,"",null,null,null,null,null,0,null,0,0,0,null,null,12,{"$f":"IF(A24=\"\",\"\",IF($A$13<>A24,\"月が異なります！\",IF(SUM($I$13:I24)>$S$7,\"決定時間数を超過しています！\",\"\")))","v":""},0,0,{"$f":"SUM($S$13:S24)","v":0},0,0,{"$f":"IF(I24=0,0,CONCATENATE(VLOOKUP(I24+\"00:01\",'データ '!K:M,3,TRUE),\"/\",$W$11))","v":0}]
["",null,"",null,null,null,null,null,0,null,0,0,0,null,null,13,{"$f":"IF(A25=\"\",\"\",IF($A$13<>A25,\"月が異なります！\",IF(SUM($I$13:I25)>$S$7,\"決定時間数を超過しています！\",\"\")))","v":""},0,0,{"$f":"SUM($S$13:S25)","v":0},0,0,{"$f":"IF(I25=0,0,CONCATENATE(VLOOKUP(I25+\"00:01\",'データ '!K:M,3,TRUE),\"/\",$W$11))","v":0}]
["",null,"",null,null,null,null,null,0,null,0,0,0,null,null,14,{"$f":"IF(A26=\"\",\"\",IF($A$13<>A26,\"月が異なります！\",IF(SUM($I$13:I26)>$S$7,\"決定時間数を超過しています！\",\"\")))","v":""},0,0,{"$f":"SUM($S$13:S26)","v":0},0,0,{"$f":"IF(I26=0,0,CONCATENATE(VLOOKUP(I26+\"00:01\",'データ '!K:M,3,TRUE),\"/\",$W$11))","v":0}]
["",null,"",null,null,null,null,null,0,null,0,0,0,null,null,15,{"$f":"IF(A27=\"\",\"\",IF($A$13<>A27,\"月が異なります！\",IF(SUM($I$13:I27)>$S$7,\"決定時間数を超過しています！\",\"\")))","v":""},0,0,{"$f":"SUM($S$13:S27)","v":0},0,0,{"$f":"IF(I27=0,0,CONCATENATE(VLOOKUP(I27+\"00:01\",'データ '!K:M,3,TRUE),\"/\",$W$11))","v":0}]
["",null,"",null,null,null,null,null,0,null,0,0,0,null,null,16,{"$f":"IF(A28=\"\",\"\",IF($A$13<>A28,\"月が異なります！\",IF(SUM($I$13:I28)>$S$7,\"決定時間数を超過しています！\",\"\")))","v":""},0,0,{"$f":"SUM($S$13:S28)","v":0},0,0,{"$f":"IF(I28=0,0,CONCATENATE(VLOOKUP(I28+\"00:01\",'データ '!K:M,3,TRUE),\"/\",$W$11))","v":0}]
["",null,"",null,null,null,null,null,0,null,0,0,0,null,null,17,{"$f":"IF(A29=\"\",\"\",IF($A$13<>A29,\"月が異なります！\",IF(SUM($I$13:I29)>$S$7,\"決定時間数を超過しています！\",\"\")))","v":""},0,0,{"$f":"SUM($S$13:S29)","v":0},0,0,{"$f":"IF(I29=0,0,CONCATENATE(VLOOKUP(I29+\"00:01\",'データ '!K:M,3,TRUE),\"/\",$W$11))","v":0}]
["",null,"",null,null,null,null,null,0,null,0,0,0,null,null,18,{"$f":"IF(A30=\"\",\"\",IF($A$13<>A30,\"月が異なります！\",IF(SUM($I$13:I30)>$S$7,\"決定時間数を超過しています！\",\"\")))","v":""},0,0,{"$f":"SUM($S$13:S30)","v":0},0,0,{"$f":"IF(I30=0,0,CONCATENATE(VLOOKUP(I30+\"00:01\",'データ '!K:M,3,TRUE),\"/\",$W$11))","v":0}]
["",null,"",null,null,null,null,null,0,null,0,0,0,null,null,19,{"$f":"IF(A31=\"\",\"\",IF($A$13<>A31,\"月が異なります！\",IF(SUM($I$13:I31)>$S$7,\"決定時間数を超過しています！\",\"\")))","v":""},0,0,{"$f":"SUM($S$13:S31)","v":0},0,0,{"$f":"IF(I31=0,0,CONCATENATE(VLOOKUP(I31+\"00:01\",'データ '!K:M,3,TRUE),\"/\",$W$11))","v":0}]
["",null,"",null,null,null,null,null,0,null,0,0,0,null,null,20,{"$f":"IF(A32=\"\",\"\",IF($A$13<>A32,\"月が異なります！\",IF(SUM($I$13:I32)>$S$7,\"決定時間数を超過しています！\",\"\")))","v":""},0,0,{"$f":"SUM($S$13:S32)","v":0},0,0,{"$f":"IF(I32=0,0,CONCATENATE(VLOOKUP(I32+\"00:01\",'データ '!K:M,3,TRUE),\"/\",$W$11))","v":0}]
["",null,"",null,null,null,null,null,0,null,0,0,0,null,null,21,{"$f":"IF(A33=\"\",\"\",IF($A$13<>A33,\"月が異なります！\",IF(SUM($I$13:I33)>$S$7,\"決定時間数を超過しています！\",\"\")))","v":""},0,0,{"$f":"SUM($S$13:S33)","v":0},0,0,{"$f":"IF(I33=0,0,CONCATENATE(VLOOKUP(I33+\"00:01\",'データ '!K:M,3,TRUE),\"/\",$W$11))","v":0}]
["",null,"",null,null,null,null,null,0,null,0,0,0,null,null,22,{"$f":"IF(A34=\"\",\"\",IF($A$13<>A34,\"月が異なります！\",IF(SUM($I$13:I34)>$S$7,\"決定時間数を超過しています！\",\"\")))","v":""},0,0,{"$f":"SUM($S$13:S34)","v":0},0,0,{"$f":"IF(I34=0,0,CONCATENATE(VLOOKUP(I34+\"00:01\",'データ '!K:M,3,TRUE),\"/\",$W$11))","v":0}]
["",null,"",null,null,null,null,null,0,null,0,0,0,null,null,23,{"$f":"IF(A35=\"\",\"\",IF($A$13<>A35,\"月が異なります！\",IF(SUM($I$13:I35)>$S$7,\"決定時間数を超過しています！\",\"\")))","v":""},0,0,{"$f":"SUM($S$13:S35)","v":0},0,0,{"$f":"IF(I35=0,0,CONCATENATE(VLOOKUP(I35+\"00:01\",'データ '!K:M,3,TRUE),\"/\",$W$11))","v":0}]
["",null,"",null,null,null,null,null,0,null,0,0,0,null,null,24,{"$f":"IF(A36=\"\",\"\",IF($A$13<>A36,\"月が異なります！\",IF(SUM($I$13:I36)>$S$7,\"決定時間数を超過しています！\",\"\")))","v":""},0,0,{"$f":"SUM($S$13:S36)","v":0},0,0,{"$f":"IF(I36=0,0,CONCATENATE(VLOOKUP(I36+\"00:01\",'データ '!K:M,3,TRUE),\"/\",$W$11))","v":0}]
["",null,"",null,null,null,null,null,0,null,0,0,0,null,null,25,{"$f":"IF(A37=\"\",\"\",IF($A$13<>A37,\"月が異なります！\",IF(SUM($I$13:I37)>$S$7,\"決定時間数を超過しています！\",\"\")))","v":""},0,0,{"$f":"SUM($S$13:S37)","v":0},0,0,{"$f":"IF(I37=0,0,CONCATENATE(VLOOKUP(I37+\"00:01\",'データ '!K:M,3,TRUE),\"/\",$W$11))","v":0}]
["",null,"",null,null,null,null,null,0,null,0,0,0,null,null,26,{"$f":"IF(A38=\"\",\"\",IF($A$13<>A38,\"月が異なります！\",IF(SUM($I$13:I38)>$S$7,\"決定時間数を超過しています！\",\"\")))","v":""},0,0,{"$f":"SUM($S$13:S38)","v":0},0,0,{"$f":"IF(I38=0,0,CONCATENATE(VLOOKUP(I38+\"00:01\",'データ '!K:M,3,TRUE),\"/\",$W$11))","v":0}]
["",null,"",null,null,null,null,null,0,null,0,0,0,null,null,27,{"$f":"IF(A39=\"\",\"\",IF($A$13<>A39,\"月が異なります！\",IF(SUM($I$13:I39)>$S$7,\"決定時間数を超過しています！\",\"\")))","v":""},0,0,{"$f":"SUM($S$13:S39)","v":0},0,0,{"$f":"IF(I39=0,0,CONCATENATE(VLOOKUP(I39+\"00:01\",'データ '!K:M,3,TRUE),\"/\",$W$11))","v":0}]
["",null,"",null,null,null,null,null,0,null,0,0,0,null,null,28,{"$f":"IF(A40=\"\",\"\",IF($A$13<>A40,\"月が異なります！\",IF(SUM($I$13:I40)>$S$7,\"決定時間数を超過しています！\",\"\")))","v":""},0,0,{"$f":"SUM($S$13:S40)","v":0},0,0,{"$f":"IF(I40=0,0,CONCATENATE(VLOOKUP(I40+\"00:01\",'データ '!K:M,3,TRUE),\"/\",$W$11))","v":0}]
["",null,"",null,null,null,null,null,0,null,0,0,0,null,null,29,{"$f":"IF(A41=\"\",\"\",IF($A$13<>A41,\"月が異なります！\",IF(SUM($I$13:I41)>$S$7,\"決定時間数を超過しています！\",\"\")))","v":""},0,0,{"$f":"SUM($S$13:S41)","v":0},0,0,{"$f":"IF(I41=0,0,CONCATENATE(VLOOKUP(I41+\"00:01\",'データ '!K:M,3,TRUE),\"/\",$W$11))","v":0}]
["",null,"",null,null,null,null,null,0,null,0,0,0,null,null,30,{"$f":"IF(A42=\"\",\"\",IF($A$13<>A42,\"月が異なります！\",IF(SUM($I$13:I42)>$S$7,\"決定時間数を超過しています！\",\"\")))","v":""},0,0,{"$f":"SUM($S$13:S42)","v":0},0,0,{"$f":"IF(I42=0,0,CONCATENATE(VLOOKUP(I42+\"00:01\",'データ '!K:M,3,TRUE),\"/\",$W$11))","v":0}]
["",null,"",null,null,null,null,null,0,null,0,0,0,null,null,31,{"$f":"IF(A43=\"\",\"\",IF($A$13<>A43,\"月が異なります！\",IF(SUM($I$13:I43)>$S$7,\"決定時間数を超過しています！\",\"\")))","v":""},0,0,{"$f":"SUM($S$13:S43)","v":0},0,0,{"$f":"IF(I43=0,0,CONCATENATE(VLOOKUP(I43+\"00:01\",'データ '!K:M,3,TRUE),\"/\",$W$11))","v":0}]
["合計",null,null,null,null,null,null,null,{"$f":"SUM(I13:I43)","v":0},null,{"$f":"SUM(K13:K43)","v":0},{"$f":"SUM(L13:L43)","v":0},{"$f":"SUM(M13:M43)","v":0},null,null,null,null,null,null,null,null,null,{"$f":"IF(I44>=$X$8,$Y$9,IF(AND(I44<$X$8,I44>=$X$7),$Y$8,IF(I44<$X$7,$Y$7)))&$W$11","v":"無"}]

{"sheet":"7","index":12,"n_rows":44,"n_cols":23,"rows_kept":44,"cut":false,"hidden":false,"merged":[[10,19,11,19],[10,20,11,20],[10,21,11,21],[43,0,43,7],[10,9,11,9],[10,10,11,10],[10,11,11,11],[10,12,11,12],[10,13,11,13],[10,14,11,14],[10,0,10,2],[10,3,10,5],[10,6,10,7],[10,8,11,8],[10,16,11,16],[6,16,8,16],[7,0,7,4],[7,5,7,6],[7,7,7,8],[8,0,8,4],[6,0,6,2],[6,3,6,4],[6,6,6,7],[6,9,8,10],[6,11,8,14],[8,5,8,6],[8,7,8,8],[4,11,4,14],[5,11,5,14],[3,1,3,4],[4,0,5,2],[4,3,5,5],[4,6,5,7],[4,8,5,10],[3,5,3,14]]}
[null,"№",7]
[]
[]
[null,{"$f":"EOMONTH(B13,0)","v":"1900-01-31"},null,null,null,"鎌ケ谷市移動支援サービス提供実績記録票"]
["登録番号",null,null,{"$f":"VLOOKUP($C$1,利用者情報!A:U,COLUMN(利用者情報!B3),FALSE)","v":0},null,null,"支給決定障がい者等氏名\n（児童氏名）",null,{"$f":"VLOOKUP($C$1,利用者情報!A:U,COLUMN(利用者情報!C1),FALSE)","v":0},null,null,"事業所登録番号"]
[null,null,null,null,null,null,null,null,null,null,null,{"$f":"請求事業者!B3","v":0},null,null,null,null,"コメント",null,"決定時間数"]
["契約支給量",null,null,"身体介護を\n伴う",null,{"$f":"IF(VLOOKUP(C1,利用者情報!A:G,5)=\"有\",CONCATENATE(VLOOKUP(C1,利用者情報!A:G,4)&\"時間\"),\"\")","v":""},"身体介護を\n伴わない",null,{"$f":"IF(VLOOKUP(C1,利用者情報!A:G,5)<>\"有\",CONCATENATE(VLOOKUP(C1,利用者情報!A:G,4)&\"時間\"),\"\")","v":"時間"},"事業所及び\nその事業所",null,{"$f":"請求事業者!B7","v":0},null,null,null,null,{"$f":"利用者情報!J4","v":""},null,{"$f":"IF(F7=\"\",I7,F7)","v":"時間"}]
["利用者負担の有無",null,null,null,null,"利用者の負担割合",null,"利用者負担上限額"]
[{"$f":"VLOOKUP($C$1,利用者情報!A:U,COLUMN(利用者情報!F3),FALSE)","v":0},null,null,null,null,{"$f":"IF(A9=\"有\",\"1割\",\"0割\")","v":"0割"},null,{"$f":"VLOOKUP($C$1,利用者情報!A:U,COLUMN(利用者情報!G3),FALSE)","v":0},null,null,null,null,null,null,null,null,null,null,null,null,null,null,{"$f":"請求事業者!C9","v":5}]
[null,null,null,null,null,null,null,null,null,null,null,null,null,null,null,null,null,null,null,null,null,null,"便宜上区分"]
["日付",null,null,"支援計画",null,null,null,null,"算定\n時間","派遣\n人数","算定額","利用者\n負担額","請求額","サービス\n提供者印","利用者\n確認印",null,"コメント",null,null,"利用者負担額\n累計","上限到達フラグ","上限達成時の利用者負担額",{"$f":"IF(F7=\"\",\"無\",\"有\")","v":"無"}]
["月","日","曜日","開始\n時間","終了\n時間","計画\n時間数","開始\n時間","終了\n時間",null,null,null,null,null,null,null,null,null,"請求額","利用者\n負担額",null,null,null,{"$f":"IF(A9=\"有\",\"（9割）\",\"\")","v":""}]
[{"$f":"IF(B13=\"\",\"\",TEXT(B13,\"m\"))","v":""},null,{"$f":"IF(B13=\"\",\"\",B13)","v":""},null,null,null,null,null,{"$f":"H13-G13","v":0},null,{"$f":"IF($H13=0,0,INDEX(単価,MATCH(W13,時間,0),MATCH($W$9,地域区分,0)))","v":0},{"$f":"IF(U13=0,S13,V13)","v":0},{"$f":"K13-L13","v":0},null,null,1,{"$f":"IF(A13=\"\",\"\",IF($A$13<>A13,\"月が異なります！\",IF(SUM($I$13:I13)>$S$7,\"決定時間数を超過しています！\",\"\")))","v":""},{"$f":"IF(I13=0,0,INDEX(単価,MATCH(W13,時間,0),MATCH(IF(W12=\"\",W9,W9&W12),地域区分,0)))","v":0},{"$f":"K13-R13","v":0},{"$f":"SUM($S$13:S13)","v":0},null,null,{"$f":"IF(I13=0,0,CONCATENATE(VLOOKUP(I13+\"00:01\",'データ '!K:M,3,TRUE),\"/\",$W$11))","v":0}]
[{"$f":"IF(B14=\"\",\"\",TEXT(B14,\"m\"))","v":""},null,{"$f":"IF(B14=\"\",\"\",B14)","v":""},null,null,null,null,null,{"$f":"H14-G14","v":0},null,{"$f":"IF($H14=0,0,INDEX(単価,MATCH(W14,時間,0),MATCH($W$9,地域区分,0)))","v":0},{"$f":"IF(U14=0,S14,V14)","v":0},{"$f":"K14-L14","v":0},null,null,2,{"$f":"IF(A14=\"\",\"\",IF($A$13<>A14,\"月が異なります！\",IF(SUM($I$13:I14)>$S$7,\"決定時間数を超過しています！\",\"\")))","v":""},{"$f":"IF(AND($H14=0),0,IF($A$9=\"有\",INDEX(単価,MATCH(W14,時間,0),MATCH($W$9&$W$12,地域区分,0)),INDEX(単価,MATCH(W14,時間,0),MATCH($W$9,地域区分,0))))","v":0},{"$f":"K14-R14","v":0},{"$f":"SUM($S$13:S14)","v":0},{"$f":"IF(AND(T13<$H$9,T14>$H$9),1,IF(T14>$H$9,2,0))","v":0},{"$f":"IF(U14=1,$H$9-T13,0)","v":0},{"$f":"IF(I14=0,0,CONCATENATE(VLOOKUP(I14+\"00:01\",'データ '!K:M,3,TRUE),\"/\",$W$11))","v":0}]
["",null,"",null,null,null,null,null,0,null,0,{"$f":"IF(U15=0,S15,V15)","v":0},{"$f":"K15-L15","v":0},null,null,3,{"$f":"IF(A15=\"\",\"\",IF($A$13<>A15,\"月が異なります！\",IF(SUM($I$13:I15)>$S$7,\"決定時間数を超過しています！\",\"\")))","v":""},0,0,{"$f":"SUM($S$13:S15)","v":0},{"$f":"IF(AND(T14<$H$9,T15>$H$9),1,IF(T15>$H$9,2,0))","v":0},{"$f":"IF(U15=1,$H$9-T14,0)","v":0},{"$f":"IF(I15=0,0,CONCATENATE(VLOOKUP(I15+\"00:01\",'データ '!K:M,3,TRUE),\"/\",$W$11))","v":0}]
["",null,"",null,null,null,null,null,0,null,0,0,0,null,null,4,{"$f":"IF(A16=\"\",\"\",IF($A$13<>A16,\"月が異なります！\",IF(SUM($I$13:I16)>$S$7,\"決定時間数を超過しています！\",\"\")))","v":""},0,0,{"$f":"SUM($S$13:S16)","v":0},0,0,{"$f":"IF(I16=0,0,CONCATENATE(VLOOKUP(I16+\"00:01\",'データ '!K:M,3,TRUE),\"/\",$W$11))","v":0}]
["",null,"",null,null,null,null,null,0,null,0,0,0,null,null,5,{"$f":"IF(A17=\"\",\"\",IF($A$13<>A17,\"月が異なります！\",IF(SUM($I$13:I17)>$S$7,\"決定時間数を超過しています！\",\"\")))","v":""},0,0,{"$f":"SUM($S$13:S17)","v":0},0,0,{"$f":"IF(I17=0,0,CONCATENATE(VLOOKUP(I17+\"00:01\",'データ '!K:M,3,TRUE),\"/\",$W$11))","v":0}]
["",null,"",null,null,null,null,null,0,null,0,0,0,null,null,6,{"$f":"IF(A18=\"\",\"\",IF($A$13<>A18,\"月が異なります！\",IF(SUM($I$13:I18)>$S$7,\"決定時間数を超過しています！\",\"\")))","v":""},0,0,{"$f":"SUM($S$13:S18)","v":0},0,0,{"$f":"IF(I18=0,0,CONCATENATE(VLOOKUP(I18+\"00:01\",'データ '!K:M,3,TRUE),\"/\",$W$11))","v":0}]
["",null,"",null,null,null,null,null,0,null,0,0,0,null,null,7,{"$f":"IF(A19=\"\",\"\",IF($A$13<>A19,\"月が異なります！\",IF(SUM($I$13:I19)>$S$7,\"決定時間数を超過しています！\",\"\")))","v":""},0,0,{"$f":"SUM($S$13:S19)","v":0},0,0,{"$f":"IF(I19=0,0,CONCATENATE(VLOOKUP(I19+\"00:01\",'データ '!K:M,3,TRUE),\"/\",$W$11))","v":0}]
["",null,"",null,null,null,null,null,0,null,0,0,0,null,null,8,{"$f":"IF(A20=\"\",\"\",IF($A$13<>A20,\"月が異なります！\",IF(SUM($I$13:I20)>$S$7,\"決定時間数を超過しています！\",\"\")))","v":""},0,0,{"$f":"SUM($S$13:S20)","v":0},0,0,{"$f":"IF(I20=0,0,CONCATENATE(VLOOKUP(I20+\"00:01\",'データ '!K:M,3,TRUE),\"/\",$W$11))","v":0}]
["",null,"",null,null,null,null,null,0,null,0,{"$f":"IF(U21=0,S21,V21)","v":0},0,null,null,9,{"$f":"IF(A21=\"\",\"\",IF($A$13<>A21,\"月が異なります！\",IF(SUM($I$13:I21)>$S$7,\"決定時間数を超過しています！\",\"\")))","v":""},0,0,{"$f":"SUM($S$13:S21)","v":0},0,0,{"$f":"IF(I21=0,0,CONCATENATE(VLOOKUP(I21+\"00:01\",'データ '!K:M,3,TRUE),\"/\",$W$11))","v":0}]
["",null,"",null,null,null,null,null,0,null,0,{"$f":"IF(U22=0,S22,V22)","v":0},0,null,null,10,{"$f":"IF(A22=\"\",\"\",IF($A$13<>A22,\"月が異なります！\",IF(SUM($I$13:I22)>$S$7,\"決定時間数を超過しています！\",\"\")))","v":""},0,{"$f":"K22-R22","v":0},{"$f":"SUM($S$13:S22)","v":0},0,0,{"$f":"IF(I22=0,0,CONCATENATE(VLOOKUP(I22+\"00:01\",'データ '!K:M,3,TRUE),\"/\",$W$11))","v":0}]
["",null,"",null,null,null,null,null,0,null,0,0,0,null,null,11,{"$f":"IF(A23=\"\",\"\",IF($A$13<>A23,\"月が異なります！\",IF(SUM($I$13:I23)>$S$7,\"決定時間数を超過しています！\",\"\")))","v":""},0,0,{"$f":"SUM($S$13:S23)","v":0},0,0,{"$f":"IF(I23=0,0,CONCATENATE(VLOOKUP(I23+\"00:01\",'データ '!K:M,3,TRUE),\"/\",$W$11))","v":0}]
["",null,"",null,null,null,null,null,0,null,0,0,0,null,null,12,{"$f":"IF(A24=\"\",\"\",IF($A$13<>A24,\"月が異なります！\",IF(SUM($I$13:I24)>$S$7,\"決定時間数を超過しています！\",\"\")))","v":""},0,0,{"$f":"SUM($S$13:S24)","v":0},0,0,{"$f":"IF(I24=0,0,CONCATENATE(VLOOKUP(I24+\"00:01\",'データ '!K:M,3,TRUE),\"/\",$W$11))","v":0}]
["",null,"",null,null,null,null,null,0,null,0,0,0,null,null,13,{"$f":"IF(A25=\"\",\"\",IF($A$13<>A25,\"月が異なります！\",IF(SUM($I$13:I25)>$S$7,\"決定時間数を超過しています！\",\"\")))","v":""},0,0,{"$f":"SUM($S$13:S25)","v":0},0,0,{"$f":"IF(I25=0,0,CONCATENATE(VLOOKUP(I25+\"00:01\",'データ '!K:M,3,TRUE),\"/\",$W$11))","v":0}]
["",null,"",null,null,null,null,null,0,null,0,0,0,null,null,14,{"$f":"IF(A26=\"\",\"\",IF($A$13<>A26,\"月が異なります！\",IF(SUM($I$13:I26)>$S$7,\"決定時間数を超過しています！\",\"\")))","v":""},0,0,{"$f":"SUM($S$13:S26)","v":0},0,0,{"$f":"IF(I26=0,0,CONCATENATE(VLOOKUP(I26+\"00:01\",'データ '!K:M,3,TRUE),\"/\",$W$11))","v":0}]
["",null,"",null,null,null,null,null,0,null,0,0,0,null,null,15,{"$f":"IF(A27=\"\",\"\",IF($A$13<>A27,\"月が異なります！\",IF(SUM($I$13:I27)>$S$7,\"決定時間数を超過しています！\",\"\")))","v":""},0,0,{"$f":"SUM($S$13:S27)","v":0},0,0,{"$f":"IF(I27=0,0,CONCATENATE(VLOOKUP(I27+\"00:01\",'データ '!K:M,3,TRUE),\"/\",$W$11))","v":0}]
["",null,"",null,null,null,null,null,0,null,0,0,0,null,null,16,{"$f":"IF(A28=\"\",\"\",IF($A$13<>A28,\"月が異なります！\",IF(SUM($I$13:I28)>$S$7,\"決定時間数を超過しています！\",\"\")))","v":""},0,0,{"$f":"SUM($S$13:S28)","v":0},0,0,{"$f":"IF(I28=0,0,CONCATENATE(VLOOKUP(I28+\"00:01\",'データ '!K:M,3,TRUE),\"/\",$W$11))","v":0}]
["",null,"",null,null,null,null,null,0,null,0,0,0,null,null,17,{"$f":"IF(A29=\"\",\"\",IF($A$13<>A29,\"月が異なります！\",IF(SUM($I$13:I29)>$S$7,\"決定時間数を超過しています！\",\"\")))","v":""},0,0,{"$f":"SUM($S$13:S29)","v":0},0,0,{"$f":"IF(I29=0,0,CONCATENATE(VLOOKUP(I29+\"00:01\",'データ '!K:M,3,TRUE),\"/\",$W$11))","v":0}]
["",null,"",null,null,null,null,null,0,null,0,0,0,null,null,18,{"$f":"IF(A30=\"\",\"\",IF($A$13<>A30,\"月が異なります！\",IF(SUM($I$13:I30)>$S$7,\"決定時間数を超過しています！\",\"\")))","v":""},0,0,{"$f":"SUM($S$13:S30)","v":0},0,0,{"$f":"IF(I30=0,0,CONCATENATE(VLOOKUP(I30+\"00:01\",'データ '!K:M,3,TRUE),\"/\",$W$11))","v":0}]
["",null,"",null,null,null,null,null,0,null,0,0,0,null,null,19,{"$f":"IF(A31=\"\",\"\",IF($A$13<>A31,\"月が異なります！\",IF(SUM($I$13:I31)>$S$7,\"決定時間数を超過しています！\",\"\")))","v":""},0,0,{"$f":"SUM($S$13:S31)","v":0},0,0,{"$f":"IF(I31=0,0,CONCATENATE(VLOOKUP(I31+\"00:01\",'データ '!K:M,3,TRUE),\"/\",$W$11))","v":0}]
["",null,"",null,null,null,null,null,0,null,0,0,0,null,null,20,{"$f":"IF(A32=\"\",\"\",IF($A$13<>A32,\"月が異なります！\",IF(SUM($I$13:I32)>$S$7,\"決定時間数を超過しています！\",\"\")))","v":""},0,0,{"$f":"SUM($S$13:S32)","v":0},0,0,{"$f":"IF(I32=0,0,CONCATENATE(VLOOKUP(I32+\"00:01\",'データ '!K:M,3,TRUE),\"/\",$W$11))","v":0}]
["",null,"",null,null,null,null,null,0,null,0,0,0,null,null,21,{"$f":"IF(A33=\"\",\"\",IF($A$13<>A33,\"月が異なります！\",IF(SUM($I$13:I33)>$S$7,\"決定時間数を超過しています！\",\"\")))","v":""},0,0,{"$f":"SUM($S$13:S33)","v":0},0,0,{"$f":"IF(I33=0,0,CONCATENATE(VLOOKUP(I33+\"00:01\",'データ '!K:M,3,TRUE),\"/\",$W$11))","v":0}]
["",null,"",null,null,null,null,null,0,null,0,0,0,null,null,22,{"$f":"IF(A34=\"\",\"\",IF($A$13<>A34,\"月が異なります！\",IF(SUM($I$13:I34)>$S$7,\"決定時間数を超過しています！\",\"\")))","v":""},0,0,{"$f":"SUM($S$13:S34)","v":0},0,0,{"$f":"IF(I34=0,0,CONCATENATE(VLOOKUP(I34+\"00:01\",'データ '!K:M,3,TRUE),\"/\",$W$11))","v":0}]
["",null,"",null,null,null,null,null,0,null,0,0,0,null,null,23,{"$f":"IF(A35=\"\",\"\",IF($A$13<>A35,\"月が異なります！\",IF(SUM($I$13:I35)>$S$7,\"決定時間数を超過しています！\",\"\")))","v":""},0,0,{"$f":"SUM($S$13:S35)","v":0},0,0,{"$f":"IF(I35=0,0,CONCATENATE(VLOOKUP(I35+\"00:01\",'データ '!K:M,3,TRUE),\"/\",$W$11))","v":0}]
["",null,"",null,null,null,null,null,0,null,0,0,0,null,null,24,{"$f":"IF(A36=\"\",\"\",IF($A$13<>A36,\"月が異なります！\",IF(SUM($I$13:I36)>$S$7,\"決定時間数を超過しています！\",\"\")))","v":""},0,0,{"$f":"SUM($S$13:S36)","v":0},0,0,{"$f":"IF(I36=0,0,CONCATENATE(VLOOKUP(I36+\"00:01\",'データ '!K:M,3,TRUE),\"/\",$W$11))","v":0}]
["",null,"",null,null,null,null,null,0,null,0,0,0,null,null,25,{"$f":"IF(A37=\"\",\"\",IF($A$13<>A37,\"月が異なります！\",IF(SUM($I$13:I37)>$S$7,\"決定時間数を超過しています！\",\"\")))","v":""},0,0,{"$f":"SUM($S$13:S37)","v":0},0,0,{"$f":"IF(I37=0,0,CONCATENATE(VLOOKUP(I37+\"00:01\",'データ '!K:M,3,TRUE),\"/\",$W$11))","v":0}]
["",null,"",null,null,null,null,null,0,null,0,0,0,null,null,26,{"$f":"IF(A38=\"\",\"\",IF($A$13<>A38,\"月が異なります！\",IF(SUM($I$13:I38)>$S$7,\"決定時間数を超過しています！\",\"\")))","v":""},0,0,{"$f":"SUM($S$13:S38)","v":0},0,0,{"$f":"IF(I38=0,0,CONCATENATE(VLOOKUP(I38+\"00:01\",'データ '!K:M,3,TRUE),\"/\",$W$11))","v":0}]
["",null,"",null,null,null,null,null,0,null,0,0,0,null,null,27,{"$f":"IF(A39=\"\",\"\",IF($A$13<>A39,\"月が異なります！\",IF(SUM($I$13:I39)>$S$7,\"決定時間数を超過しています！\",\"\")))","v":""},0,0,{"$f":"SUM($S$13:S39)","v":0},0,0,{"$f":"IF(I39=0,0,CONCATENATE(VLOOKUP(I39+\"00:01\",'データ '!K:M,3,TRUE),\"/\",$W$11))","v":0}]
["",null,"",null,null,null,null,null,0,null,0,0,0,null,null,28,{"$f":"IF(A40=\"\",\"\",IF($A$13<>A40,\"月が異なります！\",IF(SUM($I$13:I40)>$S$7,\"決定時間数を超過しています！\",\"\")))","v":""},0,0,{"$f":"SUM($S$13:S40)","v":0},0,0,{"$f":"IF(I40=0,0,CONCATENATE(VLOOKUP(I40+\"00:01\",'データ '!K:M,3,TRUE),\"/\",$W$11))","v":0}]
["",null,"",null,null,null,null,null,0,null,0,0,0,null,null,29,{"$f":"IF(A41=\"\",\"\",IF($A$13<>A41,\"月が異なります！\",IF(SUM($I$13:I41)>$S$7,\"決定時間数を超過しています！\",\"\")))","v":""},0,0,{"$f":"SUM($S$13:S41)","v":0},0,0,{"$f":"IF(I41=0,0,CONCATENATE(VLOOKUP(I41+\"00:01\",'データ '!K:M,3,TRUE),\"/\",$W$11))","v":0}]
["",null,"",null,null,null,null,null,0,null,0,0,0,null,null,30,{"$f":"IF(A42=\"\",\"\",IF($A$13<>A42,\"月が異なります！\",IF(SUM($I$13:I42)>$S$7,\"決定時間数を超過しています！\",\"\")))","v":""},0,0,{"$f":"SUM($S$13:S42)","v":0},0,0,{"$f":"IF(I42=0,0,CONCATENATE(VLOOKUP(I42+\"00:01\",'データ '!K:M,3,TRUE),\"/\",$W$11))","v":0}]
["",null,"",null,null,null,null,null,0,null,0,0,0,null,null,31,{"$f":"IF(A43=\"\",\"\",IF($A$13<>A43,\"月が異なります！\",IF(SUM($I$13:I43)>$S$7,\"決定時間数を超過しています！\",\"\")))","v":""},0,0,{"$f":"SUM($S$13:S43)","v":0},0,0,{"$f":"IF(I43=0,0,CONCATENATE(VLOOKUP(I43+\"00:01\",'データ '!K:M,3,TRUE),\"/\",$W$11))","v":0}]
["合計",null,null,null,null,null,null,null,{"$f":"SUM(I13:I43)","v":0},null,{"$f":"SUM(K13:K43)","v":0},{"$f":"SUM(L13:L43)","v":0},{"$f":"SUM(M13:M43)","v":0},null,null,null,null,null,null,null,null,null,{"$f":"IF(I44>=$X$8,$Y$9,IF(AND(I44<$X$8,I44>=$X$7),$Y$8,IF(I44<$X$7,$Y$7)))&$W$11","v":"無"}]

{"sheet":"8","index":13,"n_rows":44,"n_cols":23,"rows_kept":44,"cut":false,"hidden":false,"merged":[[10,19,11,19],[10,20,11,20],[10,21,11,21],[43,0,43,7],[10,9,11,9],[10,10,11,10],[10,11,11,11],[10,12,11,12],[10,13,11,13],[10,14,11,14],[10,0,10,2],[10,3,10,5],[10,6,10,7],[10,8,11,8],[10,16,11,16],[6,16,8,16],[7,0,7,4],[7,5,7,6],[7,7,7,8],[8,0,8,4],[6,0,6,2],[6,3,6,4],[6,6,6,7],[6,9,8,10],[6,11,8,14],[8,5,8,6],[8,7,8,8],[4,11,4,14],[5,11,5,14],[3,1,3,4],[4,0,5,2],[4,3,5,5],[4,6,5,7],[4,8,5,10],[3,5,3,14]]}
[null,"№",8]
[]
[]
[null,{"$f":"EOMONTH(B13,0)","v":"1900-01-31"},null,null,null,"鎌ケ谷市移動支援サービス提供実績記録票"]
["登録番号",null,null,{"$f":"VLOOKUP($C$1,利用者情報!A:U,COLUMN(利用者情報!B3),FALSE)","v":0},null,null,"支給決定障がい者等氏名\n（児童氏名）",null,{"$f":"VLOOKUP($C$1,利用者情報!A:U,COLUMN(利用者情報!C1),FALSE)","v":0},null,null,"事業所登録番号"]
[null,null,null,null,null,null,null,null,null,null,null,{"$f":"請求事業者!B3","v":0},null,null,null,null,"コメント",null,"決定時間数"]
["契約支給量",null,null,"身体介護を\n伴う",null,{"$f":"IF(VLOOKUP(C1,利用者情報!A:G,5)=\"有\",CONCATENATE(VLOOKUP(C1,利用者情報!A:G,4)&\"時間\"),\"\")","v":""},"身体介護を\n伴わない",null,{"$f":"IF(VLOOKUP(C1,利用者情報!A:G,5)<>\"有\",CONCATENATE(VLOOKUP(C1,利用者情報!A:G,4)&\"時間\"),\"\")","v":"時間"},"事業所及び\nその事業所",null,{"$f":"請求事業者!B7","v":0},null,null,null,null,{"$f":"利用者情報!J4","v":""},null,{"$f":"IF(F7=\"\",I7,F7)","v":"時間"}]
["利用者負担の有無",null,null,null,null,"利用者の負担割合",null,"利用者負担上限額"]
[{"$f":"VLOOKUP($C$1,利用者情報!A:U,COLUMN(利用者情報!F3),FALSE)","v":0},null,null,null,null,{"$f":"IF(A9=\"有\",\"1割\",\"0割\")","v":"0割"},null,{"$f":"VLOOKUP($C$1,利用者情報!A:U,COLUMN(利用者情報!G3),FALSE)","v":0},null,null,null,null,null,null,null,null,null,null,null,null,null,null,{"$f":"請求事業者!C9","v":5}]
[null,null,null,null,null,null,null,null,null,null,null,null,null,null,null,null,null,null,null,null,null,null,"便宜上区分"]
["日付",null,null,"支援計画",null,null,null,null,"算定\n時間","派遣\n人数","算定額","利用者\n負担額","請求額","サービス\n提供者印","利用者\n確認印",null,"コメント",null,null,"利用者負担額\n累計","上限到達フラグ","上限達成時の利用者負担額",{"$f":"IF(F7=\"\",\"無\",\"有\")","v":"無"}]
["月","日","曜日","開始\n時間","終了\n時間","計画\n時間数","開始\n時間","終了\n時間",null,null,null,null,null,null,null,null,null,"請求額","利用者\n負担額",null,null,null,{"$f":"IF(A9=\"有\",\"（9割）\",\"\")","v":""}]
[{"$f":"IF(B13=\"\",\"\",TEXT(B13,\"m\"))","v":""},null,{"$f":"IF(B13=\"\",\"\",B13)","v":""},null,null,null,null,null,{"$f":"H13-G13","v":0},null,{"$f":"IF($H13=0,0,INDEX(単価,MATCH(W13,時間,0),MATCH($W$9,地域区分,0)))","v":0},{"$f":"IF(U13=0,S13,V13)","v":0},{"$f":"K13-L13","v":0},null,null,1,{"$f":"IF(A13=\"\",\"\",IF($A$13<>A13,\"月が異なります！\",IF(SUM($I$13:I13)>$S$7,\"決定時間数を超過しています！\",\"\")))","v":""},{"$f":"IF(I13=0,0,INDEX(単価,MATCH(W13,時間,0),MATCH(IF(W12=\"\",W9,W9&W12),地域区分,0)))","v":0},{"$f":"K13-R13","v":0},{"$f":"SUM($S$13:S13)","v":0},null,null,{"$f":"IF(I13=0,0,CONCATENATE(VLOOKUP(I13+\"00:01\",'データ '!K:M,3,TRUE),\"/\",$W$11))","v":0}]
[{"$f":"IF(B14=\"\",\"\",TEXT(B14,\"m\"))","v":""},null,{"$f":"IF(B14=\"\",\"\",B14)","v":""},null,null,null,null,null,{"$f":"H14-G14","v":0},null,{"$f":"IF($H14=0,0,INDEX(単価,MATCH(W14,時間,0),MATCH($W$9,地域区分,0)))","v":0},{"$f":"IF(U14=0,S14,V14)","v":0},{"$f":"K14-L14","v":0},null,null,2,{"$f":"IF(A14=\"\",\"\",IF($A$13<>A14,\"月が異なります！\",IF(SUM($I$13:I14)>$S$7,\"決定時間数を超過しています！\",\"\")))","v":""},{"$f":"IF(AND($H14=0),0,IF($A$9=\"有\",INDEX(単価,MATCH(W14,時間,0),MATCH($W$9&$W$12,地域区分,0)),INDEX(単価,MATCH(W14,時間,0),MATCH($W$9,地域区分,0))))","v":0},{"$f":"K14-R14","v":0},{"$f":"SUM($S$13:S14)","v":0},{"$f":"IF(AND(T13<$H$9,T14>$H$9),1,IF(T14>$H$9,2,0))","v":0},{"$f":"IF(U14=1,$H$9-T13,0)","v":0},{"$f":"IF(I14=0,0,CONCATENATE(VLOOKUP(I14+\"00:01\",'データ '!K:M,3,TRUE),\"/\",$W$11))","v":0}]
["",null,"",null,null,null,null,null,0,null,0,{"$f":"IF(U15=0,S15,V15)","v":0},{"$f":"K15-L15","v":0},null,null,3,{"$f":"IF(A15=\"\",\"\",IF($A$13<>A15,\"月が異なります！\",IF(SUM($I$13:I15)>$S$7,\"決定時間数を超過しています！\",\"\")))","v":""},0,0,{"$f":"SUM($S$13:S15)","v":0},{"$f":"IF(AND(T14<$H$9,T15>$H$9),1,IF(T15>$H$9,2,0))","v":0},{"$f":"IF(U15=1,$H$9-T14,0)","v":0},{"$f":"IF(I15=0,0,CONCATENATE(VLOOKUP(I15+\"00:01\",'データ '!K:M,3,TRUE),\"/\",$W$11))","v":0}]
["",null,"",null,null,null,null,null,0,null,0,0,0,null,null,4,{"$f":"IF(A16=\"\",\"\",IF($A$13<>A16,\"月が異なります！\",IF(SUM($I$13:I16)>$S$7,\"決定時間数を超過しています！\",\"\")))","v":""},0,0,{"$f":"SUM($S$13:S16)","v":0},0,0,{"$f":"IF(I16=0,0,CONCATENATE(VLOOKUP(I16+\"00:01\",'データ '!K:M,3,TRUE),\"/\",$W$11))","v":0}]
["",null,"",null,null,null,null,null,0,null,0,0,0,null,null,5,{"$f":"IF(A17=\"\",\"\",IF($A$13<>A17,\"月が異なります！\",IF(SUM($I$13:I17)>$S$7,\"決定時間数を超過しています！\",\"\")))","v":""},0,0,{"$f":"SUM($S$13:S17)","v":0},0,0,{"$f":"IF(I17=0,0,CONCATENATE(VLOOKUP(I17+\"00:01\",'データ '!K:M,3,TRUE),\"/\",$W$11))","v":0}]
["",null,"",null,null,null,null,null,0,null,0,0,0,null,null,6,{"$f":"IF(A18=\"\",\"\",IF($A$13<>A18,\"月が異なります！\",IF(SUM($I$13:I18)>$S$7,\"決定時間数を超過しています！\",\"\")))","v":""},0,0,{"$f":"SUM($S$13:S18)","v":0},0,0,{"$f":"IF(I18=0,0,CONCATENATE(VLOOKUP(I18+\"00:01\",'データ '!K:M,3,TRUE),\"/\",$W$11))","v":0}]
["",null,"",null,null,null,null,null,0,null,0,0,0,null,null,7,{"$f":"IF(A19=\"\",\"\",IF($A$13<>A19,\"月が異なります！\",IF(SUM($I$13:I19)>$S$7,\"決定時間数を超過しています！\",\"\")))","v":""},0,0,{"$f":"SUM($S$13:S19)","v":0},0,0,{"$f":"IF(I19=0,0,CONCATENATE(VLOOKUP(I19+\"00:01\",'データ '!K:M,3,TRUE),\"/\",$W$11))","v":0}]
["",null,"",null,null,null,null,null,0,null,0,0,0,null,null,8,{"$f":"IF(A20=\"\",\"\",IF($A$13<>A20,\"月が異なります！\",IF(SUM($I$13:I20)>$S$7,\"決定時間数を超過しています！\",\"\")))","v":""},0,0,{"$f":"SUM($S$13:S20)","v":0},0,0,{"$f":"IF(I20=0,0,CONCATENATE(VLOOKUP(I20+\"00:01\",'データ '!K:M,3,TRUE),\"/\",$W$11))","v":0}]
["",null,"",null,null,null,null,null,0,null,0,{"$f":"IF(U21=0,S21,V21)","v":0},0,null,null,9,{"$f":"IF(A21=\"\",\"\",IF($A$13<>A21,\"月が異なります！\",IF(SUM($I$13:I21)>$S$7,\"決定時間数を超過しています！\",\"\")))","v":""},0,0,{"$f":"SUM($S$13:S21)","v":0},0,0,{"$f":"IF(I21=0,0,CONCATENATE(VLOOKUP(I21+\"00:01\",'データ '!K:M,3,TRUE),\"/\",$W$11))","v":0}]
["",null,"",null,null,null,null,null,0,null,0,{"$f":"IF(U22=0,S22,V22)","v":0},0,null,null,10,{"$f":"IF(A22=\"\",\"\",IF($A$13<>A22,\"月が異なります！\",IF(SUM($I$13:I22)>$S$7,\"決定時間数を超過しています！\",\"\")))","v":""},0,{"$f":"K22-R22","v":0},{"$f":"SUM($S$13:S22)","v":0},0,0,{"$f":"IF(I22=0,0,CONCATENATE(VLOOKUP(I22+\"00:01\",'データ '!K:M,3,TRUE),\"/\",$W$11))","v":0}]
["",null,"",null,null,null,null,null,0,null,0,0,0,null,null,11,{"$f":"IF(A23=\"\",\"\",IF($A$13<>A23,\"月が異なります！\",IF(SUM($I$13:I23)>$S$7,\"決定時間数を超過しています！\",\"\")))","v":""},0,0,{"$f":"SUM($S$13:S23)","v":0},0,0,{"$f":"IF(I23=0,0,CONCATENATE(VLOOKUP(I23+\"00:01\",'データ '!K:M,3,TRUE),\"/\",$W$11))","v":0}]
["",null,"",null,null,null,null,null,0,null,0,0,0,null,null,12,{"$f":"IF(A24=\"\",\"\",IF($A$13<>A24,\"月が異なります！\",IF(SUM($I$13:I24)>$S$7,\"決定時間数を超過しています！\",\"\")))","v":""},0,0,{"$f":"SUM($S$13:S24)","v":0},0,0,{"$f":"IF(I24=0,0,CONCATENATE(VLOOKUP(I24+\"00:01\",'データ '!K:M,3,TRUE),\"/\",$W$11))","v":0}]
["",null,"",null,null,null,null,null,0,null,0,0,0,null,null,13,{"$f":"IF(A25=\"\",\"\",IF($A$13<>A25,\"月が異なります！\",IF(SUM($I$13:I25)>$S$7,\"決定時間数を超過しています！\",\"\")))","v":""},0,0,{"$f":"SUM($S$13:S25)","v":0},0,0,{"$f":"IF(I25=0,0,CONCATENATE(VLOOKUP(I25+\"00:01\",'データ '!K:M,3,TRUE),\"/\",$W$11))","v":0}]
["",null,"",null,null,null,null,null,0,null,0,0,0,null,null,14,{"$f":"IF(A26=\"\",\"\",IF($A$13<>A26,\"月が異なります！\",IF(SUM($I$13:I26)>$S$7,\"決定時間数を超過しています！\",\"\")))","v":""},0,0,{"$f":"SUM($S$13:S26)","v":0},0,0,{"$f":"IF(I26=0,0,CONCATENATE(VLOOKUP(I26+\"00:01\",'データ '!K:M,3,TRUE),\"/\",$W$11))","v":0}]
["",null,"",null,null,null,null,null,0,null,0,0,0,null,null,15,{"$f":"IF(A27=\"\",\"\",IF($A$13<>A27,\"月が異なります！\",IF(SUM($I$13:I27)>$S$7,\"決定時間数を超過しています！\",\"\")))","v":""},0,0,{"$f":"SUM($S$13:S27)","v":0},0,0,{"$f":"IF(I27=0,0,CONCATENATE(VLOOKUP(I27+\"00:01\",'データ '!K:M,3,TRUE),\"/\",$W$11))","v":0}]
["",null,"",null,null,null,null,null,0,null,0,0,0,null,null,16,{"$f":"IF(A28=\"\",\"\",IF($A$13<>A28,\"月が異なります！\",IF(SUM($I$13:I28)>$S$7,\"決定時間数を超過しています！\",\"\")))","v":""},0,0,{"$f":"SUM($S$13:S28)","v":0},0,0,{"$f":"IF(I28=0,0,CONCATENATE(VLOOKUP(I28+\"00:01\",'データ '!K:M,3,TRUE),\"/\",$W$11))","v":0}]
["",null,"",null,null,null,null,null,0,null,0,0,0,null,null,17,{"$f":"IF(A29=\"\",\"\",IF($A$13<>A29,\"月が異なります！\",IF(SUM($I$13:I29)>$S$7,\"決定時間数を超過しています！\",\"\")))","v":""},0,0,{"$f":"SUM($S$13:S29)","v":0},0,0,{"$f":"IF(I29=0,0,CONCATENATE(VLOOKUP(I29+\"00:01\",'データ '!K:M,3,TRUE),\"/\",$W$11))","v":0}]
["",null,"",null,null,null,null,null,0,null,0,0,0,null,null,18,{"$f":"IF(A30=\"\",\"\",IF($A$13<>A30,\"月が異なります！\",IF(SUM($I$13:I30)>$S$7,\"決定時間数を超過しています！\",\"\")))","v":""},0,0,{"$f":"SUM($S$13:S30)","v":0},0,0,{"$f":"IF(I30=0,0,CONCATENATE(VLOOKUP(I30+\"00:01\",'データ '!K:M,3,TRUE),\"/\",$W$11))","v":0}]
["",null,"",null,null,null,null,null,0,null,0,0,0,null,null,19,{"$f":"IF(A31=\"\",\"\",IF($A$13<>A31,\"月が異なります！\",IF(SUM($I$13:I31)>$S$7,\"決定時間数を超過しています！\",\"\")))","v":""},0,0,{"$f":"SUM($S$13:S31)","v":0},0,0,{"$f":"IF(I31=0,0,CONCATENATE(VLOOKUP(I31+\"00:01\",'データ '!K:M,3,TRUE),\"/\",$W$11))","v":0}]
["",null,"",null,null,null,null,null,0,null,0,0,0,null,null,20,{"$f":"IF(A32=\"\",\"\",IF($A$13<>A32,\"月が異なります！\",IF(SUM($I$13:I32)>$S$7,\"決定時間数を超過しています！\",\"\")))","v":""},0,0,{"$f":"SUM($S$13:S32)","v":0},0,0,{"$f":"IF(I32=0,0,CONCATENATE(VLOOKUP(I32+\"00:01\",'データ '!K:M,3,TRUE),\"/\",$W$11))","v":0}]
["",null,"",null,null,null,null,null,0,null,0,0,0,null,null,21,{"$f":"IF(A33=\"\",\"\",IF($A$13<>A33,\"月が異なります！\",IF(SUM($I$13:I33)>$S$7,\"決定時間数を超過しています！\",\"\")))","v":""},0,0,{"$f":"SUM($S$13:S33)","v":0},0,0,{"$f":"IF(I33=0,0,CONCATENATE(VLOOKUP(I33+\"00:01\",'データ '!K:M,3,TRUE),\"/\",$W$11))","v":0}]
["",null,"",null,null,null,null,null,0,null,0,0,0,null,null,22,{"$f":"IF(A34=\"\",\"\",IF($A$13<>A34,\"月が異なります！\",IF(SUM($I$13:I34)>$S$7,\"決定時間数を超過しています！\",\"\")))","v":""},0,0,{"$f":"SUM($S$13:S34)","v":0},0,0,{"$f":"IF(I34=0,0,CONCATENATE(VLOOKUP(I34+\"00:01\",'データ '!K:M,3,TRUE),\"/\",$W$11))","v":0}]
["",null,"",null,null,null,null,null,0,null,0,0,0,null,null,23,{"$f":"IF(A35=\"\",\"\",IF($A$13<>A35,\"月が異なります！\",IF(SUM($I$13:I35)>$S$7,\"決定時間数を超過しています！\",\"\")))","v":""},0,0,{"$f":"SUM($S$13:S35)","v":0},0,0,{"$f":"IF(I35=0,0,CONCATENATE(VLOOKUP(I35+\"00:01\",'データ '!K:M,3,TRUE),\"/\",$W$11))","v":0}]
["",null,"",null,null,null,null,null,0,null,0,0,0,null,null,24,{"$f":"IF(A36=\"\",\"\",IF($A$13<>A36,\"月が異なります！\",IF(SUM($I$13:I36)>$S$7,\"決定時間数を超過しています！\",\"\")))","v":""},0,0,{"$f":"SUM($S$13:S36)","v":0},0,0,{"$f":"IF(I36=0,0,CONCATENATE(VLOOKUP(I36+\"00:01\",'データ '!K:M,3,TRUE),\"/\",$W$11))","v":0}]
["",null,"",null,null,null,null,null,0,null,0,0,0,null,null,25,{"$f":"IF(A37=\"\",\"\",IF($A$13<>A37,\"月が異なります！\",IF(SUM($I$13:I37)>$S$7,\"決定時間数を超過しています！\",\"\")))","v":""},0,0,{"$f":"SUM($S$13:S37)","v":0},0,0,{"$f":"IF(I37=0,0,CONCATENATE(VLOOKUP(I37+\"00:01\",'データ '!K:M,3,TRUE),\"/\",$W$11))","v":0}]
["",null,"",null,null,null,null,null,0,null,0,0,0,null,null,26,{"$f":"IF(A38=\"\",\"\",IF($A$13<>A38,\"月が異なります！\",IF(SUM($I$13:I38)>$S$7,\"決定時間数を超過しています！\",\"\")))","v":""},0,0,{"$f":"SUM($S$13:S38)","v":0},0,0,{"$f":"IF(I38=0,0,CONCATENATE(VLOOKUP(I38+\"00:01\",'データ '!K:M,3,TRUE),\"/\",$W$11))","v":0}]
["",null,"",null,null,null,null,null,0,null,0,0,0,null,null,27,{"$f":"IF(A39=\"\",\"\",IF($A$13<>A39,\"月が異なります！\",IF(SUM($I$13:I39)>$S$7,\"決定時間数を超過しています！\",\"\")))","v":""},0,0,{"$f":"SUM($S$13:S39)","v":0},0,0,{"$f":"IF(I39=0,0,CONCATENATE(VLOOKUP(I39+\"00:01\",'データ '!K:M,3,TRUE),\"/\",$W$11))","v":0}]
["",null,"",null,null,null,null,null,0,null,0,0,0,null,null,28,{"$f":"IF(A40=\"\",\"\",IF($A$13<>A40,\"月が異なります！\",IF(SUM($I$13:I40)>$S$7,\"決定時間数を超過しています！\",\"\")))","v":""},0,0,{"$f":"SUM($S$13:S40)","v":0},0,0,{"$f":"IF(I40=0,0,CONCATENATE(VLOOKUP(I40+\"00:01\",'データ '!K:M,3,TRUE),\"/\",$W$11))","v":0}]
["",null,"",null,null,null,null,null,0,null,0,0,0,null,null,29,{"$f":"IF(A41=\"\",\"\",IF($A$13<>A41,\"月が異なります！\",IF(SUM($I$13:I41)>$S$7,\"決定時間数を超過しています！\",\"\")))","v":""},0,0,{"$f":"SUM($S$13:S41)","v":0},0,0,{"$f":"IF(I41=0,0,CONCATENATE(VLOOKUP(I41+\"00:01\",'データ '!K:M,3,TRUE),\"/\",$W$11))","v":0}]
["",null,"",null,null,null,null,null,0,null,0,0,0,null,null,30,{"$f":"IF(A42=\"\",\"\",IF($A$13<>A42,\"月が異なります！\",IF(SUM($I$13:I42)>$S$7,\"決定時間数を超過しています！\",\"\")))","v":""},0,0,{"$f":"SUM($S$13:S42)","v":0},0,0,{"$f":"IF(I42=0,0,CONCATENATE(VLOOKUP(I42+\"00:01\",'データ '!K:M,3,TRUE),\"/\",$W$11))","v":0}]
["",null,"",null,null,null,null,null,0,null,0,0,0,null,null,31,{"$f":"IF(A43=\"\",\"\",IF($A$13<>A43,\"月が異なります！\",IF(SUM($I$13:I43)>$S$7,\"決定時間数を超過しています！\",\"\")))","v":""},0,0,{"$f":"SUM($S$13:S43)","v":0},0,0,{"$f":"IF(I43=0,0,CONCATENATE(VLOOKUP(I43+\"00:01\",'データ '!K:M,3,TRUE),\"/\",$W$11))","v":0}]
["合計",null,null,null,null,null,null,null,{"$f":"SUM(I13:I43)","v":0},null,{"$f":"SUM(K13:K43)","v":0},{"$f":"SUM(L13:L43)","v":0},{"$f":"SUM(M13:M43)","v":0},null,null,null,null,null,null,null,null,null,{"$f":"IF(I44>=$X$8,$Y$9,IF(AND(I44<$X$8,I44>=$X$7),$Y$8,IF(I44<$X$7,$Y$7)))&$W$11","v":"無"}]

{"sheet":"9","index":14,"n_rows":44,"n_cols":23,"rows_kept":44,"cut":false,"hidden":false,"merged":[[10,19,11,19],[10,20,11,20],[10,21,11,21],[43,0,43,7],[10,9,11,9],[10,10,11,10],[10,11,11,11],[10,12,11,12],[10,13,11,13],[10,14,11,14],[10,0,10,2],[10,3,10,5],[10,6,10,7],[10,8,11,8],[10,16,11,16],[6,16,8,16],[7,0,7,4],[7,5,7,6],[7,7,7,8],[8,0,8,4],[6,0,6,2],[6,3,6,4],[6,6,6,7],[6,9,8,10],[6,11,8,14],[8,5,8,6],[8,7,8,8],[4,11,4,14],[5,11,5,14],[3,1,3,4],[4,0,5,2],[4,3,5,5],[4,6,5,7],[4,8,5,10],[3,5,3,14]]}
[null,"№",9]
[]
[]
[null,{"$f":"EOMONTH(B13,0)","v":"1900-01-31"},null,null,null,"鎌ケ谷市移動支援サービス提供実績記録票"]
["登録番号",null,null,{"$f":"VLOOKUP($C$1,利用者情報!A:U,COLUMN(利用者情報!B3),FALSE)","v":0},null,null,"支給決定障がい者等氏名\n（児童氏名）",null,{"$f":"VLOOKUP($C$1,利用者情報!A:U,COLUMN(利用者情報!C1),FALSE)","v":0},null,null,"事業所登録番号"]
[null,null,null,null,null,null,null,null,null,null,null,{"$f":"請求事業者!B3","v":0},null,null,null,null,"コメント",null,"決定時間数"]
["契約支給量",null,null,"身体介護を\n伴う",null,{"$f":"IF(VLOOKUP(C1,利用者情報!A:G,5)=\"有\",CONCATENATE(VLOOKUP(C1,利用者情報!A:G,4)&\"時間\"),\"\")","v":""},"身体介護を\n伴わない",null,{"$f":"IF(VLOOKUP(C1,利用者情報!A:G,5)<>\"有\",CONCATENATE(VLOOKUP(C1,利用者情報!A:G,4)&\"時間\"),\"\")","v":"時間"},"事業所及び\nその事業所",null,{"$f":"請求事業者!B7","v":0},null,null,null,null,{"$f":"利用者情報!J4","v":""},null,{"$f":"IF(F7=\"\",I7,F7)","v":"時間"}]
["利用者負担の有無",null,null,null,null,"利用者の負担割合",null,"利用者負担上限額"]
[{"$f":"VLOOKUP($C$1,利用者情報!A:U,COLUMN(利用者情報!F3),FALSE)","v":0},null,null,null,null,{"$f":"IF(A9=\"有\",\"1割\",\"0割\")","v":"0割"},null,{"$f":"VLOOKUP($C$1,利用者情報!A:U,COLUMN(利用者情報!G3),FALSE)","v":0},null,null,null,null,null,null,null,null,null,null,null,null,null,null,{"$f":"請求事業者!C9","v":5}]
[null,null,null,null,null,null,null,null,null,null,null,null,null,null,null,null,null,null,null,null,null,null,"便宜上区分"]
["日付",null,null,"支援計画",null,null,null,null,"算定\n時間","派遣\n人数","算定額","利用者\n負担額","請求額","サービス\n提供者印","利用者\n確認印",null,"コメント",null,null,"利用者負担額\n累計","上限到達フラグ","上限達成時の利用者負担額",{"$f":"IF(F7=\"\",\"無\",\"有\")","v":"無"}]
["月","日","曜日","開始\n時間","終了\n時間","計画\n時間数","開始\n時間","終了\n時間",null,null,null,null,null,null,null,null,null,"請求額","利用者\n負担額",null,null,null,{"$f":"IF(A9=\"有\",\"（9割）\",\"\")","v":""}]
[{"$f":"IF(B13=\"\",\"\",TEXT(B13,\"m\"))","v":""},null,{"$f":"IF(B13=\"\",\"\",B13)","v":""},null,null,null,null,null,{"$f":"H13-G13","v":0},null,{"$f":"IF($H13=0,0,INDEX(単価,MATCH(W13,時間,0),MATCH($W$9,地域区分,0)))","v":0},{"$f":"IF(U13=0,S13,V13)","v":0},{"$f":"K13-L13","v":0},null,null,1,{"$f":"IF(A13=\"\",\"\",IF($A$13<>A13,\"月が異なります！\",IF(SUM($I$13:I13)>$S$7,\"決定時間数を超過しています！\",\"\")))","v":""},{"$f":"IF(I13=0,0,INDEX(単価,MATCH(W13,時間,0),MATCH(IF(W12=\"\",W9,W9&W12),地域区分,0)))","v":0},{"$f":"K13-R13","v":0},{"$f":"SUM($S$13:S13)","v":0},null,null,{"$f":"IF(I13=0,0,CONCATENATE(VLOOKUP(I13+\"00:01\",'データ '!K:M,3,TRUE),\"/\",$W$11))","v":0}]
[{"$f":"IF(B14=\"\",\"\",TEXT(B14,\"m\"))","v":""},null,{"$f":"IF(B14=\"\",\"\",B14)","v":""},null,null,null,null,null,{"$f":"H14-G14","v":0},null,{"$f":"IF($H14=0,0,INDEX(単価,MATCH(W14,時間,0),MATCH($W$9,地域区分,0)))","v":0},{"$f":"IF(U14=0,S14,V14)","v":0},{"$f":"K14-L14","v":0},null,null,2,{"$f":"IF(A14=\"\",\"\",IF($A$13<>A14,\"月が異なります！\",IF(SUM($I$13:I14)>$S$7,\"決定時間数を超過しています！\",\"\")))","v":""},{"$f":"IF(AND($H14=0),0,IF($A$9=\"有\",INDEX(単価,MATCH(W14,時間,0),MATCH($W$9&$W$12,地域区分,0)),INDEX(単価,MATCH(W14,時間,0),MATCH($W$9,地域区分,0))))","v":0},{"$f":"K14-R14","v":0},{"$f":"SUM($S$13:S14)","v":0},{"$f":"IF(AND(T13<$H$9,T14>$H$9),1,IF(T14>$H$9,2,0))","v":0},{"$f":"IF(U14=1,$H$9-T13,0)","v":0},{"$f":"IF(I14=0,0,CONCATENATE(VLOOKUP(I14+\"00:01\",'データ '!K:M,3,TRUE),\"/\",$W$11))","v":0}]
["",null,"",null,null,null,null,null,0,null,0,{"$f":"IF(U15=0,S15,V15)","v":0},{"$f":"K15-L15","v":0},null,null,3,{"$f":"IF(A15=\"\",\"\",IF($A$13<>A15,\"月が異なります！\",IF(SUM($I$13:I15)>$S$7,\"決定時間数を超過しています！\",\"\")))","v":""},0,0,{"$f":"SUM($S$13:S15)","v":0},{"$f":"IF(AND(T14<$H$9,T15>$H$9),1,IF(T15>$H$9,2,0))","v":0},{"$f":"IF(U15=1,$H$9-T14,0)","v":0},{"$f":"IF(I15=0,0,CONCATENATE(VLOOKUP(I15+\"00:01\",'データ '!K:M,3,TRUE),\"/\",$W$11))","v":0}]
["",null,"",null,null,null,null,null,0,null,0,0,0,null,null,4,{"$f":"IF(A16=\"\",\"\",IF($A$13<>A16,\"月が異なります！\",IF(SUM($I$13:I16)>$S$7,\"決定時間数を超過しています！\",\"\")))","v":""},0,0,{"$f":"SUM($S$13:S16)","v":0},0,0,{"$f":"IF(I16=0,0,CONCATENATE(VLOOKUP(I16+\"00:01\",'データ '!K:M,3,TRUE),\"/\",$W$11))","v":0}]
["",null,"",null,null,null,null,null,0,null,0,0,0,null,null,5,{"$f":"IF(A17=\"\",\"\",IF($A$13<>A17,\"月が異なります！\",IF(SUM($I$13:I17)>$S$7,\"決定時間数を超過しています！\",\"\")))","v":""},0,0,{"$f":"SUM($S$13:S17)","v":0},0,0,{"$f":"IF(I17=0,0,CONCATENATE(VLOOKUP(I17+\"00:01\",'データ '!K:M,3,TRUE),\"/\",$W$11))","v":0}]
["",null,"",null,null,null,null,null,0,null,0,0,0,null,null,6,{"$f":"IF(A18=\"\",\"\",IF($A$13<>A18,\"月が異なります！\",IF(SUM($I$13:I18)>$S$7,\"決定時間数を超過しています！\",\"\")))","v":""},0,0,{"$f":"SUM($S$13:S18)","v":0},0,0,{"$f":"IF(I18=0,0,CONCATENATE(VLOOKUP(I18+\"00:01\",'データ '!K:M,3,TRUE),\"/\",$W$11))","v":0}]
["",null,"",null,null,null,null,null,0,null,0,0,0,null,null,7,{"$f":"IF(A19=\"\",\"\",IF($A$13<>A19,\"月が異なります！\",IF(SUM($I$13:I19)>$S$7,\"決定時間数を超過しています！\",\"\")))","v":""},0,0,{"$f":"SUM($S$13:S19)","v":0},0,0,{"$f":"IF(I19=0,0,CONCATENATE(VLOOKUP(I19+\"00:01\",'データ '!K:M,3,TRUE),\"/\",$W$11))","v":0}]
["",null,"",null,null,null,null,null,0,null,0,0,0,null,null,8,{"$f":"IF(A20=\"\",\"\",IF($A$13<>A20,\"月が異なります！\",IF(SUM($I$13:I20)>$S$7,\"決定時間数を超過しています！\",\"\")))","v":""},0,0,{"$f":"SUM($S$13:S20)","v":0},0,0,{"$f":"IF(I20=0,0,CONCATENATE(VLOOKUP(I20+\"00:01\",'データ '!K:M,3,TRUE),\"/\",$W$11))","v":0}]
["",null,"",null,null,null,null,null,0,null,0,{"$f":"IF(U21=0,S21,V21)","v":0},0,null,null,9,{"$f":"IF(A21=\"\",\"\",IF($A$13<>A21,\"月が異なります！\",IF(SUM($I$13:I21)>$S$7,\"決定時間数を超過しています！\",\"\")))","v":""},0,0,{"$f":"SUM($S$13:S21)","v":0},0,0,{"$f":"IF(I21=0,0,CONCATENATE(VLOOKUP(I21+\"00:01\",'データ '!K:M,3,TRUE),\"/\",$W$11))","v":0}]
["",null,"",null,null,null,null,null,0,null,0,{"$f":"IF(U22=0,S22,V22)","v":0},0,null,null,10,{"$f":"IF(A22=\"\",\"\",IF($A$13<>A22,\"月が異なります！\",IF(SUM($I$13:I22)>$S$7,\"決定時間数を超過しています！\",\"\")))","v":""},0,{"$f":"K22-R22","v":0},{"$f":"SUM($S$13:S22)","v":0},0,0,{"$f":"IF(I22=0,0,CONCATENATE(VLOOKUP(I22+\"00:01\",'データ '!K:M,3,TRUE),\"/\",$W$11))","v":0}]
["",null,"",null,null,null,null,null,0,null,0,0,0,null,null,11,{"$f":"IF(A23=\"\",\"\",IF($A$13<>A23,\"月が異なります！\",IF(SUM($I$13:I23)>$S$7,\"決定時間数を超過しています！\",\"\")))","v":""},0,0,{"$f":"SUM($S$13:S23)","v":0},0,0,{"$f":"IF(I23=0,0,CONCATENATE(VLOOKUP(I23+\"00:01\",'データ '!K:M,3,TRUE),\"/\",$W$11))","v":0}]
["",null,"",null,null,null,null,null,0,null,0,0,0,null,null,12,{"$f":"IF(A24=\"\",\"\",IF($A$13<>A24,\"月が異なります！\",IF(SUM($I$13:I24)>$S$7,\"決定時間数を超過しています！\",\"\")))","v":""},0,0,{"$f":"SUM($S$13:S24)","v":0},0,0,{"$f":"IF(I24=0,0,CONCATENATE(VLOOKUP(I24+\"00:01\",'データ '!K:M,3,TRUE),\"/\",$W$11))","v":0}]
["",null,"",null,null,null,null,null,0,null,0,0,0,null,null,13,{"$f":"IF(A25=\"\",\"\",IF($A$13<>A25,\"月が異なります！\",IF(SUM($I$13:I25)>$S$7,\"決定時間数を超過しています！\",\"\")))","v":""},0,0,{"$f":"SUM($S$13:S25)","v":0},0,0,{"$f":"IF(I25=0,0,CONCATENATE(VLOOKUP(I25+\"00:01\",'データ '!K:M,3,TRUE),\"/\",$W$11))","v":0}]
["",null,"",null,null,null,null,null,0,null,0,0,0,null,null,14,{"$f":"IF(A26=\"\",\"\",IF($A$13<>A26,\"月が異なります！\",IF(SUM($I$13:I26)>$S$7,\"決定時間数を超過しています！\",\"\")))","v":""},0,0,{"$f":"SUM($S$13:S26)","v":0},0,0,{"$f":"IF(I26=0,0,CONCATENATE(VLOOKUP(I26+\"00:01\",'データ '!K:M,3,TRUE),\"/\",$W$11))","v":0}]
["",null,"",null,null,null,null,null,0,null,0,0,0,null,null,15,{"$f":"IF(A27=\"\",\"\",IF($A$13<>A27,\"月が異なります！\",IF(SUM($I$13:I27)>$S$7,\"決定時間数を超過しています！\",\"\")))","v":""},0,0,{"$f":"SUM($S$13:S27)","v":0},0,0,{"$f":"IF(I27=0,0,CONCATENATE(VLOOKUP(I27+\"00:01\",'データ '!K:M,3,TRUE),\"/\",$W$11))","v":0}]
["",null,"",null,null,null,null,null,0,null,0,0,0,null,null,16,{"$f":"IF(A28=\"\",\"\",IF($A$13<>A28,\"月が異なります！\",IF(SUM($I$13:I28)>$S$7,\"決定時間数を超過しています！\",\"\")))","v":""},0,0,{"$f":"SUM($S$13:S28)","v":0},0,0,{"$f":"IF(I28=0,0,CONCATENATE(VLOOKUP(I28+\"00:01\",'データ '!K:M,3,TRUE),\"/\",$W$11))","v":0}]
["",null,"",null,null,null,null,null,0,null,0,0,0,null,null,17,{"$f":"IF(A29=\"\",\"\",IF($A$13<>A29,\"月が異なります！\",IF(SUM($I$13:I29)>$S$7,\"決定時間数を超過しています！\",\"\")))","v":""},0,0,{"$f":"SUM($S$13:S29)","v":0},0,0,{"$f":"IF(I29=0,0,CONCATENATE(VLOOKUP(I29+\"00:01\",'データ '!K:M,3,TRUE),\"/\",$W$11))","v":0}]
["",null,"",null,null,null,null,null,0,null,0,0,0,null,null,18,{"$f":"IF(A30=\"\",\"\",IF($A$13<>A30,\"月が異なります！\",IF(SUM($I$13:I30)>$S$7,\"決定時間数を超過しています！\",\"\")))","v":""},0,0,{"$f":"SUM($S$13:S30)","v":0},0,0,{"$f":"IF(I30=0,0,CONCATENATE(VLOOKUP(I30+\"00:01\",'データ '!K:M,3,TRUE),\"/\",$W$11))","v":0}]
["",null,"",null,null,null,null,null,0,null,0,0,0,null,null,19,{"$f":"IF(A31=\"\",\"\",IF($A$13<>A31,\"月が異なります！\",IF(SUM($I$13:I31)>$S$7,\"決定時間数を超過しています！\",\"\")))","v":""},0,0,{"$f":"SUM($S$13:S31)","v":0},0,0,{"$f":"IF(I31=0,0,CONCATENATE(VLOOKUP(I31+\"00:01\",'データ '!K:M,3,TRUE),\"/\",$W$11))","v":0}]
["",null,"",null,null,null,null,null,0,null,0,0,0,null,null,20,{"$f":"IF(A32=\"\",\"\",IF($A$13<>A32,\"月が異なります！\",IF(SUM($I$13:I32)>$S$7,\"決定時間数を超過しています！\",\"\")))","v":""},0,0,{"$f":"SUM($S$13:S32)","v":0},0,0,{"$f":"IF(I32=0,0,CONCATENATE(VLOOKUP(I32+\"00:01\",'データ '!K:M,3,TRUE),\"/\",$W$11))","v":0}]
["",null,"",null,null,null,null,null,0,null,0,0,0,null,null,21,{"$f":"IF(A33=\"\",\"\",IF($A$13<>A33,\"月が異なります！\",IF(SUM($I$13:I33)>$S$7,\"決定時間数を超過しています！\",\"\")))","v":""},0,0,{"$f":"SUM($S$13:S33)","v":0},0,0,{"$f":"IF(I33=0,0,CONCATENATE(VLOOKUP(I33+\"00:01\",'データ '!K:M,3,TRUE),\"/\",$W$11))","v":0}]
["",null,"",null,null,null,null,null,0,null,0,0,0,null,null,22,{"$f":"IF(A34=\"\",\"\",IF($A$13<>A34,\"月が異なります！\",IF(SUM($I$13:I34)>$S$7,\"決定時間数を超過しています！\",\"\")))","v":""},0,0,{"$f":"SUM($S$13:S34)","v":0},0,0,{"$f":"IF(I34=0,0,CONCATENATE(VLOOKUP(I34+\"00:01\",'データ '!K:M,3,TRUE),\"/\",$W$11))","v":0}]
["",null,"",null,null,null,null,null,0,null,0,0,0,null,null,23,{"$f":"IF(A35=\"\",\"\",IF($A$13<>A35,\"月が異なります！\",IF(SUM($I$13:I35)>$S$7,\"決定時間数を超過しています！\",\"\")))","v":""},0,0,{"$f":"SUM($S$13:S35)","v":0},0,0,{"$f":"IF(I35=0,0,CONCATENATE(VLOOKUP(I35+\"00:01\",'データ '!K:M,3,TRUE),\"/\",$W$11))","v":0}]
["",null,"",null,null,null,null,null,0,null,0,0,0,null,null,24,{"$f":"IF(A36=\"\",\"\",IF($A$13<>A36,\"月が異なります！\",IF(SUM($I$13:I36)>$S$7,\"決定時間数を超過しています！\",\"\")))","v":""},0,0,{"$f":"SUM($S$13:S36)","v":0},0,0,{"$f":"IF(I36=0,0,CONCATENATE(VLOOKUP(I36+\"00:01\",'データ '!K:M,3,TRUE),\"/\",$W$11))","v":0}]
["",null,"",null,null,null,null,null,0,null,0,0,0,null,null,25,{"$f":"IF(A37=\"\",\"\",IF($A$13<>A37,\"月が異なります！\",IF(SUM($I$13:I37)>$S$7,\"決定時間数を超過しています！\",\"\")))","v":""},0,0,{"$f":"SUM($S$13:S37)","v":0},0,0,{"$f":"IF(I37=0,0,CONCATENATE(VLOOKUP(I37+\"00:01\",'データ '!K:M,3,TRUE),\"/\",$W$11))","v":0}]
["",null,"",null,null,null,null,null,0,null,0,0,0,null,null,26,{"$f":"IF(A38=\"\",\"\",IF($A$13<>A38,\"月が異なります！\",IF(SUM($I$13:I38)>$S$7,\"決定時間数を超過しています！\",\"\")))","v":""},0,0,{"$f":"SUM($S$13:S38)","v":0},0,0,{"$f":"IF(I38=0,0,CONCATENATE(VLOOKUP(I38+\"00:01\",'データ '!K:M,3,TRUE),\"/\",$W$11))","v":0}]
["",null,"",null,null,null,null,null,0,null,0,0,0,null,null,27,{"$f":"IF(A39=\"\",\"\",IF($A$13<>A39,\"月が異なります！\",IF(SUM($I$13:I39)>$S$7,\"決定時間数を超過しています！\",\"\")))","v":""},0,0,{"$f":"SUM($S$13:S39)","v":0},0,0,{"$f":"IF(I39=0,0,CONCATENATE(VLOOKUP(I39+\"00:01\",'データ '!K:M,3,TRUE),\"/\",$W$11))","v":0}]
["",null,"",null,null,null,null,null,0,null,0,0,0,null,null,28,{"$f":"IF(A40=\"\",\"\",IF($A$13<>A40,\"月が異なります！\",IF(SUM($I$13:I40)>$S$7,\"決定時間数を超過しています！\",\"\")))","v":""},0,0,{"$f":"SUM($S$13:S40)","v":0},0,0,{"$f":"IF(I40=0,0,CONCATENATE(VLOOKUP(I40+\"00:01\",'データ '!K:M,3,TRUE),\"/\",$W$11))","v":0}]
["",null,"",null,null,null,null,null,0,null,0,0,0,null,null,29,{"$f":"IF(A41=\"\",\"\",IF($A$13<>A41,\"月が異なります！\",IF(SUM($I$13:I41)>$S$7,\"決定時間数を超過しています！\",\"\")))","v":""},0,0,{"$f":"SUM($S$13:S41)","v":0},0,0,{"$f":"IF(I41=0,0,CONCATENATE(VLOOKUP(I41+\"00:01\",'データ '!K:M,3,TRUE),\"/\",$W$11))","v":0}]
["",null,"",null,null,null,null,null,0,null,0,0,0,null,null,30,{"$f":"IF(A42=\"\",\"\",IF($A$13<>A42,\"月が異なります！\",IF(SUM($I$13:I42)>$S$7,\"決定時間数を超過しています！\",\"\")))","v":""},0,0,{"$f":"SUM($S$13:S42)","v":0},0,0,{"$f":"IF(I42=0,0,CONCATENATE(VLOOKUP(I42+\"00:01\",'データ '!K:M,3,TRUE),\"/\",$W$11))","v":0}]
["",null,"",null,null,null,null,null,0,null,0,0,0,null,null,31,{"$f":"IF(A43=\"\",\"\",IF($A$13<>A43,\"月が異なります！\",IF(SUM($I$13:I43)>$S$7,\"決定時間数を超過しています！\",\"\")))","v":""},0,0,{"$f":"SUM($S$13:S43)","v":0},0,0,{"$f":"IF(I43=0,0,CONCATENATE(VLOOKUP(I43+\"00:01\",'データ '!K:M,3,TRUE),\"/\",$W$11))","v":0}]
["合計",null,null,null,null,null,null,null,{"$f":"SUM(I13:I43)","v":0},null,{"$f":"SUM(K13:K43)","v":0},{"$f":"SUM(L13:L43)","v":0},{"$f":"SUM(M13:M43)","v":0},null,null,null,null,null,null,null,null,null,{"$f":"IF(I44>=$X$8,$Y$9,IF(AND(I44<$X$8,I44>=$X$7),$Y$8,IF(I44<$X$7,$Y$7)))&$W$11","v":"無"}]

{"sheet":"10","index":15,"n_rows":44,"n_cols":23,"rows_kept":44,"cut":false,"hidden":false,"merged":[[10,19,11,19],[10,20,11,20],[10,21,11,21],[43,0,43,7],[10,9,11,9],[10,10,11,10],[10,11,11,11],[10,12,11,12],[10,13,11,13],[10,14,11,14],[10,0,10,2],[10,3,10,5],[10,6,10,7],[10,8,11,8],[10,16,11,16],[6,16,8,16],[7,0,7,4],[7,5,7,6],[7,7,7,8],[8,0,8,4],[6,0,6,2],[6,3,6,4],[6,6,6,7],[6,9,8,10],[6,11,8,14],[8,5,8,6],[8,7,8,8],[4,11,4,14],[5,11,5,14],[3,1,3,4],[4,0,5,2],[4,3,5,5],[4,6,5,7],[4,8,5,10],[3,5,3,14]]}
[null,"№",10]
[]
[]
[null,{"$f":"EOMONTH(B13,0)","v":"1900-01-31"},null,null,null,"鎌ケ谷市移動支援サービス提供実績記録票"]
["登録番号",null,null,{"$f":"VLOOKUP($C$1,利用者情報!A:U,COLUMN(利用者情報!B3),FALSE)","v":0},null,null,"支給決定障がい者等氏名\n（児童氏名）",null,{"$f":"VLOOKUP($C$1,利用者情報!A:U,COLUMN(利用者情報!C1),FALSE)","v":0},null,null,"事業所登録番号"]
[null,null,null,null,null,null,null,null,null,null,null,{"$f":"請求事業者!B3","v":0},null,null,null,null,"コメント",null,"決定時間数"]
["契約支給量",null,null,"身体介護を\n伴う",null,{"$f":"IF(VLOOKUP(C1,利用者情報!A:G,5)=\"有\",CONCATENATE(VLOOKUP(C1,利用者情報!A:G,4)&\"時間\"),\"\")","v":""},"身体介護を\n伴わない",null,{"$f":"IF(VLOOKUP(C1,利用者情報!A:G,5)<>\"有\",CONCATENATE(VLOOKUP(C1,利用者情報!A:G,4)&\"時間\"),\"\")","v":"時間"},"事業所及び\nその事業所",null,{"$f":"請求事業者!B7","v":0},null,null,null,null,{"$f":"利用者情報!J4","v":""},null,{"$f":"IF(F7=\"\",I7,F7)","v":"時間"}]
["利用者負担の有無",null,null,null,null,"利用者の負担割合",null,"利用者負担上限額"]
[{"$f":"VLOOKUP($C$1,利用者情報!A:U,COLUMN(利用者情報!F3),FALSE)","v":0},null,null,null,null,{"$f":"IF(A9=\"有\",\"1割\",\"0割\")","v":"0割"},null,{"$f":"VLOOKUP($C$1,利用者情報!A:U,COLUMN(利用者情報!G3),FALSE)","v":0},null,null,null,null,null,null,null,null,null,null,null,null,null,null,{"$f":"請求事業者!C9","v":5}]
[null,null,null,null,null,null,null,null,null,null,null,null,null,null,null,null,null,null,null,null,null,null,"便宜上区分"]
["日付",null,null,"支援計画",null,null,null,null,"算定\n時間","派遣\n人数","算定額","利用者\n負担額","請求額","サービス\n提供者印","利用者\n確認印",null,"コメント",null,null,"利用者負担額\n累計","上限到達フラグ","上限達成時の利用者負担額",{"$f":"IF(F7=\"\",\"無\",\"有\")","v":"無"}]
["月","日","曜日","開始\n時間","終了\n時間","計画\n時間数","開始\n時間","終了\n時間",null,null,null,null,null,null,null,null,null,"請求額","利用者\n負担額",null,null,null,{"$f":"IF(A9=\"有\",\"（9割）\",\"\")","v":""}]
[{"$f":"IF(B13=\"\",\"\",TEXT(B13,\"m\"))","v":""},null,{"$f":"IF(B13=\"\",\"\",B13)","v":""},null,null,null,null,null,{"$f":"H13-G13","v":0},null,{"$f":"IF($H13=0,0,INDEX(単価,MATCH(W13,時間,0),MATCH($W$9,地域区分,0)))","v":0},{"$f":"IF(U13=0,S13,V13)","v":0},{"$f":"K13-L13","v":0},null,null,1,{"$f":"IF(A13=\"\",\"\",IF($A$13<>A13,\"月が異なります！\",IF(SUM($I$13:I13)>$S$7,\"決定時間数を超過しています！\",\"\")))","v":""},{"$f":"IF(I13=0,0,INDEX(単価,MATCH(W13,時間,0),MATCH(IF(W12=\"\",W9,W9&W12),地域区分,0)))","v":0},{"$f":"K13-R13","v":0},{"$f":"SUM($S$13:S13)","v":0},null,null,{"$f":"IF(I13=0,0,CONCATENATE(VLOOKUP(I13+\"00:01\",'データ '!K:M,3,TRUE),\"/\",$W$11))","v":0}]
[{"$f":"IF(B14=\"\",\"\",TEXT(B14,\"m\"))","v":""},null,{"$f":"IF(B14=\"\",\"\",B14)","v":""},null,null,null,null,null,{"$f":"H14-G14","v":0},null,{"$f":"IF($H14=0,0,INDEX(単価,MATCH(W14,時間,0),MATCH($W$9,地域区分,0)))","v":0},{"$f":"IF(U14=0,S14,V14)","v":0},{"$f":"K14-L14","v":0},null,null,2,{"$f":"IF(A14=\"\",\"\",IF($A$13<>A14,\"月が異なります！\",IF(SUM($I$13:I14)>$S$7,\"決定時間数を超過しています！\",\"\")))","v":""},{"$f":"IF(AND($H14=0),0,IF($A$9=\"有\",INDEX(単価,MATCH(W14,時間,0),MATCH($W$9&$W$12,地域区分,0)),INDEX(単価,MATCH(W14,時間,0),MATCH($W$9,地域区分,0))))","v":0},{"$f":"K14-R14","v":0},{"$f":"SUM($S$13:S14)","v":0},{"$f":"IF(AND(T13<$H$9,T14>$H$9),1,IF(T14>$H$9,2,0))","v":0},{"$f":"IF(U14=1,$H$9-T13,0)","v":0},{"$f":"IF(I14=0,0,CONCATENATE(VLOOKUP(I14+\"00:01\",'データ '!K:M,3,TRUE),\"/\",$W$11))","v":0}]
["",null,"",null,null,null,null,null,0,null,0,{"$f":"IF(U15=0,S15,V15)","v":0},{"$f":"K15-L15","v":0},null,null,3,{"$f":"IF(A15=\"\",\"\",IF($A$13<>A15,\"月が異なります！\",IF(SUM($I$13:I15)>$S$7,\"決定時間数を超過しています！\",\"\")))","v":""},0,0,{"$f":"SUM($S$13:S15)","v":0},{"$f":"IF(AND(T14<$H$9,T15>$H$9),1,IF(T15>$H$9,2,0))","v":0},{"$f":"IF(U15=1,$H$9-T14,0)","v":0},{"$f":"IF(I15=0,0,CONCATENATE(VLOOKUP(I15+\"00:01\",'データ '!K:M,3,TRUE),\"/\",$W$11))","v":0}]
["",null,"",null,null,null,null,null,0,null,0,0,0,null,null,4,{"$f":"IF(A16=\"\",\"\",IF($A$13<>A16,\"月が異なります！\",IF(SUM($I$13:I16)>$S$7,\"決定時間数を超過しています！\",\"\")))","v":""},0,0,{"$f":"SUM($S$13:S16)","v":0},0,0,{"$f":"IF(I16=0,0,CONCATENATE(VLOOKUP(I16+\"00:01\",'データ '!K:M,3,TRUE),\"/\",$W$11))","v":0}]
["",null,"",null,null,null,null,null,0,null,0,0,0,null,null,5,{"$f":"IF(A17=\"\",\"\",IF($A$13<>A17,\"月が異なります！\",IF(SUM($I$13:I17)>$S$7,\"決定時間数を超過しています！\",\"\")))","v":""},0,0,{"$f":"SUM($S$13:S17)","v":0},0,0,{"$f":"IF(I17=0,0,CONCATENATE(VLOOKUP(I17+\"00:01\",'データ '!K:M,3,TRUE),\"/\",$W$11))","v":0}]
["",null,"",null,null,null,null,null,0,null,0,0,0,null,null,6,{"$f":"IF(A18=\"\",\"\",IF($A$13<>A18,\"月が異なります！\",IF(SUM($I$13:I18)>$S$7,\"決定時間数を超過しています！\",\"\")))","v":""},0,0,{"$f":"SUM($S$13:S18)","v":0},0,0,{"$f":"IF(I18=0,0,CONCATENATE(VLOOKUP(I18+\"00:01\",'データ '!K:M,3,TRUE),\"/\",$W$11))","v":0}]
["",null,"",null,null,null,null,null,0,null,0,0,0,null,null,7,{"$f":"IF(A19=\"\",\"\",IF($A$13<>A19,\"月が異なります！\",IF(SUM($I$13:I19)>$S$7,\"決定時間数を超過しています！\",\"\")))","v":""},0,0,{"$f":"SUM($S$13:S19)","v":0},0,0,{"$f":"IF(I19=0,0,CONCATENATE(VLOOKUP(I19+\"00:01\",'データ '!K:M,3,TRUE),\"/\",$W$11))","v":0}]
["",null,"",null,null,null,null,null,0,null,0,0,0,null,null,8,{"$f":"IF(A20=\"\",\"\",IF($A$13<>A20,\"月が異なります！\",IF(SUM($I$13:I20)>$S$7,\"決定時間数を超過しています！\",\"\")))","v":""},0,0,{"$f":"SUM($S$13:S20)","v":0},0,0,{"$f":"IF(I20=0,0,CONCATENATE(VLOOKUP(I20+\"00:01\",'データ '!K:M,3,TRUE),\"/\",$W$11))","v":0}]
["",null,"",null,null,null,null,null,0,null,0,{"$f":"IF(U21=0,S21,V21)","v":0},0,null,null,9,{"$f":"IF(A21=\"\",\"\",IF($A$13<>A21,\"月が異なります！\",IF(SUM($I$13:I21)>$S$7,\"決定時間数を超過しています！\",\"\")))","v":""},0,0,{"$f":"SUM($S$13:S21)","v":0},0,0,{"$f":"IF(I21=0,0,CONCATENATE(VLOOKUP(I21+\"00:01\",'データ '!K:M,3,TRUE),\"/\",$W$11))","v":0}]
["",null,"",null,null,null,null,null,0,null,0,{"$f":"IF(U22=0,S22,V22)","v":0},0,null,null,10,{"$f":"IF(A22=\"\",\"\",IF($A$13<>A22,\"月が異なります！\",IF(SUM($I$13:I22)>$S$7,\"決定時間数を超過しています！\",\"\")))","v":""},0,{"$f":"K22-R22","v":0},{"$f":"SUM($S$13:S22)","v":0},0,0,{"$f":"IF(I22=0,0,CONCATENATE(VLOOKUP(I22+\"00:01\",'データ '!K:M,3,TRUE),\"/\",$W$11))","v":0}]
["",null,"",null,null,null,null,null,0,null,0,0,0,null,null,11,{"$f":"IF(A23=\"\",\"\",IF($A$13<>A23,\"月が異なります！\",IF(SUM($I$13:I23)>$S$7,\"決定時間数を超過しています！\",\"\")))","v":""},0,0,{"$f":"SUM($S$13:S23)","v":0},0,0,{"$f":"IF(I23=0,0,CONCATENATE(VLOOKUP(I23+\"00:01\",'データ '!K:M,3,TRUE),\"/\",$W$11))","v":0}]
["",null,"",null,null,null,null,null,0,null,0,0,0,null,null,12,{"$f":"IF(A24=\"\",\"\",IF($A$13<>A24,\"月が異なります！\",IF(SUM($I$13:I24)>$S$7,\"決定時間数を超過しています！\",\"\")))","v":""},0,0,{"$f":"SUM($S$13:S24)","v":0},0,0,{"$f":"IF(I24=0,0,CONCATENATE(VLOOKUP(I24+\"00:01\",'データ '!K:M,3,TRUE),\"/\",$W$11))","v":0}]
["",null,"",null,null,null,null,null,0,null,0,0,0,null,null,13,{"$f":"IF(A25=\"\",\"\",IF($A$13<>A25,\"月が異なります！\",IF(SUM($I$13:I25)>$S$7,\"決定時間数を超過しています！\",\"\")))","v":""},0,0,{"$f":"SUM($S$13:S25)","v":0},0,0,{"$f":"IF(I25=0,0,CONCATENATE(VLOOKUP(I25+\"00:01\",'データ '!K:M,3,TRUE),\"/\",$W$11))","v":0}]
["",null,"",null,null,null,null,null,0,null,0,0,0,null,null,14,{"$f":"IF(A26=\"\",\"\",IF($A$13<>A26,\"月が異なります！\",IF(SUM($I$13:I26)>$S$7,\"決定時間数を超過しています！\",\"\")))","v":""},0,0,{"$f":"SUM($S$13:S26)","v":0},0,0,{"$f":"IF(I26=0,0,CONCATENATE(VLOOKUP(I26+\"00:01\",'データ '!K:M,3,TRUE),\"/\",$W$11))","v":0}]
["",null,"",null,null,null,null,null,0,null,0,0,0,null,null,15,{"$f":"IF(A27=\"\",\"\",IF($A$13<>A27,\"月が異なります！\",IF(SUM($I$13:I27)>$S$7,\"決定時間数を超過しています！\",\"\")))","v":""},0,0,{"$f":"SUM($S$13:S27)","v":0},0,0,{"$f":"IF(I27=0,0,CONCATENATE(VLOOKUP(I27+\"00:01\",'データ '!K:M,3,TRUE),\"/\",$W$11))","v":0}]
["",null,"",null,null,null,null,null,0,null,0,0,0,null,null,16,{"$f":"IF(A28=\"\",\"\",IF($A$13<>A28,\"月が異なります！\",IF(SUM($I$13:I28)>$S$7,\"決定時間数を超過しています！\",\"\")))","v":""},0,0,{"$f":"SUM($S$13:S28)","v":0},0,0,{"$f":"IF(I28=0,0,CONCATENATE(VLOOKUP(I28+\"00:01\",'データ '!K:M,3,TRUE),\"/\",$W$11))","v":0}]
["",null,"",null,null,null,null,null,0,null,0,0,0,null,null,17,{"$f":"IF(A29=\"\",\"\",IF($A$13<>A29,\"月が異なります！\",IF(SUM($I$13:I29)>$S$7,\"決定時間数を超過しています！\",\"\")))","v":""},0,0,{"$f":"SUM($S$13:S29)","v":0},0,0,{"$f":"IF(I29=0,0,CONCATENATE(VLOOKUP(I29+\"00:01\",'データ '!K:M,3,TRUE),\"/\",$W$11))","v":0}]
["",null,"",null,null,null,null,null,0,null,0,0,0,null,null,18,{"$f":"IF(A30=\"\",\"\",IF($A$13<>A30,\"月が異なります！\",IF(SUM($I$13:I30)>$S$7,\"決定時間数を超過しています！\",\"\")))","v":""},0,0,{"$f":"SUM($S$13:S30)","v":0},0,0,{"$f":"IF(I30=0,0,CONCATENATE(VLOOKUP(I30+\"00:01\",'データ '!K:M,3,TRUE),\"/\",$W$11))","v":0}]
["",null,"",null,null,null,null,null,0,null,0,0,0,null,null,19,{"$f":"IF(A31=\"\",\"\",IF($A$13<>A31,\"月が異なります！\",IF(SUM($I$13:I31)>$S$7,\"決定時間数を超過しています！\",\"\")))","v":""},0,0,{"$f":"SUM($S$13:S31)","v":0},0,0,{"$f":"IF(I31=0,0,CONCATENATE(VLOOKUP(I31+\"00:01\",'データ '!K:M,3,TRUE),\"/\",$W$11))","v":0}]
["",null,"",null,null,null,null,null,0,null,0,0,0,null,null,20,{"$f":"IF(A32=\"\",\"\",IF($A$13<>A32,\"月が異なります！\",IF(SUM($I$13:I32)>$S$7,\"決定時間数を超過しています！\",\"\")))","v":""},0,0,{"$f":"SUM($S$13:S32)","v":0},0,0,{"$f":"IF(I32=0,0,CONCATENATE(VLOOKUP(I32+\"00:01\",'データ '!K:M,3,TRUE),\"/\",$W$11))","v":0}]
["",null,"",null,null,null,null,null,0,null,0,0,0,null,null,21,{"$f":"IF(A33=\"\",\"\",IF($A$13<>A33,\"月が異なります！\",IF(SUM($I$13:I33)>$S$7,\"決定時間数を超過しています！\",\"\")))","v":""},0,0,{"$f":"SUM($S$13:S33)","v":0},0,0,{"$f":"IF(I33=0,0,CONCATENATE(VLOOKUP(I33+\"00:01\",'データ '!K:M,3,TRUE),\"/\",$W$11))","v":0}]
["",null,"",null,null,null,null,null,0,null,0,0,0,null,null,22,{"$f":"IF(A34=\"\",\"\",IF($A$13<>A34,\"月が異なります！\",IF(SUM($I$13:I34)>$S$7,\"決定時間数を超過しています！\",\"\")))","v":""},0,0,{"$f":"SUM($S$13:S34)","v":0},0,0,{"$f":"IF(I34=0,0,CONCATENATE(VLOOKUP(I34+\"00:01\",'データ '!K:M,3,TRUE),\"/\",$W$11))","v":0}]
["",null,"",null,null,null,null,null,0,null,0,0,0,null,null,23,{"$f":"IF(A35=\"\",\"\",IF($A$13<>A35,\"月が異なります！\",IF(SUM($I$13:I35)>$S$7,\"決定時間数を超過しています！\",\"\")))","v":""},0,0,{"$f":"SUM($S$13:S35)","v":0},0,0,{"$f":"IF(I35=0,0,CONCATENATE(VLOOKUP(I35+\"00:01\",'データ '!K:M,3,TRUE),\"/\",$W$11))","v":0}]
["",null,"",null,null,null,null,null,0,null,0,0,0,null,null,24,{"$f":"IF(A36=\"\",\"\",IF($A$13<>A36,\"月が異なります！\",IF(SUM($I$13:I36)>$S$7,\"決定時間数を超過しています！\",\"\")))","v":""},0,0,{"$f":"SUM($S$13:S36)","v":0},0,0,{"$f":"IF(I36=0,0,CONCATENATE(VLOOKUP(I36+\"00:01\",'データ '!K:M,3,TRUE),\"/\",$W$11))","v":0}]
["",null,"",null,null,null,null,null,0,null,0,0,0,null,null,25,{"$f":"IF(A37=\"\",\"\",IF($A$13<>A37,\"月が異なります！\",IF(SUM($I$13:I37)>$S$7,\"決定時間数を超過しています！\",\"\")))","v":""},0,0,{"$f":"SUM($S$13:S37)","v":0},0,0,{"$f":"IF(I37=0,0,CONCATENATE(VLOOKUP(I37+\"00:01\",'データ '!K:M,3,TRUE),\"/\",$W$11))","v":0}]
["",null,"",null,null,null,null,null,0,null,0,0,0,null,null,26,{"$f":"IF(A38=\"\",\"\",IF($A$13<>A38,\"月が異なります！\",IF(SUM($I$13:I38)>$S$7,\"決定時間数を超過しています！\",\"\")))","v":""},0,0,{"$f":"SUM($S$13:S38)","v":0},0,0,{"$f":"IF(I38=0,0,CONCATENATE(VLOOKUP(I38+\"00:01\",'データ '!K:M,3,TRUE),\"/\",$W$11))","v":0}]
["",null,"",null,null,null,null,null,0,null,0,0,0,null,null,27,{"$f":"IF(A39=\"\",\"\",IF($A$13<>A39,\"月が異なります！\",IF(SUM($I$13:I39)>$S$7,\"決定時間数を超過しています！\",\"\")))","v":""},0,0,{"$f":"SUM($S$13:S39)","v":0},0,0,{"$f":"IF(I39=0,0,CONCATENATE(VLOOKUP(I39+\"00:01\",'データ '!K:M,3,TRUE),\"/\",$W$11))","v":0}]
["",null,"",null,null,null,null,null,0,null,0,0,0,null,null,28,{"$f":"IF(A40=\"\",\"\",IF($A$13<>A40,\"月が異なります！\",IF(SUM($I$13:I40)>$S$7,\"決定時間数を超過しています！\",\"\")))","v":""},0,0,{"$f":"SUM($S$13:S40)","v":0},0,0,{"$f":"IF(I40=0,0,CONCATENATE(VLOOKUP(I40+\"00:01\",'データ '!K:M,3,TRUE),\"/\",$W$11))","v":0}]
["",null,"",null,null,null,null,null,0,null,0,0,0,null,null,29,{"$f":"IF(A41=\"\",\"\",IF($A$13<>A41,\"月が異なります！\",IF(SUM($I$13:I41)>$S$7,\"決定時間数を超過しています！\",\"\")))","v":""},0,0,{"$f":"SUM($S$13:S41)","v":0},0,0,{"$f":"IF(I41=0,0,CONCATENATE(VLOOKUP(I41+\"00:01\",'データ '!K:M,3,TRUE),\"/\",$W$11))","v":0}]
["",null,"",null,null,null,null,null,0,null,0,0,0,null,null,30,{"$f":"IF(A42=\"\",\"\",IF($A$13<>A42,\"月が異なります！\",IF(SUM($I$13:I42)>$S$7,\"決定時間数を超過しています！\",\"\")))","v":""},0,0,{"$f":"SUM($S$13:S42)","v":0},0,0,{"$f":"IF(I42=0,0,CONCATENATE(VLOOKUP(I42+\"00:01\",'データ '!K:M,3,TRUE),\"/\",$W$11))","v":0}]
["",null,"",null,null,null,null,null,0,null,0,0,0,null,null,31,{"$f":"IF(A43=\"\",\"\",IF($A$13<>A43,\"月が異なります！\",IF(SUM($I$13:I43)>$S$7,\"決定時間数を超過しています！\",\"\")))","v":""},0,0,{"$f":"SUM($S$13:S43)","v":0},0,0,{"$f":"IF(I43=0,0,CONCATENATE(VLOOKUP(I43+\"00:01\",'データ '!K:M,3,TRUE),\"/\",$W$11))","v":0}]
["合計",null,null,null,null,null,null,null,{"$f":"SUM(I13:I43)","v":0},null,{"$f":"SUM(K13:K43)","v":0},{"$f":"SUM(L13:L43)","v":0},{"$f":"SUM(M13:M43)","v":0},null,null,null,null,null,null,null,null,null,{"$f":"IF(I44>=$X$8,$Y$9,IF(AND(I44<$X$8,I44>=$X$7),$Y$8,IF(I44<$X$7,$Y$7)))&$W$11","v":"無"}]

{"sheet":"11","index":16,"n_rows":44,"n_cols":23,"rows_kept":44,"cut":false,"hidden":false,"merged":[[10,19,11,19],[10,20,11,20],[10,21,11,21],[43,0,43,7],[10,9,11,9],[10,10,11,10],[10,11,11,11],[10,12,11,12],[10,13,11,13],[10,14,11,14],[10,0,10,2],[10,3,10,5],[10,6,10,7],[10,8,11,8],[10,16,11,16],[6,16,8,16],[7,0,7,4],[7,5,7,6],[7,7,7,8],[8,0,8,4],[6,0,6,2],[6,3,6,4],[6,6,6,7],[6,9,8,10],[6,11,8,14],[8,5,8,6],[8,7,8,8],[4,11,4,14],[5,11,5,14],[3,1,3,4],[4,0,5,2],[4,3,5,5],[4,6,5,7],[4,8,5,10],[3,5,3,14]]}
[null,"№",11]
[]
[]
[null,{"$f":"EOMONTH(B13,0)","v":"1900-01-31"},null,null,null,"鎌ケ谷市移動支援サービス提供実績記録票"]
["登録番号",null,null,{"$f":"VLOOKUP($C$1,利用者情報!A:U,COLUMN(利用者情報!B3),FALSE)","v":0},null,null,"支給決定障がい者等氏名\n（児童氏名）",null,{"$f":"VLOOKUP($C$1,利用者情報!A:U,COLUMN(利用者情報!C1),FALSE)","v":0},null,null,"事業所登録番号"]
[null,null,null,null,null,null,null,null,null,null,null,{"$f":"請求事業者!B3","v":0},null,null,null,null,"コメント",null,"決定時間数"]
["契約支給量",null,null,"身体介護を\n伴う",null,{"$f":"IF(VLOOKUP(C1,利用者情報!A:G,5)=\"有\",CONCATENATE(VLOOKUP(C1,利用者情報!A:G,4)&\"時間\"),\"\")","v":""},"身体介護を\n伴わない",null,{"$f":"IF(VLOOKUP(C1,利用者情報!A:G,5)<>\"有\",CONCATENATE(VLOOKUP(C1,利用者情報!A:G,4)&\"時間\"),\"\")","v":"時間"},"事業所及び\nその事業所",null,{"$f":"請求事業者!B7","v":0},null,null,null,null,{"$f":"利用者情報!J4","v":""},null,{"$f":"IF(F7=\"\",I7,F7)","v":"時間"}]
["利用者負担の有無",null,null,null,null,"利用者の負担割合",null,"利用者負担上限額"]
[{"$f":"VLOOKUP($C$1,利用者情報!A:U,COLUMN(利用者情報!F3),FALSE)","v":0},null,null,null,null,{"$f":"IF(A9=\"有\",\"1割\",\"0割\")","v":"0割"},null,{"$f":"VLOOKUP($C$1,利用者情報!A:U,COLUMN(利用者情報!G3),FALSE)","v":0},null,null,null,null,null,null,null,null,null,null,null,null,null,null,{"$f":"請求事業者!C9","v":5}]
[null,null,null,null,null,null,null,null,null,null,null,null,null,null,null,null,null,null,null,null,null,null,"便宜上区分"]
["日付",null,null,"支援計画",null,null,null,null,"算定\n時間","派遣\n人数","算定額","利用者\n負担額","請求額","サービス\n提供者印","利用者\n確認印",null,"コメント",null,null,"利用者負担額\n累計","上限到達フラグ","上限達成時の利用者負担額",{"$f":"IF(F7=\"\",\"無\",\"有\")","v":"無"}]
["月","日","曜日","開始\n時間","終了\n時間","計画\n時間数","開始\n時間","終了\n時間",null,null,null,null,null,null,null,null,null,"請求額","利用者\n負担額",null,null,null,{"$f":"IF(A9=\"有\",\"（9割）\",\"\")","v":""}]
[{"$f":"IF(B13=\"\",\"\",TEXT(B13,\"m\"))","v":""},null,{"$f":"IF(B13=\"\",\"\",B13)","v":""},null,null,null,null,null,{"$f":"H13-G13","v":0},null,{"$f":"IF($H13=0,0,INDEX(単価,MATCH(W13,時間,0),MATCH($W$9,地域区分,0)))","v":0},{"$f":"IF(U13=0,S13,V13)","v":0},{"$f":"K13-L13","v":0},null,null,1,{"$f":"IF(A13=\"\",\"\",IF($A$13<>A13,\"月が異なります！\",IF(SUM($I$13:I13)>$S$7,\"決定時間数を超過しています！\",\"\")))","v":""},{"$f":"IF(I13=0,0,INDEX(単価,MATCH(W13,時間,0),MATCH(IF(W12=\"\",W9,W9&W12),地域区分,0)))","v":0},{"$f":"K13-R13","v":0},{"$f":"SUM($S$13:S13)","v":0},null,null,{"$f":"IF(I13=0,0,CONCATENATE(VLOOKUP(I13+\"00:01\",'データ '!K:M,3,TRUE),\"/\",$W$11))","v":0}]
[{"$f":"IF(B14=\"\",\"\",TEXT(B14,\"m\"))","v":""},null,{"$f":"IF(B14=\"\",\"\",B14)","v":""},null,null,null,null,null,{"$f":"H14-G14","v":0},null,{"$f":"IF($H14=0,0,INDEX(単価,MATCH(W14,時間,0),MATCH($W$9,地域区分,0)))","v":0},{"$f":"IF(U14=0,S14,V14)","v":0},{"$f":"K14-L14","v":0},null,null,2,{"$f":"IF(A14=\"\",\"\",IF($A$13<>A14,\"月が異なります！\",IF(SUM($I$13:I14)>$S$7,\"決定時間数を超過しています！\",\"\")))","v":""},{"$f":"IF(AND($H14=0),0,IF($A$9=\"有\",INDEX(単価,MATCH(W14,時間,0),MATCH($W$9&$W$12,地域区分,0)),INDEX(単価,MATCH(W14,時間,0),MATCH($W$9,地域区分,0))))","v":0},{"$f":"K14-R14","v":0},{"$f":"SUM($S$13:S14)","v":0},{"$f":"IF(AND(T13<$H$9,T14>$H$9),1,IF(T14>$H$9,2,0))","v":0},{"$f":"IF(U14=1,$H$9-T13,0)","v":0},{"$f":"IF(I14=0,0,CONCATENATE(VLOOKUP(I14+\"00:01\",'データ '!K:M,3,TRUE),\"/\",$W$11))","v":0}]
["",null,"",null,null,null,null,null,0,null,0,{"$f":"IF(U15=0,S15,V15)","v":0},{"$f":"K15-L15","v":0},null,null,3,{"$f":"IF(A15=\"\",\"\",IF($A$13<>A15,\"月が異なります！\",IF(SUM($I$13:I15)>$S$7,\"決定時間数を超過しています！\",\"\")))","v":""},0,0,{"$f":"SUM($S$13:S15)","v":0},{"$f":"IF(AND(T14<$H$9,T15>$H$9),1,IF(T15>$H$9,2,0))","v":0},{"$f":"IF(U15=1,$H$9-T14,0)","v":0},{"$f":"IF(I15=0,0,CONCATENATE(VLOOKUP(I15+\"00:01\",'データ '!K:M,3,TRUE),\"/\",$W$11))","v":0}]
["",null,"",null,null,null,null,null,0,null,0,0,0,null,null,4,{"$f":"IF(A16=\"\",\"\",IF($A$13<>A16,\"月が異なります！\",IF(SUM($I$13:I16)>$S$7,\"決定時間数を超過しています！\",\"\")))","v":""},0,0,{"$f":"SUM($S$13:S16)","v":0},0,0,{"$f":"IF(I16=0,0,CONCATENATE(VLOOKUP(I16+\"00:01\",'データ '!K:M,3,TRUE),\"/\",$W$11))","v":0}]
["",null,"",null,null,null,null,null,0,null,0,0,0,null,null,5,{"$f":"IF(A17=\"\",\"\",IF($A$13<>A17,\"月が異なります！\",IF(SUM($I$13:I17)>$S$7,\"決定時間数を超過しています！\",\"\")))","v":""},0,0,{"$f":"SUM($S$13:S17)","v":0},0,0,{"$f":"IF(I17=0,0,CONCATENATE(VLOOKUP(I17+\"00:01\",'データ '!K:M,3,TRUE),\"/\",$W$11))","v":0}]
["",null,"",null,null,null,null,null,0,null,0,0,0,null,null,6,{"$f":"IF(A18=\"\",\"\",IF($A$13<>A18,\"月が異なります！\",IF(SUM($I$13:I18)>$S$7,\"決定時間数を超過しています！\",\"\")))","v":""},0,0,{"$f":"SUM($S$13:S18)","v":0},0,0,{"$f":"IF(I18=0,0,CONCATENATE(VLOOKUP(I18+\"00:01\",'データ '!K:M,3,TRUE),\"/\",$W$11))","v":0}]
["",null,"",null,null,null,null,null,0,null,0,0,0,null,null,7,{"$f":"IF(A19=\"\",\"\",IF($A$13<>A19,\"月が異なります！\",IF(SUM($I$13:I19)>$S$7,\"決定時間数を超過しています！\",\"\")))","v":""},0,0,{"$f":"SUM($S$13:S19)","v":0},0,0,{"$f":"IF(I19=0,0,CONCATENATE(VLOOKUP(I19+\"00:01\",'データ '!K:M,3,TRUE),\"/\",$W$11))","v":0}]
["",null,"",null,null,null,null,null,0,null,0,0,0,null,null,8,{"$f":"IF(A20=\"\",\"\",IF($A$13<>A20,\"月が異なります！\",IF(SUM($I$13:I20)>$S$7,\"決定時間数を超過しています！\",\"\")))","v":""},0,0,{"$f":"SUM($S$13:S20)","v":0},0,0,{"$f":"IF(I20=0,0,CONCATENATE(VLOOKUP(I20+\"00:01\",'データ '!K:M,3,TRUE),\"/\",$W$11))","v":0}]
["",null,"",null,null,null,null,null,0,null,0,{"$f":"IF(U21=0,S21,V21)","v":0},0,null,null,9,{"$f":"IF(A21=\"\",\"\",IF($A$13<>A21,\"月が異なります！\",IF(SUM($I$13:I21)>$S$7,\"決定時間数を超過しています！\",\"\")))","v":""},0,0,{"$f":"SUM($S$13:S21)","v":0},0,0,{"$f":"IF(I21=0,0,CONCATENATE(VLOOKUP(I21+\"00:01\",'データ '!K:M,3,TRUE),\"/\",$W$11))","v":0}]
["",null,"",null,null,null,null,null,0,null,0,{"$f":"IF(U22=0,S22,V22)","v":0},0,null,null,10,{"$f":"IF(A22=\"\",\"\",IF($A$13<>A22,\"月が異なります！\",IF(SUM($I$13:I22)>$S$7,\"決定時間数を超過しています！\",\"\")))","v":""},0,{"$f":"K22-R22","v":0},{"$f":"SUM($S$13:S22)","v":0},0,0,{"$f":"IF(I22=0,0,CONCATENATE(VLOOKUP(I22+\"00:01\",'データ '!K:M,3,TRUE),\"/\",$W$11))","v":0}]
["",null,"",null,null,null,null,null,0,null,0,0,0,null,null,11,{"$f":"IF(A23=\"\",\"\",IF($A$13<>A23,\"月が異なります！\",IF(SUM($I$13:I23)>$S$7,\"決定時間数を超過しています！\",\"\")))","v":""},0,0,{"$f":"SUM($S$13:S23)","v":0},0,0,{"$f":"IF(I23=0,0,CONCATENATE(VLOOKUP(I23+\"00:01\",'データ '!K:M,3,TRUE),\"/\",$W$11))","v":0}]
["",null,"",null,null,null,null,null,0,null,0,0,0,null,null,12,{"$f":"IF(A24=\"\",\"\",IF($A$13<>A24,\"月が異なります！\",IF(SUM($I$13:I24)>$S$7,\"決定時間数を超過しています！\",\"\")))","v":""},0,0,{"$f":"SUM($S$13:S24)","v":0},0,0,{"$f":"IF(I24=0,0,CONCATENATE(VLOOKUP(I24+\"00:01\",'データ '!K:M,3,TRUE),\"/\",$W$11))","v":0}]
["",null,"",null,null,null,null,null,0,null,0,0,0,null,null,13,{"$f":"IF(A25=\"\",\"\",IF($A$13<>A25,\"月が異なります！\",IF(SUM($I$13:I25)>$S$7,\"決定時間数を超過しています！\",\"\")))","v":""},0,0,{"$f":"SUM($S$13:S25)","v":0},0,0,{"$f":"IF(I25=0,0,CONCATENATE(VLOOKUP(I25+\"00:01\",'データ '!K:M,3,TRUE),\"/\",$W$11))","v":0}]
["",null,"",null,null,null,null,null,0,null,0,0,0,null,null,14,{"$f":"IF(A26=\"\",\"\",IF($A$13<>A26,\"月が異なります！\",IF(SUM($I$13:I26)>$S$7,\"決定時間数を超過しています！\",\"\")))","v":""},0,0,{"$f":"SUM($S$13:S26)","v":0},0,0,{"$f":"IF(I26=0,0,CONCATENATE(VLOOKUP(I26+\"00:01\",'データ '!K:M,3,TRUE),\"/\",$W$11))","v":0}]
["",null,"",null,null,null,null,null,0,null,0,0,0,null,null,15,{"$f":"IF(A27=\"\",\"\",IF($A$13<>A27,\"月が異なります！\",IF(SUM($I$13:I27)>$S$7,\"決定時間数を超過しています！\",\"\")))","v":""},0,0,{"$f":"SUM($S$13:S27)","v":0},0,0,{"$f":"IF(I27=0,0,CONCATENATE(VLOOKUP(I27+\"00:01\",'データ '!K:M,3,TRUE),\"/\",$W$11))","v":0}]
["",null,"",null,null,null,null,null,0,null,0,0,0,null,null,16,{"$f":"IF(A28=\"\",\"\",IF($A$13<>A28,\"月が異なります！\",IF(SUM($I$13:I28)>$S$7,\"決定時間数を超過しています！\",\"\")))","v":""},0,0,{"$f":"SUM($S$13:S28)","v":0},0,0,{"$f":"IF(I28=0,0,CONCATENATE(VLOOKUP(I28+\"00:01\",'データ '!K:M,3,TRUE),\"/\",$W$11))","v":0}]
["",null,"",null,null,null,null,null,0,null,0,0,0,null,null,17,{"$f":"IF(A29=\"\",\"\",IF($A$13<>A29,\"月が異なります！\",IF(SUM($I$13:I29)>$S$7,\"決定時間数を超過しています！\",\"\")))","v":""},0,0,{"$f":"SUM($S$13:S29)","v":0},0,0,{"$f":"IF(I29=0,0,CONCATENATE(VLOOKUP(I29+\"00:01\",'データ '!K:M,3,TRUE),\"/\",$W$11))","v":0}]
["",null,"",null,null,null,null,null,0,null,0,0,0,null,null,18,{"$f":"IF(A30=\"\",\"\",IF($A$13<>A30,\"月が異なります！\",IF(SUM($I$13:I30)>$S$7,\"決定時間数を超過しています！\",\"\")))","v":""},0,0,{"$f":"SUM($S$13:S30)","v":0},0,0,{"$f":"IF(I30=0,0,CONCATENATE(VLOOKUP(I30+\"00:01\",'データ '!K:M,3,TRUE),\"/\",$W$11))","v":0}]
["",null,"",null,null,null,null,null,0,null,0,0,0,null,null,19,{"$f":"IF(A31=\"\",\"\",IF($A$13<>A31,\"月が異なります！\",IF(SUM($I$13:I31)>$S$7,\"決定時間数を超過しています！\",\"\")))","v":""},0,0,{"$f":"SUM($S$13:S31)","v":0},0,0,{"$f":"IF(I31=0,0,CONCATENATE(VLOOKUP(I31+\"00:01\",'データ '!K:M,3,TRUE),\"/\",$W$11))","v":0}]
["",null,"",null,null,null,null,null,0,null,0,0,0,null,null,20,{"$f":"IF(A32=\"\",\"\",IF($A$13<>A32,\"月が異なります！\",IF(SUM($I$13:I32)>$S$7,\"決定時間数を超過しています！\",\"\")))","v":""},0,0,{"$f":"SUM($S$13:S32)","v":0},0,0,{"$f":"IF(I32=0,0,CONCATENATE(VLOOKUP(I32+\"00:01\",'データ '!K:M,3,TRUE),\"/\",$W$11))","v":0}]
["",null,"",null,null,null,null,null,0,null,0,0,0,null,null,21,{"$f":"IF(A33=\"\",\"\",IF($A$13<>A33,\"月が異なります！\",IF(SUM($I$13:I33)>$S$7,\"決定時間数を超過しています！\",\"\")))","v":""},0,0,{"$f":"SUM($S$13:S33)","v":0},0,0,{"$f":"IF(I33=0,0,CONCATENATE(VLOOKUP(I33+\"00:01\",'データ '!K:M,3,TRUE),\"/\",$W$11))","v":0}]
["",null,"",null,null,null,null,null,0,null,0,0,0,null,null,22,{"$f":"IF(A34=\"\",\"\",IF($A$13<>A34,\"月が異なります！\",IF(SUM($I$13:I34)>$S$7,\"決定時間数を超過しています！\",\"\")))","v":""},0,0,{"$f":"SUM($S$13:S34)","v":0},0,0,{"$f":"IF(I34=0,0,CONCATENATE(VLOOKUP(I34+\"00:01\",'データ '!K:M,3,TRUE),\"/\",$W$11))","v":0}]
["",null,"",null,null,null,null,null,0,null,0,0,0,null,null,23,{"$f":"IF(A35=\"\",\"\",IF($A$13<>A35,\"月が異なります！\",IF(SUM($I$13:I35)>$S$7,\"決定時間数を超過しています！\",\"\")))","v":""},0,0,{"$f":"SUM($S$13:S35)","v":0},0,0,{"$f":"IF(I35=0,0,CONCATENATE(VLOOKUP(I35+\"00:01\",'データ '!K:M,3,TRUE),\"/\",$W$11))","v":0}]
["",null,"",null,null,null,null,null,0,null,0,0,0,null,null,24,{"$f":"IF(A36=\"\",\"\",IF($A$13<>A36,\"月が異なります！\",IF(SUM($I$13:I36)>$S$7,\"決定時間数を超過しています！\",\"\")))","v":""},0,0,{"$f":"SUM($S$13:S36)","v":0},0,0,{"$f":"IF(I36=0,0,CONCATENATE(VLOOKUP(I36+\"00:01\",'データ '!K:M,3,TRUE),\"/\",$W$11))","v":0}]
["",null,"",null,null,null,null,null,0,null,0,0,0,null,null,25,{"$f":"IF(A37=\"\",\"\",IF($A$13<>A37,\"月が異なります！\",IF(SUM($I$13:I37)>$S$7,\"決定時間数を超過しています！\",\"\")))","v":""},0,0,{"$f":"SUM($S$13:S37)","v":0},0,0,{"$f":"IF(I37=0,0,CONCATENATE(VLOOKUP(I37+\"00:01\",'データ '!K:M,3,TRUE),\"/\",$W$11))","v":0}]
["",null,"",null,null,null,null,null,0,null,0,0,0,null,null,26,{"$f":"IF(A38=\"\",\"\",IF($A$13<>A38,\"月が異なります！\",IF(SUM($I$13:I38)>$S$7,\"決定時間数を超過しています！\",\"\")))","v":""},0,0,{"$f":"SUM($S$13:S38)","v":0},0,0,{"$f":"IF(I38=0,0,CONCATENATE(VLOOKUP(I38+\"00:01\",'データ '!K:M,3,TRUE),\"/\",$W$11))","v":0}]
["",null,"",null,null,null,null,null,0,null,0,0,0,null,null,27,{"$f":"IF(A39=\"\",\"\",IF($A$13<>A39,\"月が異なります！\",IF(SUM($I$13:I39)>$S$7,\"決定時間数を超過しています！\",\"\")))","v":""},0,0,{"$f":"SUM($S$13:S39)","v":0},0,0,{"$f":"IF(I39=0,0,CONCATENATE(VLOOKUP(I39+\"00:01\",'データ '!K:M,3,TRUE),\"/\",$W$11))","v":0}]
["",null,"",null,null,null,null,null,0,null,0,0,0,null,null,28,{"$f":"IF(A40=\"\",\"\",IF($A$13<>A40,\"月が異なります！\",IF(SUM($I$13:I40)>$S$7,\"決定時間数を超過しています！\",\"\")))","v":""},0,0,{"$f":"SUM($S$13:S40)","v":0},0,0,{"$f":"IF(I40=0,0,CONCATENATE(VLOOKUP(I40+\"00:01\",'データ '!K:M,3,TRUE),\"/\",$W$11))","v":0}]
["",null,"",null,null,null,null,null,0,null,0,0,0,null,null,29,{"$f":"IF(A41=\"\",\"\",IF($A$13<>A41,\"月が異なります！\",IF(SUM($I$13:I41)>$S$7,\"決定時間数を超過しています！\",\"\")))","v":""},0,0,{"$f":"SUM($S$13:S41)","v":0},0,0,{"$f":"IF(I41=0,0,CONCATENATE(VLOOKUP(I41+\"00:01\",'データ '!K:M,3,TRUE),\"/\",$W$11))","v":0}]
["",null,"",null,null,null,null,null,0,null,0,0,0,null,null,30,{"$f":"IF(A42=\"\",\"\",IF($A$13<>A42,\"月が異なります！\",IF(SUM($I$13:I42)>$S$7,\"決定時間数を超過しています！\",\"\")))","v":""},0,0,{"$f":"SUM($S$13:S42)","v":0},0,0,{"$f":"IF(I42=0,0,CONCATENATE(VLOOKUP(I42+\"00:01\",'データ '!K:M,3,TRUE),\"/\",$W$11))","v":0}]
["",null,"",null,null,null,null,null,0,null,0,0,0,null,null,31,{"$f":"IF(A43=\"\",\"\",IF($A$13<>A43,\"月が異なります！\",IF(SUM($I$13:I43)>$S$7,\"決定時間数を超過しています！\",\"\")))","v":""},0,0,{"$f":"SUM($S$13:S43)","v":0},0,0,{"$f":"IF(I43=0,0,CONCATENATE(VLOOKUP(I43+\"00:01\",'データ '!K:M,3,TRUE),\"/\",$W$11))","v":0}]
["合計",null,null,null,null,null,null,null,{"$f":"SUM(I13:I43)","v":0},null,{"$f":"SUM(K13:K43)","v":0},{"$f":"SUM(L13:L43)","v":0},{"$f":"SUM(M13:M43)","v":0},null,null,null,null,null,null,null,null,null,{"$f":"IF(I44>=$X$8,$Y$9,IF(AND(I44<$X$8,I44>=$X$7),$Y$8,IF(I44<$X$7,$Y$7)))&$W$11","v":"無"}]

{"sheet":"12","index":17,"n_rows":44,"n_cols":23,"rows_kept":44,"cut":false,"hidden":false,"merged":[[10,19,11,19],[10,20,11,20],[10,21,11,21],[43,0,43,7],[10,9,11,9],[10,10,11,10],[10,11,11,11],[10,12,11,12],[10,13,11,13],[10,14,11,14],[10,0,10,2],[10,3,10,5],[10,6,10,7],[10,8,11,8],[10,16,11,16],[6,16,8,16],[7,0,7,4],[7,5,7,6],[7,7,7,8],[8,0,8,4],[6,0,6,2],[6,3,6,4],[6,6,6,7],[6,9,8,10],[6,11,8,14],[8,5,8,6],[8,7,8,8],[4,11,4,14],[5,11,5,14],[3,1,3,4],[4,0,5,2],[4,3,5,5],[4,6,5,7],[4,8,5,10],[3,5,3,14]]}
[null,"№",12]
[]
[]
[null,{"$f":"EOMONTH(B13,0)","v":"1900-01-31"},null,null,null,"鎌ケ谷市移動支援サービス提供実績記録票"]
["登録番号",null,null,{"$f":"VLOOKUP($C$1,利用者情報!A:U,COLUMN(利用者情報!B3),FALSE)","v":0},null,null,"支給決定障がい者等氏名\n（児童氏名）",null,{"$f":"VLOOKUP($C$1,利用者情報!A:U,COLUMN(利用者情報!C1),FALSE)","v":0},null,null,"事業所登録番号"]
[null,null,null,null,null,null,null,null,null,null,null,{"$f":"請求事業者!B3","v":0},null,null,null,null,"コメント",null,"決定時間数"]
["契約支給量",null,null,"身体介護を\n伴う",null,{"$f":"IF(VLOOKUP(C1,利用者情報!A:G,5)=\"有\",CONCATENATE(VLOOKUP(C1,利用者情報!A:G,4)&\"時間\"),\"\")","v":""},"身体介護を\n伴わない",null,{"$f":"IF(VLOOKUP(C1,利用者情報!A:G,5)<>\"有\",CONCATENATE(VLOOKUP(C1,利用者情報!A:G,4)&\"時間\"),\"\")","v":"時間"},"事業所及び\nその事業所",null,{"$f":"請求事業者!B7","v":0},null,null,null,null,{"$f":"利用者情報!J4","v":""},null,{"$f":"IF(F7=\"\",I7,F7)","v":"時間"}]
["利用者負担の有無",null,null,null,null,"利用者の負担割合",null,"利用者負担上限額"]
[{"$f":"VLOOKUP($C$1,利用者情報!A:U,COLUMN(利用者情報!F3),FALSE)","v":0},null,null,null,null,{"$f":"IF(A9=\"有\",\"1割\",\"0割\")","v":"0割"},null,{"$f":"VLOOKUP($C$1,利用者情報!A:U,COLUMN(利用者情報!G3),FALSE)","v":0},null,null,null,null,null,null,null,null,null,null,null,null,null,null,{"$f":"請求事業者!C9","v":5}]
[null,null,null,null,null,null,null,null,null,null,null,null,null,null,null,null,null,null,null,null,null,null,"便宜上区分"]
["日付",null,null,"支援計画",null,null,null,null,"算定\n時間","派遣\n人数","算定額","利用者\n負担額","請求額","サービス\n提供者印","利用者\n確認印",null,"コメント",null,null,"利用者負担額\n累計","上限到達フラグ","上限達成時の利用者負担額",{"$f":"IF(F7=\"\",\"無\",\"有\")","v":"無"}]
["月","日","曜日","開始\n時間","終了\n時間","計画\n時間数","開始\n時間","終了\n時間",null,null,null,null,null,null,null,null,null,"請求額","利用者\n負担額",null,null,null,{"$f":"IF(A9=\"有\",\"（9割）\",\"\")","v":""}]
[{"$f":"IF(B13=\"\",\"\",TEXT(B13,\"m\"))","v":""},null,{"$f":"IF(B13=\"\",\"\",B13)","v":""},null,null,null,null,null,{"$f":"H13-G13","v":0},null,{"$f":"IF($H13=0,0,INDEX(単価,MATCH(W13,時間,0),MATCH($W$9,地域区分,0)))","v":0},{"$f":"IF(U13=0,S13,V13)","v":0},{"$f":"K13-L13","v":0},null,null,1,{"$f":"IF(A13=\"\",\"\",IF($A$13<>A13,\"月が異なります！\",IF(SUM($I$13:I13)>$S$7,\"決定時間数を超過しています！\",\"\")))","v":""},{"$f":"IF(I13=0,0,INDEX(単価,MATCH(W13,時間,0),MATCH(IF(W12=\"\",W9,W9&W12),地域区分,0)))","v":0},{"$f":"K13-R13","v":0},{"$f":"SUM($S$13:S13)","v":0},null,null,{"$f":"IF(I13=0,0,CONCATENATE(VLOOKUP(I13+\"00:01\",'データ '!K:M,3,TRUE),\"/\",$W$11))","v":0}]
[{"$f":"IF(B14=\"\",\"\",TEXT(B14,\"m\"))","v":""},null,{"$f":"IF(B14=\"\",\"\",B14)","v":""},null,null,null,null,null,{"$f":"H14-G14","v":0},null,{"$f":"IF($H14=0,0,INDEX(単価,MATCH(W14,時間,0),MATCH($W$9,地域区分,0)))","v":0},{"$f":"IF(U14=0,S14,V14)","v":0},{"$f":"K14-L14","v":0},null,null,2,{"$f":"IF(A14=\"\",\"\",IF($A$13<>A14,\"月が異なります！\",IF(SUM($I$13:I14)>$S$7,\"決定時間数を超過しています！\",\"\")))","v":""},{"$f":"IF(AND($H14=0),0,IF($A$9=\"有\",INDEX(単価,MATCH(W14,時間,0),MATCH($W$9&$W$12,地域区分,0)),INDEX(単価,MATCH(W14,時間,0),MATCH($W$9,地域区分,0))))","v":0},{"$f":"K14-R14","v":0},{"$f":"SUM($S$13:S14)","v":0},{"$f":"IF(AND(T13<$H$9,T14>$H$9),1,IF(T14>$H$9,2,0))","v":0},{"$f":"IF(U14=1,$H$9-T13,0)","v":0},{"$f":"IF(I14=0,0,CONCATENATE(VLOOKUP(I14+\"00:01\",'データ '!K:M,3,TRUE),\"/\",$W$11))","v":0}]
["",null,"",null,null,null,null,null,0,null,0,{"$f":"IF(U15=0,S15,V15)","v":0},{"$f":"K15-L15","v":0},null,null,3,{"$f":"IF(A15=\"\",\"\",IF($A$13<>A15,\"月が異なります！\",IF(SUM($I$13:I15)>$S$7,\"決定時間数を超過しています！\",\"\")))","v":""},0,0,{"$f":"SUM($S$13:S15)","v":0},{"$f":"IF(AND(T14<$H$9,T15>$H$9),1,IF(T15>$H$9,2,0))","v":0},{"$f":"IF(U15=1,$H$9-T14,0)","v":0},{"$f":"IF(I15=0,0,CONCATENATE(VLOOKUP(I15+\"00:01\",'データ '!K:M,3,TRUE),\"/\",$W$11))","v":0}]
["",null,"",null,null,null,null,null,0,null,0,0,0,null,null,4,{"$f":"IF(A16=\"\",\"\",IF($A$13<>A16,\"月が異なります！\",IF(SUM($I$13:I16)>$S$7,\"決定時間数を超過しています！\",\"\")))","v":""},0,0,{"$f":"SUM($S$13:S16)","v":0},0,0,{"$f":"IF(I16=0,0,CONCATENATE(VLOOKUP(I16+\"00:01\",'データ '!K:M,3,TRUE),\"/\",$W$11))","v":0}]
["",null,"",null,null,null,null,null,0,null,0,0,0,null,null,5,{"$f":"IF(A17=\"\",\"\",IF($A$13<>A17,\"月が異なります！\",IF(SUM($I$13:I17)>$S$7,\"決定時間数を超過しています！\",\"\")))","v":""},0,0,{"$f":"SUM($S$13:S17)","v":0},0,0,{"$f":"IF(I17=0,0,CONCATENATE(VLOOKUP(I17+\"00:01\",'データ '!K:M,3,TRUE),\"/\",$W$11))","v":0}]
["",null,"",null,null,null,null,null,0,null,0,0,0,null,null,6,{"$f":"IF(A18=\"\",\"\",IF($A$13<>A18,\"月が異なります！\",IF(SUM($I$13:I18)>$S$7,\"決定時間数を超過しています！\",\"\")))","v":""},0,0,{"$f":"SUM($S$13:S18)","v":0},0,0,{"$f":"IF(I18=0,0,CONCATENATE(VLOOKUP(I18+\"00:01\",'データ '!K:M,3,TRUE),\"/\",$W$11))","v":0}]
["",null,"",null,null,null,null,null,0,null,0,0,0,null,null,7,{"$f":"IF(A19=\"\",\"\",IF($A$13<>A19,\"月が異なります！\",IF(SUM($I$13:I19)>$S$7,\"決定時間数を超過しています！\",\"\")))","v":""},0,0,{"$f":"SUM($S$13:S19)","v":0},0,0,{"$f":"IF(I19=0,0,CONCATENATE(VLOOKUP(I19+\"00:01\",'データ '!K:M,3,TRUE),\"/\",$W$11))","v":0}]
["",null,"",null,null,null,null,null,0,null,0,0,0,null,null,8,{"$f":"IF(A20=\"\",\"\",IF($A$13<>A20,\"月が異なります！\",IF(SUM($I$13:I20)>$S$7,\"決定時間数を超過しています！\",\"\")))","v":""},0,0,{"$f":"SUM($S$13:S20)","v":0},0,0,{"$f":"IF(I20=0,0,CONCATENATE(VLOOKUP(I20+\"00:01\",'データ '!K:M,3,TRUE),\"/\",$W$11))","v":0}]
["",null,"",null,null,null,null,null,0,null,0,{"$f":"IF(U21=0,S21,V21)","v":0},0,null,null,9,{"$f":"IF(A21=\"\",\"\",IF($A$13<>A21,\"月が異なります！\",IF(SUM($I$13:I21)>$S$7,\"決定時間数を超過しています！\",\"\")))","v":""},0,0,{"$f":"SUM($S$13:S21)","v":0},0,0,{"$f":"IF(I21=0,0,CONCATENATE(VLOOKUP(I21+\"00:01\",'データ '!K:M,3,TRUE),\"/\",$W$11))","v":0}]
["",null,"",null,null,null,null,null,0,null,0,{"$f":"IF(U22=0,S22,V22)","v":0},0,null,null,10,{"$f":"IF(A22=\"\",\"\",IF($A$13<>A22,\"月が異なります！\",IF(SUM($I$13:I22)>$S$7,\"決定時間数を超過しています！\",\"\")))","v":""},0,{"$f":"K22-R22","v":0},{"$f":"SUM($S$13:S22)","v":0},0,0,{"$f":"IF(I22=0,0,CONCATENATE(VLOOKUP(I22+\"00:01\",'データ '!K:M,3,TRUE),\"/\",$W$11))","v":0}]
["",null,"",null,null,null,null,null,0,null,0,0,0,null,null,11,{"$f":"IF(A23=\"\",\"\",IF($A$13<>A23,\"月が異なります！\",IF(SUM($I$13:I23)>$S$7,\"決定時間数を超過しています！\",\"\")))","v":""},0,0,{"$f":"SUM($S$13:S23)","v":0},0,0,{"$f":"IF(I23=0,0,CONCATENATE(VLOOKUP(I23+\"00:01\",'データ '!K:M,3,TRUE),\"/\",$W$11))","v":0}]
["",null,"",null,null,null,null,null,0,null,0,0,0,null,null,12,{"$f":"IF(A24=\"\",\"\",IF($A$13<>A24,\"月が異なります！\",IF(SUM($I$13:I24)>$S$7,\"決定時間数を超過しています！\",\"\")))","v":""},0,0,{"$f":"SUM($S$13:S24)","v":0},0,0,{"$f":"IF(I24=0,0,CONCATENATE(VLOOKUP(I24+\"00:01\",'データ '!K:M,3,TRUE),\"/\",$W$11))","v":0}]
["",null,"",null,null,null,null,null,0,null,0,0,0,null,null,13,{"$f":"IF(A25=\"\",\"\",IF($A$13<>A25,\"月が異なります！\",IF(SUM($I$13:I25)>$S$7,\"決定時間数を超過しています！\",\"\")))","v":""},0,0,{"$f":"SUM($S$13:S25)","v":0},0,0,{"$f":"IF(I25=0,0,CONCATENATE(VLOOKUP(I25+\"00:01\",'データ '!K:M,3,TRUE),\"/\",$W$11))","v":0}]
["",null,"",null,null,null,null,null,0,null,0,0,0,null,null,14,{"$f":"IF(A26=\"\",\"\",IF($A$13<>A26,\"月が異なります！\",IF(SUM($I$13:I26)>$S$7,\"決定時間数を超過しています！\",\"\")))","v":""},0,0,{"$f":"SUM($S$13:S26)","v":0},0,0,{"$f":"IF(I26=0,0,CONCATENATE(VLOOKUP(I26+\"00:01\",'データ '!K:M,3,TRUE),\"/\",$W$11))","v":0}]
["",null,"",null,null,null,null,null,0,null,0,0,0,null,null,15,{"$f":"IF(A27=\"\",\"\",IF($A$13<>A27,\"月が異なります！\",IF(SUM($I$13:I27)>$S$7,\"決定時間数を超過しています！\",\"\")))","v":""},0,0,{"$f":"SUM($S$13:S27)","v":0},0,0,{"$f":"IF(I27=0,0,CONCATENATE(VLOOKUP(I27+\"00:01\",'データ '!K:M,3,TRUE),\"/\",$W$11))","v":0}]
["",null,"",null,null,null,null,null,0,null,0,0,0,null,null,16,{"$f":"IF(A28=\"\",\"\",IF($A$13<>A28,\"月が異なります！\",IF(SUM($I$13:I28)>$S$7,\"決定時間数を超過しています！\",\"\")))","v":""},0,0,{"$f":"SUM($S$13:S28)","v":0},0,0,{"$f":"IF(I28=0,0,CONCATENATE(VLOOKUP(I28+\"00:01\",'データ '!K:M,3,TRUE),\"/\",$W$11))","v":0}]
["",null,"",null,null,null,null,null,0,null,0,0,0,null,null,17,{"$f":"IF(A29=\"\",\"\",IF($A$13<>A29,\"月が異なります！\",IF(SUM($I$13:I29)>$S$7,\"決定時間数を超過しています！\",\"\")))","v":""},0,0,{"$f":"SUM($S$13:S29)","v":0},0,0,{"$f":"IF(I29=0,0,CONCATENATE(VLOOKUP(I29+\"00:01\",'データ '!K:M,3,TRUE),\"/\",$W$11))","v":0}]
["",null,"",null,null,null,null,null,0,null,0,0,0,null,null,18,{"$f":"IF(A30=\"\",\"\",IF($A$13<>A30,\"月が異なります！\",IF(SUM($I$13:I30)>$S$7,\"決定時間数を超過しています！\",\"\")))","v":""},0,0,{"$f":"SUM($S$13:S30)","v":0},0,0,{"$f":"IF(I30=0,0,CONCATENATE(VLOOKUP(I30+\"00:01\",'データ '!K:M,3,TRUE),\"/\",$W$11))","v":0}]
["",null,"",null,null,null,null,null,0,null,0,0,0,null,null,19,{"$f":"IF(A31=\"\",\"\",IF($A$13<>A31,\"月が異なります！\",IF(SUM($I$13:I31)>$S$7,\"決定時間数を超過しています！\",\"\")))","v":""},0,0,{"$f":"SUM($S$13:S31)","v":0},0,0,{"$f":"IF(I31=0,0,CONCATENATE(VLOOKUP(I31+\"00:01\",'データ '!K:M,3,TRUE),\"/\",$W$11))","v":0}]
["",null,"",null,null,null,null,null,0,null,0,0,0,null,null,20,{"$f":"IF(A32=\"\",\"\",IF($A$13<>A32,\"月が異なります！\",IF(SUM($I$13:I32)>$S$7,\"決定時間数を超過しています！\",\"\")))","v":""},0,0,{"$f":"SUM($S$13:S32)","v":0},0,0,{"$f":"IF(I32=0,0,CONCATENATE(VLOOKUP(I32+\"00:01\",'データ '!K:M,3,TRUE),\"/\",$W$11))","v":0}]
["",null,"",null,null,null,null,null,0,null,0,0,0,null,null,21,{"$f":"IF(A33=\"\",\"\",IF($A$13<>A33,\"月が異なります！\",IF(SUM($I$13:I33)>$S$7,\"決定時間数を超過しています！\",\"\")))","v":""},0,0,{"$f":"SUM($S$13:S33)","v":0},0,0,{"$f":"IF(I33=0,0,CONCATENATE(VLOOKUP(I33+\"00:01\",'データ '!K:M,3,TRUE),\"/\",$W$11))","v":0}]
["",null,"",null,null,null,null,null,0,null,0,0,0,null,null,22,{"$f":"IF(A34=\"\",\"\",IF($A$13<>A34,\"月が異なります！\",IF(SUM($I$13:I34)>$S$7,\"決定時間数を超過しています！\",\"\")))","v":""},0,0,{"$f":"SUM($S$13:S34)","v":0},0,0,{"$f":"IF(I34=0,0,CONCATENATE(VLOOKUP(I34+\"00:01\",'データ '!K:M,3,TRUE),\"/\",$W$11))","v":0}]
["",null,"",null,null,null,null,null,0,null,0,0,0,null,null,23,{"$f":"IF(A35=\"\",\"\",IF($A$13<>A35,\"月が異なります！\",IF(SUM($I$13:I35)>$S$7,\"決定時間数を超過しています！\",\"\")))","v":""},0,0,{"$f":"SUM($S$13:S35)","v":0},0,0,{"$f":"IF(I35=0,0,CONCATENATE(VLOOKUP(I35+\"00:01\",'データ '!K:M,3,TRUE),\"/\",$W$11))","v":0}]
["",null,"",null,null,null,null,null,0,null,0,0,0,null,null,24,{"$f":"IF(A36=\"\",\"\",IF($A$13<>A36,\"月が異なります！\",IF(SUM($I$13:I36)>$S$7,\"決定時間数を超過しています！\",\"\")))","v":""},0,0,{"$f":"SUM($S$13:S36)","v":0},0,0,{"$f":"IF(I36=0,0,CONCATENATE(VLOOKUP(I36+\"00:01\",'データ '!K:M,3,TRUE),\"/\",$W$11))","v":0}]
["",null,"",null,null,null,null,null,0,null,0,0,0,null,null,25,{"$f":"IF(A37=\"\",\"\",IF($A$13<>A37,\"月が異なります！\",IF(SUM($I$13:I37)>$S$7,\"決定時間数を超過しています！\",\"\")))","v":""},0,0,{"$f":"SUM($S$13:S37)","v":0},0,0,{"$f":"IF(I37=0,0,CONCATENATE(VLOOKUP(I37+\"00:01\",'データ '!K:M,3,TRUE),\"/\",$W$11))","v":0}]
["",null,"",null,null,null,null,null,0,null,0,0,0,null,null,26,{"$f":"IF(A38=\"\",\"\",IF($A$13<>A38,\"月が異なります！\",IF(SUM($I$13:I38)>$S$7,\"決定時間数を超過しています！\",\"\")))","v":""},0,0,{"$f":"SUM($S$13:S38)","v":0},0,0,{"$f":"IF(I38=0,0,CONCATENATE(VLOOKUP(I38+\"00:01\",'データ '!K:M,3,TRUE),\"/\",$W$11))","v":0}]
["",null,"",null,null,null,null,null,0,null,0,0,0,null,null,27,{"$f":"IF(A39=\"\",\"\",IF($A$13<>A39,\"月が異なります！\",IF(SUM($I$13:I39)>$S$7,\"決定時間数を超過しています！\",\"\")))","v":""},0,0,{"$f":"SUM($S$13:S39)","v":0},0,0,{"$f":"IF(I39=0,0,CONCATENATE(VLOOKUP(I39+\"00:01\",'データ '!K:M,3,TRUE),\"/\",$W$11))","v":0}]
["",null,"",null,null,null,null,null,0,null,0,0,0,null,null,28,{"$f":"IF(A40=\"\",\"\",IF($A$13<>A40,\"月が異なります！\",IF(SUM($I$13:I40)>$S$7,\"決定時間数を超過しています！\",\"\")))","v":""},0,0,{"$f":"SUM($S$13:S40)","v":0},0,0,{"$f":"IF(I40=0,0,CONCATENATE(VLOOKUP(I40+\"00:01\",'データ '!K:M,3,TRUE),\"/\",$W$11))","v":0}]
["",null,"",null,null,null,null,null,0,null,0,0,0,null,null,29,{"$f":"IF(A41=\"\",\"\",IF($A$13<>A41,\"月が異なります！\",IF(SUM($I$13:I41)>$S$7,\"決定時間数を超過しています！\",\"\")))","v":""},0,0,{"$f":"SUM($S$13:S41)","v":0},0,0,{"$f":"IF(I41=0,0,CONCATENATE(VLOOKUP(I41+\"00:01\",'データ '!K:M,3,TRUE),\"/\",$W$11))","v":0}]
["",null,"",null,null,null,null,null,0,null,0,0,0,null,null,30,{"$f":"IF(A42=\"\",\"\",IF($A$13<>A42,\"月が異なります！\",IF(SUM($I$13:I42)>$S$7,\"決定時間数を超過しています！\",\"\")))","v":""},0,0,{"$f":"SUM($S$13:S42)","v":0},0,0,{"$f":"IF(I42=0,0,CONCATENATE(VLOOKUP(I42+\"00:01\",'データ '!K:M,3,TRUE),\"/\",$W$11))","v":0}]
["",null,"",null,null,null,null,null,0,null,0,0,0,null,null,31,{"$f":"IF(A43=\"\",\"\",IF($A$13<>A43,\"月が異なります！\",IF(SUM($I$13:I43)>$S$7,\"決定時間数を超過しています！\",\"\")))","v":""},0,0,{"$f":"SUM($S$13:S43)","v":0},0,0,{"$f":"IF(I43=0,0,CONCATENATE(VLOOKUP(I43+\"00:01\",'データ '!K:M,3,TRUE),\"/\",$W$11))","v":0}]
["合計",null,null,null,null,null,null,null,{"$f":"SUM(I13:I43)","v":0},null,{"$f":"SUM(K13:K43)","v":0},{"$f":"SUM(L13:L43)","v":0},{"$f":"SUM(M13:M43)","v":0},null,null,null,null,null,null,null,null,null,{"$f":"IF(I44>=$X$8,$Y$9,IF(AND(I44<$X$8,I44>=$X$7),$Y$8,IF(I44<$X$7,$Y$7)))&$W$11","v":"無"}]

{"sheet":"13","index":18,"n_rows":44,"n_cols":23,"rows_kept":44,"cut":false,"hidden":false,"merged":[[10,19,11,19],[10,20,11,20],[10,21,11,21],[43,0,43,7],[10,9,11,9],[10,10,11,10],[10,11,11,11],[10,12,11,12],[10,13,11,13],[10,14,11,14],[10,0,10,2],[10,3,10,5],[10,6,10,7],[10,8,11,8],[10,16,11,16],[6,16,8,16],[7,0,7,4],[7,5,7,6],[7,7,7,8],[8,0,8,4],[6,0,6,2],[6,3,6,4],[6,6,6,7],[6,9,8,10],[6,11,8,14],[8,5,8,6],[8,7,8,8],[4,11,4,14],[5,11,5,14],[3,1,3,4],[4,0,5,2],[4,3,5,5],[4,6,5,7],[4,8,5,10],[3,5,3,14]]}
[null,"№",13]
[]
[]
[null,{"$f":"EOMONTH(B13,0)","v":"1900-01-31"},null,null,null,"鎌ケ谷市移動支援サービス提供実績記録票"]
["登録番号",null,null,{"$f":"VLOOKUP($C$1,利用者情報!A:U,COLUMN(利用者情報!B3),FALSE)","v":0},null,null,"支給決定障がい者等氏名\n（児童氏名）",null,{"$f":"VLOOKUP($C$1,利用者情報!A:U,COLUMN(利用者情報!C1),FALSE)","v":0},null,null,"事業所登録番号"]
[null,null,null,null,null,null,null,null,null,null,null,{"$f":"請求事業者!B3","v":0},null,null,null,null,"コメント",null,"決定時間数"]
["契約支給量",null,null,"身体介護を\n伴う",null,{"$f":"IF(VLOOKUP(C1,利用者情報!A:G,5)=\"有\",CONCATENATE(VLOOKUP(C1,利用者情報!A:G,4)&\"時間\"),\"\")","v":""},"身体介護を\n伴わない",null,{"$f":"IF(VLOOKUP(C1,利用者情報!A:G,5)<>\"有\",CONCATENATE(VLOOKUP(C1,利用者情報!A:G,4)&\"時間\"),\"\")","v":"時間"},"事業所及び\nその事業所",null,{"$f":"請求事業者!B7","v":0},null,null,null,null,{"$f":"利用者情報!J4","v":""},null,{"$f":"IF(F7=\"\",I7,F7)","v":"時間"}]
["利用者負担の有無",null,null,null,null,"利用者の負担割合",null,"利用者負担上限額"]
[{"$f":"VLOOKUP($C$1,利用者情報!A:U,COLUMN(利用者情報!F3),FALSE)","v":0},null,null,null,null,{"$f":"IF(A9=\"有\",\"1割\",\"0割\")","v":"0割"},null,{"$f":"VLOOKUP($C$1,利用者情報!A:U,COLUMN(利用者情報!G3),FALSE)","v":0},null,null,null,null,null,null,null,null,null,null,null,null,null,null,{"$f":"請求事業者!C9","v":5}]
[null,null,null,null,null,null,null,null,null,null,null,null,null,null,null,null,null,null,null,null,null,null,"便宜上区分"]
["日付",null,null,"支援計画",null,null,null,null,"算定\n時間","派遣\n人数","算定額","利用者\n負担額","請求額","サービス\n提供者印","利用者\n確認印",null,"コメント",null,null,"利用者負担額\n累計","上限到達フラグ","上限達成時の利用者負担額",{"$f":"IF(F7=\"\",\"無\",\"有\")","v":"無"}]
["月","日","曜日","開始\n時間","終了\n時間","計画\n時間数","開始\n時間","終了\n時間",null,null,null,null,null,null,null,null,null,"請求額","利用者\n負担額",null,null,null,{"$f":"IF(A9=\"有\",\"（9割）\",\"\")","v":""}]
[{"$f":"IF(B13=\"\",\"\",TEXT(B13,\"m\"))","v":""},null,{"$f":"IF(B13=\"\",\"\",B13)","v":""},null,null,null,null,null,{"$f":"H13-G13","v":0},null,{"$f":"IF($H13=0,0,INDEX(単価,MATCH(W13,時間,0),MATCH($W$9,地域区分,0)))","v":0},{"$f":"IF(U13=0,S13,V13)","v":0},{"$f":"K13-L13","v":0},null,null,1,{"$f":"IF(A13=\"\",\"\",IF($A$13<>A13,\"月が異なります！\",IF(SUM($I$13:I13)>$S$7,\"決定時間数を超過しています！\",\"\")))","v":""},{"$f":"IF(I13=0,0,INDEX(単価,MATCH(W13,時間,0),MATCH(IF(W12=\"\",W9,W9&W12),地域区分,0)))","v":0},{"$f":"K13-R13","v":0},{"$f":"SUM($S$13:S13)","v":0},null,null,{"$f":"IF(I13=0,0,CONCATENATE(VLOOKUP(I13+\"00:01\",'データ '!K:M,3,TRUE),\"/\",$W$11))","v":0}]
[{"$f":"IF(B14=\"\",\"\",TEXT(B14,\"m\"))","v":""},null,{"$f":"IF(B14=\"\",\"\",B14)","v":""},null,null,null,null,null,{"$f":"H14-G14","v":0},null,{"$f":"IF($H14=0,0,INDEX(単価,MATCH(W14,時間,0),MATCH($W$9,地域区分,0)))","v":0},{"$f":"IF(U14=0,S14,V14)","v":0},{"$f":"K14-L14","v":0},null,null,2,{"$f":"IF(A14=\"\",\"\",IF($A$13<>A14,\"月が異なります！\",IF(SUM($I$13:I14)>$S$7,\"決定時間数を超過しています！\",\"\")))","v":""},{"$f":"IF(AND($H14=0),0,IF($A$9=\"有\",INDEX(単価,MATCH(W14,時間,0),MATCH($W$9&$W$12,地域区分,0)),INDEX(単価,MATCH(W14,時間,0),MATCH($W$9,地域区分,0))))","v":0},{"$f":"K14-R14","v":0},{"$f":"SUM($S$13:S14)","v":0},{"$f":"IF(AND(T13<$H$9,T14>$H$9),1,IF(T14>$H$9,2,0))","v":0},{"$f":"IF(U14=1,$H$9-T13,0)","v":0},{"$f":"IF(I14=0,0,CONCATENATE(VLOOKUP(I14+\"00:01\",'データ '!K:M,3,TRUE),\"/\",$W$11))","v":0}]
["",null,"",null,null,null,null,null,0,null,0,{"$f":"IF(U15=0,S15,V15)","v":0},{"$f":"K15-L15","v":0},null,null,3,{"$f":"IF(A15=\"\",\"\",IF($A$13<>A15,\"月が異なります！\",IF(SUM($I$13:I15)>$S$7,\"決定時間数を超過しています！\",\"\")))","v":""},0,0,{"$f":"SUM($S$13:S15)","v":0},{"$f":"IF(AND(T14<$H$9,T15>$H$9),1,IF(T15>$H$9,2,0))","v":0},{"$f":"IF(U15=1,$H$9-T14,0)","v":0},{"$f":"IF(I15=0,0,CONCATENATE(VLOOKUP(I15+\"00:01\",'データ '!K:M,3,TRUE),\"/\",$W$11))","v":0}]
["",null,"",null,null,null,null,null,0,null,0,0,0,null,null,4,{"$f":"IF(A16=\"\",\"\",IF($A$13<>A16,\"月が異なります！\",IF(SUM($I$13:I16)>$S$7,\"決定時間数を超過しています！\",\"\")))","v":""},0,0,{"$f":"SUM($S$13:S16)","v":0},0,0,{"$f":"IF(I16=0,0,CONCATENATE(VLOOKUP(I16+\"00:01\",'データ '!K:M,3,TRUE),\"/\",$W$11))","v":0}]
["",null,"",null,null,null,null,null,0,null,0,0,0,null,null,5,{"$f":"IF(A17=\"\",\"\",IF($A$13<>A17,\"月が異なります！\",IF(SUM($I$13:I17)>$S$7,\"決定時間数を超過しています！\",\"\")))","v":""},0,0,{"$f":"SUM($S$13:S17)","v":0},0,0,{"$f":"IF(I17=0,0,CONCATENATE(VLOOKUP(I17+\"00:01\",'データ '!K:M,3,TRUE),\"/\",$W$11))","v":0}]
["",null,"",null,null,null,null,null,0,null,0,0,0,null,null,6,{"$f":"IF(A18=\"\",\"\",IF($A$13<>A18,\"月が異なります！\",IF(SUM($I$13:I18)>$S$7,\"決定時間数を超過しています！\",\"\")))","v":""},0,0,{"$f":"SUM($S$13:S18)","v":0},0,0,{"$f":"IF(I18=0,0,CONCATENATE(VLOOKUP(I18+\"00:01\",'データ '!K:M,3,TRUE),\"/\",$W$11))","v":0}]
["",null,"",null,null,null,null,null,0,null,0,0,0,null,null,7,{"$f":"IF(A19=\"\",\"\",IF($A$13<>A19,\"月が異なります！\",IF(SUM($I$13:I19)>$S$7,\"決定時間数を超過しています！\",\"\")))","v":""},0,0,{"$f":"SUM($S$13:S19)","v":0},0,0,{"$f":"IF(I19=0,0,CONCATENATE(VLOOKUP(I19+\"00:01\",'データ '!K:M,3,TRUE),\"/\",$W$11))","v":0}]
["",null,"",null,null,null,null,null,0,null,0,0,0,null,null,8,{"$f":"IF(A20=\"\",\"\",IF($A$13<>A20,\"月が異なります！\",IF(SUM($I$13:I20)>$S$7,\"決定時間数を超過しています！\",\"\")))","v":""},0,0,{"$f":"SUM($S$13:S20)","v":0},0,0,{"$f":"IF(I20=0,0,CONCATENATE(VLOOKUP(I20+\"00:01\",'データ '!K:M,3,TRUE),\"/\",$W$11))","v":0}]
["",null,"",null,null,null,null,null,0,null,0,{"$f":"IF(U21=0,S21,V21)","v":0},0,null,null,9,{"$f":"IF(A21=\"\",\"\",IF($A$13<>A21,\"月が異なります！\",IF(SUM($I$13:I21)>$S$7,\"決定時間数を超過しています！\",\"\")))","v":""},0,0,{"$f":"SUM($S$13:S21)","v":0},0,0,{"$f":"IF(I21=0,0,CONCATENATE(VLOOKUP(I21+\"00:01\",'データ '!K:M,3,TRUE),\"/\",$W$11))","v":0}]
["",null,"",null,null,null,null,null,0,null,0,{"$f":"IF(U22=0,S22,V22)","v":0},0,null,null,10,{"$f":"IF(A22=\"\",\"\",IF($A$13<>A22,\"月が異なります！\",IF(SUM($I$13:I22)>$S$7,\"決定時間数を超過しています！\",\"\")))","v":""},0,{"$f":"K22-R22","v":0},{"$f":"SUM($S$13:S22)","v":0},0,0,{"$f":"IF(I22=0,0,CONCATENATE(VLOOKUP(I22+\"00:01\",'データ '!K:M,3,TRUE),\"/\",$W$11))","v":0}]
["",null,"",null,null,null,null,null,0,null,0,0,0,null,null,11,{"$f":"IF(A23=\"\",\"\",IF($A$13<>A23,\"月が異なります！\",IF(SUM($I$13:I23)>$S$7,\"決定時間数を超過しています！\",\"\")))","v":""},0,0,{"$f":"SUM($S$13:S23)","v":0},0,0,{"$f":"IF(I23=0,0,CONCATENATE(VLOOKUP(I23+\"00:01\",'データ '!K:M,3,TRUE),\"/\",$W$11))","v":0}]
["",null,"",null,null,null,null,null,0,null,0,0,0,null,null,12,{"$f":"IF(A24=\"\",\"\",IF($A$13<>A24,\"月が異なります！\",IF(SUM($I$13:I24)>$S$7,\"決定時間数を超過しています！\",\"\")))","v":""},0,0,{"$f":"SUM($S$13:S24)","v":0},0,0,{"$f":"IF(I24=0,0,CONCATENATE(VLOOKUP(I24+\"00:01\",'データ '!K:M,3,TRUE),\"/\",$W$11))","v":0}]
["",null,"",null,null,null,null,null,0,null,0,0,0,null,null,13,{"$f":"IF(A25=\"\",\"\",IF($A$13<>A25,\"月が異なります！\",IF(SUM($I$13:I25)>$S$7,\"決定時間数を超過しています！\",\"\")))","v":""},0,0,{"$f":"SUM($S$13:S25)","v":0},0,0,{"$f":"IF(I25=0,0,CONCATENATE(VLOOKUP(I25+\"00:01\",'データ '!K:M,3,TRUE),\"/\",$W$11))","v":0}]
["",null,"",null,null,null,null,null,0,null,0,0,0,null,null,14,{"$f":"IF(A26=\"\",\"\",IF($A$13<>A26,\"月が異なります！\",IF(SUM($I$13:I26)>$S$7,\"決定時間数を超過しています！\",\"\")))","v":""},0,0,{"$f":"SUM($S$13:S26)","v":0},0,0,{"$f":"IF(I26=0,0,CONCATENATE(VLOOKUP(I26+\"00:01\",'データ '!K:M,3,TRUE),\"/\",$W$11))","v":0}]
["",null,"",null,null,null,null,null,0,null,0,0,0,null,null,15,{"$f":"IF(A27=\"\",\"\",IF($A$13<>A27,\"月が異なります！\",IF(SUM($I$13:I27)>$S$7,\"決定時間数を超過しています！\",\"\")))","v":""},0,0,{"$f":"SUM($S$13:S27)","v":0},0,0,{"$f":"IF(I27=0,0,CONCATENATE(VLOOKUP(I27+\"00:01\",'データ '!K:M,3,TRUE),\"/\",$W$11))","v":0}]
["",null,"",null,null,null,null,null,0,null,0,0,0,null,null,16,{"$f":"IF(A28=\"\",\"\",IF($A$13<>A28,\"月が異なります！\",IF(SUM($I$13:I28)>$S$7,\"決定時間数を超過しています！\",\"\")))","v":""},0,0,{"$f":"SUM($S$13:S28)","v":0},0,0,{"$f":"IF(I28=0,0,CONCATENATE(VLOOKUP(I28+\"00:01\",'データ '!K:M,3,TRUE),\"/\",$W$11))","v":0}]
["",null,"",null,null,null,null,null,0,null,0,0,0,null,null,17,{"$f":"IF(A29=\"\",\"\",IF($A$13<>A29,\"月が異なります！\",IF(SUM($I$13:I29)>$S$7,\"決定時間数を超過しています！\",\"\")))","v":""},0,0,{"$f":"SUM($S$13:S29)","v":0},0,0,{"$f":"IF(I29=0,0,CONCATENATE(VLOOKUP(I29+\"00:01\",'データ '!K:M,3,TRUE),\"/\",$W$11))","v":0}]
["",null,"",null,null,null,null,null,0,null,0,0,0,null,null,18,{"$f":"IF(A30=\"\",\"\",IF($A$13<>A30,\"月が異なります！\",IF(SUM($I$13:I30)>$S$7,\"決定時間数を超過しています！\",\"\")))","v":""},0,0,{"$f":"SUM($S$13:S30)","v":0},0,0,{"$f":"IF(I30=0,0,CONCATENATE(VLOOKUP(I30+\"00:01\",'データ '!K:M,3,TRUE),\"/\",$W$11))","v":0}]
["",null,"",null,null,null,null,null,0,null,0,0,0,null,null,19,{"$f":"IF(A31=\"\",\"\",IF($A$13<>A31,\"月が異なります！\",IF(SUM($I$13:I31)>$S$7,\"決定時間数を超過しています！\",\"\")))","v":""},0,0,{"$f":"SUM($S$13:S31)","v":0},0,0,{"$f":"IF(I31=0,0,CONCATENATE(VLOOKUP(I31+\"00:01\",'データ '!K:M,3,TRUE),\"/\",$W$11))","v":0}]
["",null,"",null,null,null,null,null,0,null,0,0,0,null,null,20,{"$f":"IF(A32=\"\",\"\",IF($A$13<>A32,\"月が異なります！\",IF(SUM($I$13:I32)>$S$7,\"決定時間数を超過しています！\",\"\")))","v":""},0,0,{"$f":"SUM($S$13:S32)","v":0},0,0,{"$f":"IF(I32=0,0,CONCATENATE(VLOOKUP(I32+\"00:01\",'データ '!K:M,3,TRUE),\"/\",$W$11))","v":0}]
["",null,"",null,null,null,null,null,0,null,0,0,0,null,null,21,{"$f":"IF(A33=\"\",\"\",IF($A$13<>A33,\"月が異なります！\",IF(SUM($I$13:I33)>$S$7,\"決定時間数を超過しています！\",\"\")))","v":""},0,0,{"$f":"SUM($S$13:S33)","v":0},0,0,{"$f":"IF(I33=0,0,CONCATENATE(VLOOKUP(I33+\"00:01\",'データ '!K:M,3,TRUE),\"/\",$W$11))","v":0}]
["",null,"",null,null,null,null,null,0,null,0,0,0,null,null,22,{"$f":"IF(A34=\"\",\"\",IF($A$13<>A34,\"月が異なります！\",IF(SUM($I$13:I34)>$S$7,\"決定時間数を超過しています！\",\"\")))","v":""},0,0,{"$f":"SUM($S$13:S34)","v":0},0,0,{"$f":"IF(I34=0,0,CONCATENATE(VLOOKUP(I34+\"00:01\",'データ '!K:M,3,TRUE),\"/\",$W$11))","v":0}]
["",null,"",null,null,null,null,null,0,null,0,0,0,null,null,23,{"$f":"IF(A35=\"\",\"\",IF($A$13<>A35,\"月が異なります！\",IF(SUM($I$13:I35)>$S$7,\"決定時間数を超過しています！\",\"\")))","v":""},0,0,{"$f":"SUM($S$13:S35)","v":0},0,0,{"$f":"IF(I35=0,0,CONCATENATE(VLOOKUP(I35+\"00:01\",'データ '!K:M,3,TRUE),\"/\",$W$11))","v":0}]
["",null,"",null,null,null,null,null,0,null,0,0,0,null,null,24,{"$f":"IF(A36=\"\",\"\",IF($A$13<>A36,\"月が異なります！\",IF(SUM($I$13:I36)>$S$7,\"決定時間数を超過しています！\",\"\")))","v":""},0,0,{"$f":"SUM($S$13:S36)","v":0},0,0,{"$f":"IF(I36=0,0,CONCATENATE(VLOOKUP(I36+\"00:01\",'データ '!K:M,3,TRUE),\"/\",$W$11))","v":0}]
["",null,"",null,null,null,null,null,0,null,0,0,0,null,null,25,{"$f":"IF(A37=\"\",\"\",IF($A$13<>A37,\"月が異なります！\",IF(SUM($I$13:I37)>$S$7,\"決定時間数を超過しています！\",\"\")))","v":""},0,0,{"$f":"SUM($S$13:S37)","v":0},0,0,{"$f":"IF(I37=0,0,CONCATENATE(VLOOKUP(I37+\"00:01\",'データ '!K:M,3,TRUE),\"/\",$W$11))","v":0}]
["",null,"",null,null,null,null,null,0,null,0,0,0,null,null,26,{"$f":"IF(A38=\"\",\"\",IF($A$13<>A38,\"月が異なります！\",IF(SUM($I$13:I38)>$S$7,\"決定時間数を超過しています！\",\"\")))","v":""},0,0,{"$f":"SUM($S$13:S38)","v":0},0,0,{"$f":"IF(I38=0,0,CONCATENATE(VLOOKUP(I38+\"00:01\",'データ '!K:M,3,TRUE),\"/\",$W$11))","v":0}]
["",null,"",null,null,null,null,null,0,null,0,0,0,null,null,27,{"$f":"IF(A39=\"\",\"\",IF($A$13<>A39,\"月が異なります！\",IF(SUM($I$13:I39)>$S$7,\"決定時間数を超過しています！\",\"\")))","v":""},0,0,{"$f":"SUM($S$13:S39)","v":0},0,0,{"$f":"IF(I39=0,0,CONCATENATE(VLOOKUP(I39+\"00:01\",'データ '!K:M,3,TRUE),\"/\",$W$11))","v":0}]
["",null,"",null,null,null,null,null,0,null,0,0,0,null,null,28,{"$f":"IF(A40=\"\",\"\",IF($A$13<>A40,\"月が異なります！\",IF(SUM($I$13:I40)>$S$7,\"決定時間数を超過しています！\",\"\")))","v":""},0,0,{"$f":"SUM($S$13:S40)","v":0},0,0,{"$f":"IF(I40=0,0,CONCATENATE(VLOOKUP(I40+\"00:01\",'データ '!K:M,3,TRUE),\"/\",$W$11))","v":0}]
["",null,"",null,null,null,null,null,0,null,0,0,0,null,null,29,{"$f":"IF(A41=\"\",\"\",IF($A$13<>A41,\"月が異なります！\",IF(SUM($I$13:I41)>$S$7,\"決定時間数を超過しています！\",\"\")))","v":""},0,0,{"$f":"SUM($S$13:S41)","v":0},0,0,{"$f":"IF(I41=0,0,CONCATENATE(VLOOKUP(I41+\"00:01\",'データ '!K:M,3,TRUE),\"/\",$W$11))","v":0}]
["",null,"",null,null,null,null,null,0,null,0,0,0,null,null,30,{"$f":"IF(A42=\"\",\"\",IF($A$13<>A42,\"月が異なります！\",IF(SUM($I$13:I42)>$S$7,\"決定時間数を超過しています！\",\"\")))","v":""},0,0,{"$f":"SUM($S$13:S42)","v":0},0,0,{"$f":"IF(I42=0,0,CONCATENATE(VLOOKUP(I42+\"00:01\",'データ '!K:M,3,TRUE),\"/\",$W$11))","v":0}]
["",null,"",null,null,null,null,null,0,null,0,0,0,null,null,31,{"$f":"IF(A43=\"\",\"\",IF($A$13<>A43,\"月が異なります！\",IF(SUM($I$13:I43)>$S$7,\"決定時間数を超過しています！\",\"\")))","v":""},0,0,{"$f":"SUM($S$13:S43)","v":0},0,0,{"$f":"IF(I43=0,0,CONCATENATE(VLOOKUP(I43+\"00:01\",'データ '!K:M,3,TRUE),\"/\",$W$11))","v":0}]
["合計",null,null,null,null,null,null,null,{"$f":"SUM(I13:I43)","v":0},null,{"$f":"SUM(K13:K43)","v":0},{"$f":"SUM(L13:L43)","v":0},{"$f":"SUM(M13:M43)","v":0},null,null,null,null,null,null,null,null,null,{"$f":"IF(I44>=$X$8,$Y$9,IF(AND(I44<$X$8,I44>=$X$7),$Y$8,IF(I44<$X$7,$Y$7)))&$W$11","v":"無"}]

{"sheet":"14","index":19,"n_rows":44,"n_cols":23,"rows_kept":44,"cut":false,"hidden":false,"merged":[[10,19,11,19],[10,20,11,20],[10,21,11,21],[43,0,43,7],[10,9,11,9],[10,10,11,10],[10,11,11,11],[10,12,11,12],[10,13,11,13],[10,14,11,14],[10,0,10,2],[10,3,10,5],[10,6,10,7],[10,8,11,8],[10,16,11,16],[6,16,8,16],[7,0,7,4],[7,5,7,6],[7,7,7,8],[8,0,8,4],[6,0,6,2],[6,3,6,4],[6,6,6,7],[6,9,8,10],[6,11,8,14],[8,5,8,6],[8,7,8,8],[4,11,4,14],[5,11,5,14],[3,1,3,4],[4,0,5,2],[4,3,5,5],[4,6,5,7],[4,8,5,10],[3,5,3,14]]}
[null,"№",14]
[]
[]
[null,{"$f":"EOMONTH(B13,0)","v":"1900-01-31"},null,null,null,"鎌ケ谷市移動支援サービス提供実績記録票"]
["登録番号",null,null,{"$f":"VLOOKUP($C$1,利用者情報!A:U,COLUMN(利用者情報!B3),FALSE)","v":0},null,null,"支給決定障がい者等氏名\n（児童氏名）",null,{"$f":"VLOOKUP($C$1,利用者情報!A:U,COLUMN(利用者情報!C1),FALSE)","v":0},null,null,"事業所登録番号"]
[null,null,null,null,null,null,null,null,null,null,null,{"$f":"請求事業者!B3","v":0},null,null,null,null,"コメント",null,"決定時間数"]
["契約支給量",null,null,"身体介護を\n伴う",null,{"$f":"IF(VLOOKUP(C1,利用者情報!A:G,5)=\"有\",CONCATENATE(VLOOKUP(C1,利用者情報!A:G,4)&\"時間\"),\"\")","v":""},"身体介護を\n伴わない",null,{"$f":"IF(VLOOKUP(C1,利用者情報!A:G,5)<>\"有\",CONCATENATE(VLOOKUP(C1,利用者情報!A:G,4)&\"時間\"),\"\")","v":"時間"},"事業所及び\nその事業所",null,{"$f":"請求事業者!B7","v":0},null,null,null,null,{"$f":"利用者情報!J4","v":""},null,{"$f":"IF(F7=\"\",I7,F7)","v":"時間"}]
["利用者負担の有無",null,null,null,null,"利用者の負担割合",null,"利用者負担上限額"]
[{"$f":"VLOOKUP($C$1,利用者情報!A:U,COLUMN(利用者情報!F3),FALSE)","v":0},null,null,null,null,{"$f":"IF(A9=\"有\",\"1割\",\"0割\")","v":"0割"},null,{"$f":"VLOOKUP($C$1,利用者情報!A:U,COLUMN(利用者情報!G3),FALSE)","v":0},null,null,null,null,null,null,null,null,null,null,null,null,null,null,{"$f":"請求事業者!C9","v":5}]
[null,null,null,null,null,null,null,null,null,null,null,null,null,null,null,null,null,null,null,null,null,null,"便宜上区分"]
["日付",null,null,"支援計画",null,null,null,null,"算定\n時間","派遣\n人数","算定額","利用者\n負担額","請求額","サービス\n提供者印","利用者\n確認印",null,"コメント",null,null,"利用者負担額\n累計","上限到達フラグ","上限達成時の利用者負担額",{"$f":"IF(F7=\"\",\"無\",\"有\")","v":"無"}]
["月","日","曜日","開始\n時間","終了\n時間","計画\n時間数","開始\n時間","終了\n時間",null,null,null,null,null,null,null,null,null,"請求額","利用者\n負担額",null,null,null,{"$f":"IF(A9=\"有\",\"（9割）\",\"\")","v":""}]
[{"$f":"IF(B13=\"\",\"\",TEXT(B13,\"m\"))","v":""},null,{"$f":"IF(B13=\"\",\"\",B13)","v":""},null,null,null,null,null,{"$f":"H13-G13","v":0},null,{"$f":"IF($H13=0,0,INDEX(単価,MATCH(W13,時間,0),MATCH($W$9,地域区分,0)))","v":0},{"$f":"IF(U13=0,S13,V13)","v":0},{"$f":"K13-L13","v":0},null,null,1,{"$f":"IF(A13=\"\",\"\",IF($A$13<>A13,\"月が異なります！\",IF(SUM($I$13:I13)>$S$7,\"決定時間数を超過しています！\",\"\")))","v":""},{"$f":"IF(I13=0,0,INDEX(単価,MATCH(W13,時間,0),MATCH(IF(W12=\"\",W9,W9&W12),地域区分,0)))","v":0},{"$f":"K13-R13","v":0},{"$f":"SUM($S$13:S13)","v":0},null,null,{"$f":"IF(I13=0,0,CONCATENATE(VLOOKUP(I13+\"00:01\",'データ '!K:M,3,TRUE),\"/\",$W$11))","v":0}]
[{"$f":"IF(B14=\"\",\"\",TEXT(B14,\"m\"))","v":""},null,{"$f":"IF(B14=\"\",\"\",B14)","v":""},null,null,null,null,null,{"$f":"H14-G14","v":0},null,{"$f":"IF($H14=0,0,INDEX(単価,MATCH(W14,時間,0),MATCH($W$9,地域区分,0)))","v":0},{"$f":"IF(U14=0,S14,V14)","v":0},{"$f":"K14-L14","v":0},null,null,2,{"$f":"IF(A14=\"\",\"\",IF($A$13<>A14,\"月が異なります！\",IF(SUM($I$13:I14)>$S$7,\"決定時間数を超過しています！\",\"\")))","v":""},{"$f":"IF(AND($H14=0),0,IF($A$9=\"有\",INDEX(単価,MATCH(W14,時間,0),MATCH($W$9&$W$12,地域区分,0)),INDEX(単価,MATCH(W14,時間,0),MATCH($W$9,地域区分,0))))","v":0},{"$f":"K14-R14","v":0},{"$f":"SUM($S$13:S14)","v":0},{"$f":"IF(AND(T13<$H$9,T14>$H$9),1,IF(T14>$H$9,2,0))","v":0},{"$f":"IF(U14=1,$H$9-T13,0)","v":0},{"$f":"IF(I14=0,0,CONCATENATE(VLOOKUP(I14+\"00:01\",'データ '!K:M,3,TRUE),\"/\",$W$11))","v":0}]
["",null,"",null,null,null,null,null,0,null,0,{"$f":"IF(U15=0,S15,V15)","v":0},{"$f":"K15-L15","v":0},null,null,3,{"$f":"IF(A15=\"\",\"\",IF($A$13<>A15,\"月が異なります！\",IF(SUM($I$13:I15)>$S$7,\"決定時間数を超過しています！\",\"\")))","v":""},0,0,{"$f":"SUM($S$13:S15)","v":0},{"$f":"IF(AND(T14<$H$9,T15>$H$9),1,IF(T15>$H$9,2,0))","v":0},{"$f":"IF(U15=1,$H$9-T14,0)","v":0},{"$f":"IF(I15=0,0,CONCATENATE(VLOOKUP(I15+\"00:01\",'データ '!K:M,3,TRUE),\"/\",$W$11))","v":0}]
["",null,"",null,null,null,null,null,0,null,0,0,0,null,null,4,{"$f":"IF(A16=\"\",\"\",IF($A$13<>A16,\"月が異なります！\",IF(SUM($I$13:I16)>$S$7,\"決定時間数を超過しています！\",\"\")))","v":""},0,0,{"$f":"SUM($S$13:S16)","v":0},0,0,{"$f":"IF(I16=0,0,CONCATENATE(VLOOKUP(I16+\"00:01\",'データ '!K:M,3,TRUE),\"/\",$W$11))","v":0}]
["",null,"",null,null,null,null,null,0,null,0,0,0,null,null,5,{"$f":"IF(A17=\"\",\"\",IF($A$13<>A17,\"月が異なります！\",IF(SUM($I$13:I17)>$S$7,\"決定時間数を超過しています！\",\"\")))","v":""},0,0,{"$f":"SUM($S$13:S17)","v":0},0,0,{"$f":"IF(I17=0,0,CONCATENATE(VLOOKUP(I17+\"00:01\",'データ '!K:M,3,TRUE),\"/\",$W$11))","v":0}]
["",null,"",null,null,null,null,null,0,null,0,0,0,null,null,6,{"$f":"IF(A18=\"\",\"\",IF($A$13<>A18,\"月が異なります！\",IF(SUM($I$13:I18)>$S$7,\"決定時間数を超過しています！\",\"\")))","v":""},0,0,{"$f":"SUM($S$13:S18)","v":0},0,0,{"$f":"IF(I18=0,0,CONCATENATE(VLOOKUP(I18+\"00:01\",'データ '!K:M,3,TRUE),\"/\",$W$11))","v":0}]
["",null,"",null,null,null,null,null,0,null,0,0,0,null,null,7,{"$f":"IF(A19=\"\",\"\",IF($A$13<>A19,\"月が異なります！\",IF(SUM($I$13:I19)>$S$7,\"決定時間数を超過しています！\",\"\")))","v":""},0,0,{"$f":"SUM($S$13:S19)","v":0},0,0,{"$f":"IF(I19=0,0,CONCATENATE(VLOOKUP(I19+\"00:01\",'データ '!K:M,3,TRUE),\"/\",$W$11))","v":0}]
["",null,"",null,null,null,null,null,0,null,0,0,0,null,null,8,{"$f":"IF(A20=\"\",\"\",IF($A$13<>A20,\"月が異なります！\",IF(SUM($I$13:I20)>$S$7,\"決定時間数を超過しています！\",\"\")))","v":""},0,0,{"$f":"SUM($S$13:S20)","v":0},0,0,{"$f":"IF(I20=0,0,CONCATENATE(VLOOKUP(I20+\"00:01\",'データ '!K:M,3,TRUE),\"/\",$W$11))","v":0}]
["",null,"",null,null,null,null,null,0,null,0,{"$f":"IF(U21=0,S21,V21)","v":0},0,null,null,9,{"$f":"IF(A21=\"\",\"\",IF($A$13<>A21,\"月が異なります！\",IF(SUM($I$13:I21)>$S$7,\"決定時間数を超過しています！\",\"\")))","v":""},0,0,{"$f":"SUM($S$13:S21)","v":0},0,0,{"$f":"IF(I21=0,0,CONCATENATE(VLOOKUP(I21+\"00:01\",'データ '!K:M,3,TRUE),\"/\",$W$11))","v":0}]
["",null,"",null,null,null,null,null,0,null,0,{"$f":"IF(U22=0,S22,V22)","v":0},0,null,null,10,{"$f":"IF(A22=\"\",\"\",IF($A$13<>A22,\"月が異なります！\",IF(SUM($I$13:I22)>$S$7,\"決定時間数を超過しています！\",\"\")))","v":""},0,{"$f":"K22-R22","v":0},{"$f":"SUM($S$13:S22)","v":0},0,0,{"$f":"IF(I22=0,0,CONCATENATE(VLOOKUP(I22+\"00:01\",'データ '!K:M,3,TRUE),\"/\",$W$11))","v":0}]
["",null,"",null,null,null,null,null,0,null,0,0,0,null,null,11,{"$f":"IF(A23=\"\",\"\",IF($A$13<>A23,\"月が異なります！\",IF(SUM($I$13:I23)>$S$7,\"決定時間数を超過しています！\",\"\")))","v":""},0,0,{"$f":"SUM($S$13:S23)","v":0},0,0,{"$f":"IF(I23=0,0,CONCATENATE(VLOOKUP(I23+\"00:01\",'データ '!K:M,3,TRUE),\"/\",$W$11))","v":0}]
["",null,"",null,null,null,null,null,0,null,0,0,0,null,null,12,{"$f":"IF(A24=\"\",\"\",IF($A$13<>A24,\"月が異なります！\",IF(SUM($I$13:I24)>$S$7,\"決定時間数を超過しています！\",\"\")))","v":""},0,0,{"$f":"SUM($S$13:S24)","v":0},0,0,{"$f":"IF(I24=0,0,CONCATENATE(VLOOKUP(I24+\"00:01\",'データ '!K:M,3,TRUE),\"/\",$W$11))","v":0}]
["",null,"",null,null,null,null,null,0,null,0,0,0,null,null,13,{"$f":"IF(A25=\"\",\"\",IF($A$13<>A25,\"月が異なります！\",IF(SUM($I$13:I25)>$S$7,\"決定時間数を超過しています！\",\"\")))","v":""},0,0,{"$f":"SUM($S$13:S25)","v":0},0,0,{"$f":"IF(I25=0,0,CONCATENATE(VLOOKUP(I25+\"00:01\",'データ '!K:M,3,TRUE),\"/\",$W$11))","v":0}]
["",null,"",null,null,null,null,null,0,null,0,0,0,null,null,14,{"$f":"IF(A26=\"\",\"\",IF($A$13<>A26,\"月が異なります！\",IF(SUM($I$13:I26)>$S$7,\"決定時間数を超過しています！\",\"\")))","v":""},0,0,{"$f":"SUM($S$13:S26)","v":0},0,0,{"$f":"IF(I26=0,0,CONCATENATE(VLOOKUP(I26+\"00:01\",'データ '!K:M,3,TRUE),\"/\",$W$11))","v":0}]
["",null,"",null,null,null,null,null,0,null,0,0,0,null,null,15,{"$f":"IF(A27=\"\",\"\",IF($A$13<>A27,\"月が異なります！\",IF(SUM($I$13:I27)>$S$7,\"決定時間数を超過しています！\",\"\")))","v":""},0,0,{"$f":"SUM($S$13:S27)","v":0},0,0,{"$f":"IF(I27=0,0,CONCATENATE(VLOOKUP(I27+\"00:01\",'データ '!K:M,3,TRUE),\"/\",$W$11))","v":0}]
["",null,"",null,null,null,null,null,0,null,0,0,0,null,null,16,{"$f":"IF(A28=\"\",\"\",IF($A$13<>A28,\"月が異なります！\",IF(SUM($I$13:I28)>$S$7,\"決定時間数を超過しています！\",\"\")))","v":""},0,0,{"$f":"SUM($S$13:S28)","v":0},0,0,{"$f":"IF(I28=0,0,CONCATENATE(VLOOKUP(I28+\"00:01\",'データ '!K:M,3,TRUE),\"/\",$W$11))","v":0}]
["",null,"",null,null,null,null,null,0,null,0,0,0,null,null,17,{"$f":"IF(A29=\"\",\"\",IF($A$13<>A29,\"月が異なります！\",IF(SUM($I$13:I29)>$S$7,\"決定時間数を超過しています！\",\"\")))","v":""},0,0,{"$f":"SUM($S$13:S29)","v":0},0,0,{"$f":"IF(I29=0,0,CONCATENATE(VLOOKUP(I29+\"00:01\",'データ '!K:M,3,TRUE),\"/\",$W$11))","v":0}]
["",null,"",null,null,null,null,null,0,null,0,0,0,null,null,18,{"$f":"IF(A30=\"\",\"\",IF($A$13<>A30,\"月が異なります！\",IF(SUM($I$13:I30)>$S$7,\"決定時間数を超過しています！\",\"\")))","v":""},0,0,{"$f":"SUM($S$13:S30)","v":0},0,0,{"$f":"IF(I30=0,0,CONCATENATE(VLOOKUP(I30+\"00:01\",'データ '!K:M,3,TRUE),\"/\",$W$11))","v":0}]
["",null,"",null,null,null,null,null,0,null,0,0,0,null,null,19,{"$f":"IF(A31=\"\",\"\",IF($A$13<>A31,\"月が異なります！\",IF(SUM($I$13:I31)>$S$7,\"決定時間数を超過しています！\",\"\")))","v":""},0,0,{"$f":"SUM($S$13:S31)","v":0},0,0,{"$f":"IF(I31=0,0,CONCATENATE(VLOOKUP(I31+\"00:01\",'データ '!K:M,3,TRUE),\"/\",$W$11))","v":0}]
["",null,"",null,null,null,null,null,0,null,0,0,0,null,null,20,{"$f":"IF(A32=\"\",\"\",IF($A$13<>A32,\"月が異なります！\",IF(SUM($I$13:I32)>$S$7,\"決定時間数を超過しています！\",\"\")))","v":""},0,0,{"$f":"SUM($S$13:S32)","v":0},0,0,{"$f":"IF(I32=0,0,CONCATENATE(VLOOKUP(I32+\"00:01\",'データ '!K:M,3,TRUE),\"/\",$W$11))","v":0}]
["",null,"",null,null,null,null,null,0,null,0,0,0,null,null,21,{"$f":"IF(A33=\"\",\"\",IF($A$13<>A33,\"月が異なります！\",IF(SUM($I$13:I33)>$S$7,\"決定時間数を超過しています！\",\"\")))","v":""},0,0,{"$f":"SUM($S$13:S33)","v":0},0,0,{"$f":"IF(I33=0,0,CONCATENATE(VLOOKUP(I33+\"00:01\",'データ '!K:M,3,TRUE),\"/\",$W$11))","v":0}]
["",null,"",null,null,null,null,null,0,null,0,0,0,null,null,22,{"$f":"IF(A34=\"\",\"\",IF($A$13<>A34,\"月が異なります！\",IF(SUM($I$13:I34)>$S$7,\"決定時間数を超過しています！\",\"\")))","v":""},0,0,{"$f":"SUM($S$13:S34)","v":0},0,0,{"$f":"IF(I34=0,0,CONCATENATE(VLOOKUP(I34+\"00:01\",'データ '!K:M,3,TRUE),\"/\",$W$11))","v":0}]
["",null,"",null,null,null,null,null,0,null,0,0,0,null,null,23,{"$f":"IF(A35=\"\",\"\",IF($A$13<>A35,\"月が異なります！\",IF(SUM($I$13:I35)>$S$7,\"決定時間数を超過しています！\",\"\")))","v":""},0,0,{"$f":"SUM($S$13:S35)","v":0},0,0,{"$f":"IF(I35=0,0,CONCATENATE(VLOOKUP(I35+\"00:01\",'データ '!K:M,3,TRUE),\"/\",$W$11))","v":0}]
["",null,"",null,null,null,null,null,0,null,0,0,0,null,null,24,{"$f":"IF(A36=\"\",\"\",IF($A$13<>A36,\"月が異なります！\",IF(SUM($I$13:I36)>$S$7,\"決定時間数を超過しています！\",\"\")))","v":""},0,0,{"$f":"SUM($S$13:S36)","v":0},0,0,{"$f":"IF(I36=0,0,CONCATENATE(VLOOKUP(I36+\"00:01\",'データ '!K:M,3,TRUE),\"/\",$W$11))","v":0}]
["",null,"",null,null,null,null,null,0,null,0,0,0,null,null,25,{"$f":"IF(A37=\"\",\"\",IF($A$13<>A37,\"月が異なります！\",IF(SUM($I$13:I37)>$S$7,\"決定時間数を超過しています！\",\"\")))","v":""},0,0,{"$f":"SUM($S$13:S37)","v":0},0,0,{"$f":"IF(I37=0,0,CONCATENATE(VLOOKUP(I37+\"00:01\",'データ '!K:M,3,TRUE),\"/\",$W$11))","v":0}]
["",null,"",null,null,null,null,null,0,null,0,0,0,null,null,26,{"$f":"IF(A38=\"\",\"\",IF($A$13<>A38,\"月が異なります！\",IF(SUM($I$13:I38)>$S$7,\"決定時間数を超過しています！\",\"\")))","v":""},0,0,{"$f":"SUM($S$13:S38)","v":0},0,0,{"$f":"IF(I38=0,0,CONCATENATE(VLOOKUP(I38+\"00:01\",'データ '!K:M,3,TRUE),\"/\",$W$11))","v":0}]
["",null,"",null,null,null,null,null,0,null,0,0,0,null,null,27,{"$f":"IF(A39=\"\",\"\",IF($A$13<>A39,\"月が異なります！\",IF(SUM($I$13:I39)>$S$7,\"決定時間数を超過しています！\",\"\")))","v":""},0,0,{"$f":"SUM($S$13:S39)","v":0},0,0,{"$f":"IF(I39=0,0,CONCATENATE(VLOOKUP(I39+\"00:01\",'データ '!K:M,3,TRUE),\"/\",$W$11))","v":0}]
["",null,"",null,null,null,null,null,0,null,0,0,0,null,null,28,{"$f":"IF(A40=\"\",\"\",IF($A$13<>A40,\"月が異なります！\",IF(SUM($I$13:I40)>$S$7,\"決定時間数を超過しています！\",\"\")))","v":""},0,0,{"$f":"SUM($S$13:S40)","v":0},0,0,{"$f":"IF(I40=0,0,CONCATENATE(VLOOKUP(I40+\"00:01\",'データ '!K:M,3,TRUE),\"/\",$W$11))","v":0}]
["",null,"",null,null,null,null,null,0,null,0,0,0,null,null,29,{"$f":"IF(A41=\"\",\"\",IF($A$13<>A41,\"月が異なります！\",IF(SUM($I$13:I41)>$S$7,\"決定時間数を超過しています！\",\"\")))","v":""},0,0,{"$f":"SUM($S$13:S41)","v":0},0,0,{"$f":"IF(I41=0,0,CONCATENATE(VLOOKUP(I41+\"00:01\",'データ '!K:M,3,TRUE),\"/\",$W$11))","v":0}]
["",null,"",null,null,null,null,null,0,null,0,0,0,null,null,30,{"$f":"IF(A42=\"\",\"\",IF($A$13<>A42,\"月が異なります！\",IF(SUM($I$13:I42)>$S$7,\"決定時間数を超過しています！\",\"\")))","v":""},0,0,{"$f":"SUM($S$13:S42)","v":0},0,0,{"$f":"IF(I42=0,0,CONCATENATE(VLOOKUP(I42+\"00:01\",'データ '!K:M,3,TRUE),\"/\",$W$11))","v":0}]
["",null,"",null,null,null,null,null,0,null,0,0,0,null,null,31,{"$f":"IF(A43=\"\",\"\",IF($A$13<>A43,\"月が異なります！\",IF(SUM($I$13:I43)>$S$7,\"決定時間数を超過しています！\",\"\")))","v":""},0,0,{"$f":"SUM($S$13:S43)","v":0},0,0,{"$f":"IF(I43=0,0,CONCATENATE(VLOOKUP(I43+\"00:01\",'データ '!K:M,3,TRUE),\"/\",$W$11))","v":0}]
["合計",null,null,null,null,null,null,null,{"$f":"SUM(I13:I43)","v":0},null,{"$f":"SUM(K13:K43)","v":0},{"$f":"SUM(L13:L43)","v":0},{"$f":"SUM(M13:M43)","v":0},null,null,null,null,null,null,null,null,null,{"$f":"IF(I44>=$X$8,$Y$9,IF(AND(I44<$X$8,I44>=$X$7),$Y$8,IF(I44<$X$7,$Y$7)))&$W$11","v":"無"}]

{"sheet":"15","index":20,"n_rows":44,"n_cols":23,"rows_kept":44,"cut":false,"hidden":false,"merged":[[10,19,11,19],[10,20,11,20],[10,21,11,21],[43,0,43,7],[10,9,11,9],[10,10,11,10],[10,11,11,11],[10,12,11,12],[10,13,11,13],[10,14,11,14],[10,0,10,2],[10,3,10,5],[10,6,10,7],[10,8,11,8],[10,16,11,16],[6,16,8,16],[7,0,7,4],[7,5,7,6],[7,7,7,8],[8,0,8,4],[6,0,6,2],[6,3,6,4],[6,6,6,7],[6,9,8,10],[6,11,8,14],[8,5,8,6],[8,7,8,8],[4,11,4,14],[5,11,5,14],[3,1,3,4],[4,0,5,2],[4,3,5,5],[4,6,5,7],[4,8,5,10],[3,5,3,14]]}
[null,"№",15]
[]
[]
[null,{"$f":"EOMONTH(B13,0)","v":"1900-01-31"},null,null,null,"鎌ケ谷市移動支援サービス提供実績記録票"]
["登録番号",null,null,{"$f":"VLOOKUP($C$1,利用者情報!A:U,COLUMN(利用者情報!B3),FALSE)","v":0},null,null,"支給決定障がい者等氏名\n（児童氏名）",null,{"$f":"VLOOKUP($C$1,利用者情報!A:U,COLUMN(利用者情報!C1),FALSE)","v":0},null,null,"事業所登録番号"]
[null,null,null,null,null,null,null,null,null,null,null,{"$f":"請求事業者!B3","v":0},null,null,null,null,"コメント",null,"決定時間数"]
["契約支給量",null,null,"身体介護を\n伴う",null,{"$f":"IF(VLOOKUP(C1,利用者情報!A:G,5)=\"有\",CONCATENATE(VLOOKUP(C1,利用者情報!A:G,4)&\"時間\"),\"\")","v":""},"身体介護を\n伴わない",null,{"$f":"IF(VLOOKUP(C1,利用者情報!A:G,5)<>\"有\",CONCATENATE(VLOOKUP(C1,利用者情報!A:G,4)&\"時間\"),\"\")","v":"時間"},"事業所及び\nその事業所",null,{"$f":"請求事業者!B7","v":0},null,null,null,null,{"$f":"利用者情報!J4","v":""},null,{"$f":"IF(F7=\"\",I7,F7)","v":"時間"}]
["利用者負担の有無",null,null,null,null,"利用者の負担割合",null,"利用者負担上限額"]
[{"$f":"VLOOKUP($C$1,利用者情報!A:U,COLUMN(利用者情報!F3),FALSE)","v":0},null,null,null,null,{"$f":"IF(A9=\"有\",\"1割\",\"0割\")","v":"0割"},null,{"$f":"VLOOKUP($C$1,利用者情報!A:U,COLUMN(利用者情報!G3),FALSE)","v":0},null,null,null,null,null,null,null,null,null,null,null,null,null,null,{"$f":"請求事業者!C9","v":5}]
[null,null,null,null,null,null,null,null,null,null,null,null,null,null,null,null,null,null,null,null,null,null,"便宜上区分"]
["日付",null,null,"支援計画",null,null,null,null,"算定\n時間","派遣\n人数","算定額","利用者\n負担額","請求額","サービス\n提供者印","利用者\n確認印",null,"コメント",null,null,"利用者負担額\n累計","上限到達フラグ","上限達成時の利用者負担額",{"$f":"IF(F7=\"\",\"無\",\"有\")","v":"無"}]
["月","日","曜日","開始\n時間","終了\n時間","計画\n時間数","開始\n時間","終了\n時間",null,null,null,null,null,null,null,null,null,"請求額","利用者\n負担額",null,null,null,{"$f":"IF(A9=\"有\",\"（9割）\",\"\")","v":""}]
[{"$f":"IF(B13=\"\",\"\",TEXT(B13,\"m\"))","v":""},null,{"$f":"IF(B13=\"\",\"\",B13)","v":""},null,null,null,null,null,{"$f":"H13-G13","v":0},null,{"$f":"IF($H13=0,0,INDEX(単価,MATCH(W13,時間,0),MATCH($W$9,地域区分,0)))","v":0},{"$f":"IF(U13=0,S13,V13)","v":0},{"$f":"K13-L13","v":0},null,null,1,{"$f":"IF(A13=\"\",\"\",IF($A$13<>A13,\"月が異なります！\",IF(SUM($I$13:I13)>$S$7,\"決定時間数を超過しています！\",\"\")))","v":""},{"$f":"IF(I13=0,0,INDEX(単価,MATCH(W13,時間,0),MATCH(IF(W12=\"\",W9,W9&W12),地域区分,0)))","v":0},{"$f":"K13-R13","v":0},{"$f":"SUM($S$13:S13)","v":0},null,null,{"$f":"IF(I13=0,0,CONCATENATE(VLOOKUP(I13+\"00:01\",'データ '!K:M,3,TRUE),\"/\",$W$11))","v":0}]
[{"$f":"IF(B14=\"\",\"\",TEXT(B14,\"m\"))","v":""},null,{"$f":"IF(B14=\"\",\"\",B14)","v":""},null,null,null,null,null,{"$f":"H14-G14","v":0},null,{"$f":"IF($H14=0,0,INDEX(単価,MATCH(W14,時間,0),MATCH($W$9,地域区分,0)))","v":0},{"$f":"IF(U14=0,S14,V14)","v":0},{"$f":"K14-L14","v":0},null,null,2,{"$f":"IF(A14=\"\",\"\",IF($A$13<>A14,\"月が異なります！\",IF(SUM($I$13:I14)>$S$7,\"決定時間数を超過しています！\",\"\")))","v":""},{"$f":"IF(AND($H14=0),0,IF($A$9=\"有\",INDEX(単価,MATCH(W14,時間,0),MATCH($W$9&$W$12,地域区分,0)),INDEX(単価,MATCH(W14,時間,0),MATCH($W$9,地域区分,0))))","v":0},{"$f":"K14-R14","v":0},{"$f":"SUM($S$13:S14)","v":0},{"$f":"IF(AND(T13<$H$9,T14>$H$9),1,IF(T14>$H$9,2,0))","v":0},{"$f":"IF(U14=1,$H$9-T13,0)","v":0},{"$f":"IF(I14=0,0,CONCATENATE(VLOOKUP(I14+\"00:01\",'データ '!K:M,3,TRUE),\"/\",$W$11))","v":0}]
["",null,"",null,null,null,null,null,0,null,0,{"$f":"IF(U15=0,S15,V15)","v":0},{"$f":"K15-L15","v":0},null,null,3,{"$f":"IF(A15=\"\",\"\",IF($A$13<>A15,\"月が異なります！\",IF(SUM($I$13:I15)>$S$7,\"決定時間数を超過しています！\",\"\")))","v":""},0,0,{"$f":"SUM($S$13:S15)","v":0},{"$f":"IF(AND(T14<$H$9,T15>$H$9),1,IF(T15>$H$9,2,0))","v":0},{"$f":"IF(U15=1,$H$9-T14,0)","v":0},{"$f":"IF(I15=0,0,CONCATENATE(VLOOKUP(I15+\"00:01\",'データ '!K:M,3,TRUE),\"/\",$W$11))","v":0}]
["",null,"",null,null,null,null,null,0,null,0,0,0,null,null,4,{"$f":"IF(A16=\"\",\"\",IF($A$13<>A16,\"月が異なります！\",IF(SUM($I$13:I16)>$S$7,\"決定時間数を超過しています！\",\"\")))","v":""},0,0,{"$f":"SUM($S$13:S16)","v":0},0,0,{"$f":"IF(I16=0,0,CONCATENATE(VLOOKUP(I16+\"00:01\",'データ '!K:M,3,TRUE),\"/\",$W$11))","v":0}]
["",null,"",null,null,null,null,null,0,null,0,0,0,null,null,5,{"$f":"IF(A17=\"\",\"\",IF($A$13<>A17,\"月が異なります！\",IF(SUM($I$13:I17)>$S$7,\"決定時間数を超過しています！\",\"\")))","v":""},0,0,{"$f":"SUM($S$13:S17)","v":0},0,0,{"$f":"IF(I17=0,0,CONCATENATE(VLOOKUP(I17+\"00:01\",'データ '!K:M,3,TRUE),\"/\",$W$11))","v":0}]
["",null,"",null,null,null,null,null,0,null,0,0,0,null,null,6,{"$f":"IF(A18=\"\",\"\",IF($A$13<>A18,\"月が異なります！\",IF(SUM($I$13:I18)>$S$7,\"決定時間数を超過しています！\",\"\")))","v":""},0,0,{"$f":"SUM($S$13:S18)","v":0},0,0,{"$f":"IF(I18=0,0,CONCATENATE(VLOOKUP(I18+\"00:01\",'データ '!K:M,3,TRUE),\"/\",$W$11))","v":0}]
["",null,"",null,null,null,null,null,0,null,0,0,0,null,null,7,{"$f":"IF(A19=\"\",\"\",IF($A$13<>A19,\"月が異なります！\",IF(SUM($I$13:I19)>$S$7,\"決定時間数を超過しています！\",\"\")))","v":""},0,0,{"$f":"SUM($S$13:S19)","v":0},0,0,{"$f":"IF(I19=0,0,CONCATENATE(VLOOKUP(I19+\"00:01\",'データ '!K:M,3,TRUE),\"/\",$W$11))","v":0}]
["",null,"",null,null,null,null,null,0,null,0,0,0,null,null,8,{"$f":"IF(A20=\"\",\"\",IF($A$13<>A20,\"月が異なります！\",IF(SUM($I$13:I20)>$S$7,\"決定時間数を超過しています！\",\"\")))","v":""},0,0,{"$f":"SUM($S$13:S20)","v":0},0,0,{"$f":"IF(I20=0,0,CONCATENATE(VLOOKUP(I20+\"00:01\",'データ '!K:M,3,TRUE),\"/\",$W$11))","v":0}]
["",null,"",null,null,null,null,null,0,null,0,{"$f":"IF(U21=0,S21,V21)","v":0},0,null,null,9,{"$f":"IF(A21=\"\",\"\",IF($A$13<>A21,\"月が異なります！\",IF(SUM($I$13:I21)>$S$7,\"決定時間数を超過しています！\",\"\")))","v":""},0,0,{"$f":"SUM($S$13:S21)","v":0},0,0,{"$f":"IF(I21=0,0,CONCATENATE(VLOOKUP(I21+\"00:01\",'データ '!K:M,3,TRUE),\"/\",$W$11))","v":0}]
["",null,"",null,null,null,null,null,0,null,0,{"$f":"IF(U22=0,S22,V22)","v":0},0,null,null,10,{"$f":"IF(A22=\"\",\"\",IF($A$13<>A22,\"月が異なります！\",IF(SUM($I$13:I22)>$S$7,\"決定時間数を超過しています！\",\"\")))","v":""},0,{"$f":"K22-R22","v":0},{"$f":"SUM($S$13:S22)","v":0},0,0,{"$f":"IF(I22=0,0,CONCATENATE(VLOOKUP(I22+\"00:01\",'データ '!K:M,3,TRUE),\"/\",$W$11))","v":0}]
["",null,"",null,null,null,null,null,0,null,0,0,0,null,null,11,{"$f":"IF(A23=\"\",\"\",IF($A$13<>A23,\"月が異なります！\",IF(SUM($I$13:I23)>$S$7,\"決定時間数を超過しています！\",\"\")))","v":""},0,0,{"$f":"SUM($S$13:S23)","v":0},0,0,{"$f":"IF(I23=0,0,CONCATENATE(VLOOKUP(I23+\"00:01\",'データ '!K:M,3,TRUE),\"/\",$W$11))","v":0}]
["",null,"",null,null,null,null,null,0,null,0,0,0,null,null,12,{"$f":"IF(A24=\"\",\"\",IF($A$13<>A24,\"月が異なります！\",IF(SUM($I$13:I24)>$S$7,\"決定時間数を超過しています！\",\"\")))","v":""},0,0,{"$f":"SUM($S$13:S24)","v":0},0,0,{"$f":"IF(I24=0,0,CONCATENATE(VLOOKUP(I24+\"00:01\",'データ '!K:M,3,TRUE),\"/\",$W$11))","v":0}]
["",null,"",null,null,null,null,null,0,null,0,0,0,null,null,13,{"$f":"IF(A25=\"\",\"\",IF($A$13<>A25,\"月が異なります！\",IF(SUM($I$13:I25)>$S$7,\"決定時間数を超過しています！\",\"\")))","v":""},0,0,{"$f":"SUM($S$13:S25)","v":0},0,0,{"$f":"IF(I25=0,0,CONCATENATE(VLOOKUP(I25+\"00:01\",'データ '!K:M,3,TRUE),\"/\",$W$11))","v":0}]
["",null,"",null,null,null,null,null,0,null,0,0,0,null,null,14,{"$f":"IF(A26=\"\",\"\",IF($A$13<>A26,\"月が異なります！\",IF(SUM($I$13:I26)>$S$7,\"決定時間数を超過しています！\",\"\")))","v":""},0,0,{"$f":"SUM($S$13:S26)","v":0},0,0,{"$f":"IF(I26=0,0,CONCATENATE(VLOOKUP(I26+\"00:01\",'データ '!K:M,3,TRUE),\"/\",$W$11))","v":0}]
["",null,"",null,null,null,null,null,0,null,0,0,0,null,null,15,{"$f":"IF(A27=\"\",\"\",IF($A$13<>A27,\"月が異なります！\",IF(SUM($I$13:I27)>$S$7,\"決定時間数を超過しています！\",\"\")))","v":""},0,0,{"$f":"SUM($S$13:S27)","v":0},0,0,{"$f":"IF(I27=0,0,CONCATENATE(VLOOKUP(I27+\"00:01\",'データ '!K:M,3,TRUE),\"/\",$W$11))","v":0}]
["",null,"",null,null,null,null,null,0,null,0,0,0,null,null,16,{"$f":"IF(A28=\"\",\"\",IF($A$13<>A28,\"月が異なります！\",IF(SUM($I$13:I28)>$S$7,\"決定時間数を超過しています！\",\"\")))","v":""},0,0,{"$f":"SUM($S$13:S28)","v":0},0,0,{"$f":"IF(I28=0,0,CONCATENATE(VLOOKUP(I28+\"00:01\",'データ '!K:M,3,TRUE),\"/\",$W$11))","v":0}]
["",null,"",null,null,null,null,null,0,null,0,0,0,null,null,17,{"$f":"IF(A29=\"\",\"\",IF($A$13<>A29,\"月が異なります！\",IF(SUM($I$13:I29)>$S$7,\"決定時間数を超過しています！\",\"\")))","v":""},0,0,{"$f":"SUM($S$13:S29)","v":0},0,0,{"$f":"IF(I29=0,0,CONCATENATE(VLOOKUP(I29+\"00:01\",'データ '!K:M,3,TRUE),\"/\",$W$11))","v":0}]
["",null,"",null,null,null,null,null,0,null,0,0,0,null,null,18,{"$f":"IF(A30=\"\",\"\",IF($A$13<>A30,\"月が異なります！\",IF(SUM($I$13:I30)>$S$7,\"決定時間数を超過しています！\",\"\")))","v":""},0,0,{"$f":"SUM($S$13:S30)","v":0},0,0,{"$f":"IF(I30=0,0,CONCATENATE(VLOOKUP(I30+\"00:01\",'データ '!K:M,3,TRUE),\"/\",$W$11))","v":0}]
["",null,"",null,null,null,null,null,0,null,0,0,0,null,null,19,{"$f":"IF(A31=\"\",\"\",IF($A$13<>A31,\"月が異なります！\",IF(SUM($I$13:I31)>$S$7,\"決定時間数を超過しています！\",\"\")))","v":""},0,0,{"$f":"SUM($S$13:S31)","v":0},0,0,{"$f":"IF(I31=0,0,CONCATENATE(VLOOKUP(I31+\"00:01\",'データ '!K:M,3,TRUE),\"/\",$W$11))","v":0}]
["",null,"",null,null,null,null,null,0,null,0,0,0,null,null,20,{"$f":"IF(A32=\"\",\"\",IF($A$13<>A32,\"月が異なります！\",IF(SUM($I$13:I32)>$S$7,\"決定時間数を超過しています！\",\"\")))","v":""},0,0,{"$f":"SUM($S$13:S32)","v":0},0,0,{"$f":"IF(I32=0,0,CONCATENATE(VLOOKUP(I32+\"00:01\",'データ '!K:M,3,TRUE),\"/\",$W$11))","v":0}]
["",null,"",null,null,null,null,null,0,null,0,0,0,null,null,21,{"$f":"IF(A33=\"\",\"\",IF($A$13<>A33,\"月が異なります！\",IF(SUM($I$13:I33)>$S$7,\"決定時間数を超過しています！\",\"\")))","v":""},0,0,{"$f":"SUM($S$13:S33)","v":0},0,0,{"$f":"IF(I33=0,0,CONCATENATE(VLOOKUP(I33+\"00:01\",'データ '!K:M,3,TRUE),\"/\",$W$11))","v":0}]
["",null,"",null,null,null,null,null,0,null,0,0,0,null,null,22,{"$f":"IF(A34=\"\",\"\",IF($A$13<>A34,\"月が異なります！\",IF(SUM($I$13:I34)>$S$7,\"決定時間数を超過しています！\",\"\")))","v":""},0,0,{"$f":"SUM($S$13:S34)","v":0},0,0,{"$f":"IF(I34=0,0,CONCATENATE(VLOOKUP(I34+\"00:01\",'データ '!K:M,3,TRUE),\"/\",$W$11))","v":0}]
["",null,"",null,null,null,null,null,0,null,0,0,0,null,null,23,{"$f":"IF(A35=\"\",\"\",IF($A$13<>A35,\"月が異なります！\",IF(SUM($I$13:I35)>$S$7,\"決定時間数を超過しています！\",\"\")))","v":""},0,0,{"$f":"SUM($S$13:S35)","v":0},0,0,{"$f":"IF(I35=0,0,CONCATENATE(VLOOKUP(I35+\"00:01\",'データ '!K:M,3,TRUE),\"/\",$W$11))","v":0}]
["",null,"",null,null,null,null,null,0,null,0,0,0,null,null,24,{"$f":"IF(A36=\"\",\"\",IF($A$13<>A36,\"月が異なります！\",IF(SUM($I$13:I36)>$S$7,\"決定時間数を超過しています！\",\"\")))","v":""},0,0,{"$f":"SUM($S$13:S36)","v":0},0,0,{"$f":"IF(I36=0,0,CONCATENATE(VLOOKUP(I36+\"00:01\",'データ '!K:M,3,TRUE),\"/\",$W$11))","v":0}]
["",null,"",null,null,null,null,null,0,null,0,0,0,null,null,25,{"$f":"IF(A37=\"\",\"\",IF($A$13<>A37,\"月が異なります！\",IF(SUM($I$13:I37)>$S$7,\"決定時間数を超過しています！\",\"\")))","v":""},0,0,{"$f":"SUM($S$13:S37)","v":0},0,0,{"$f":"IF(I37=0,0,CONCATENATE(VLOOKUP(I37+\"00:01\",'データ '!K:M,3,TRUE),\"/\",$W$11))","v":0}]
["",null,"",null,null,null,null,null,0,null,0,0,0,null,null,26,{"$f":"IF(A38=\"\",\"\",IF($A$13<>A38,\"月が異なります！\",IF(SUM($I$13:I38)>$S$7,\"決定時間数を超過しています！\",\"\")))","v":""},0,0,{"$f":"SUM($S$13:S38)","v":0},0,0,{"$f":"IF(I38=0,0,CONCATENATE(VLOOKUP(I38+\"00:01\",'データ '!K:M,3,TRUE),\"/\",$W$11))","v":0}]
["",null,"",null,null,null,null,null,0,null,0,0,0,null,null,27,{"$f":"IF(A39=\"\",\"\",IF($A$13<>A39,\"月が異なります！\",IF(SUM($I$13:I39)>$S$7,\"決定時間数を超過しています！\",\"\")))","v":""},0,0,{"$f":"SUM($S$13:S39)","v":0},0,0,{"$f":"IF(I39=0,0,CONCATENATE(VLOOKUP(I39+\"00:01\",'データ '!K:M,3,TRUE),\"/\",$W$11))","v":0}]
["",null,"",null,null,null,null,null,0,null,0,0,0,null,null,28,{"$f":"IF(A40=\"\",\"\",IF($A$13<>A40,\"月が異なります！\",IF(SUM($I$13:I40)>$S$7,\"決定時間数を超過しています！\",\"\")))","v":""},0,0,{"$f":"SUM($S$13:S40)","v":0},0,0,{"$f":"IF(I40=0,0,CONCATENATE(VLOOKUP(I40+\"00:01\",'データ '!K:M,3,TRUE),\"/\",$W$11))","v":0}]
["",null,"",null,null,null,null,null,0,null,0,0,0,null,null,29,{"$f":"IF(A41=\"\",\"\",IF($A$13<>A41,\"月が異なります！\",IF(SUM($I$13:I41)>$S$7,\"決定時間数を超過しています！\",\"\")))","v":""},0,0,{"$f":"SUM($S$13:S41)","v":0},0,0,{"$f":"IF(I41=0,0,CONCATENATE(VLOOKUP(I41+\"00:01\",'データ '!K:M,3,TRUE),\"/\",$W$11))","v":0}]
["",null,"",null,null,null,null,null,0,null,0,0,0,null,null,30,{"$f":"IF(A42=\"\",\"\",IF($A$13<>A42,\"月が異なります！\",IF(SUM($I$13:I42)>$S$7,\"決定時間数を超過しています！\",\"\")))","v":""},0,0,{"$f":"SUM($S$13:S42)","v":0},0,0,{"$f":"IF(I42=0,0,CONCATENATE(VLOOKUP(I42+\"00:01\",'データ '!K:M,3,TRUE),\"/\",$W$11))","v":0}]
["",null,"",null,null,null,null,null,0,null,0,0,0,null,null,31,{"$f":"IF(A43=\"\",\"\",IF($A$13<>A43,\"月が異なります！\",IF(SUM($I$13:I43)>$S$7,\"決定時間数を超過しています！\",\"\")))","v":""},0,0,{"$f":"SUM($S$13:S43)","v":0},0,0,{"$f":"IF(I43=0,0,CONCATENATE(VLOOKUP(I43+\"00:01\",'データ '!K:M,3,TRUE),\"/\",$W$11))","v":0}]
["合計",null,null,null,null,null,null,null,{"$f":"SUM(I13:I43)","v":0},null,{"$f":"SUM(K13:K43)","v":0},{"$f":"SUM(L13:L43)","v":0},{"$f":"SUM(M13:M43)","v":0},null,null,null,null,null,null,null,null,null,{"$f":"IF(I44>=$X$8,$Y$9,IF(AND(I44<$X$8,I44>=$X$7),$Y$8,IF(I44<$X$7,$Y$7)))&$W$11","v":"無"}]

{"sheet":"16","index":21,"n_rows":44,"n_cols":23,"rows_kept":44,"cut":false,"hidden":false,"merged":[[10,19,11,19],[10,20,11,20],[10,21,11,21],[43,0,43,7],[10,9,11,9],[10,10,11,10],[10,11,11,11],[10,12,11,12],[10,13,11,13],[10,14,11,14],[10,0,10,2],[10,3,10,5],[10,6,10,7],[10,8,11,8],[10,16,11,16],[6,16,8,16],[7,0,7,4],[7,5,7,6],[7,7,7,8],[8,0,8,4],[6,0,6,2],[6,3,6,4],[6,6,6,7],[6,9,8,10],[6,11,8,14],[8,5,8,6],[8,7,8,8],[4,11,4,14],[5,11,5,14],[3,1,3,4],[4,0,5,2],[4,3,5,5],[4,6,5,7],[4,8,5,10],[3,5,3,14]]}
[null,"№",16]
[]
[]
[null,{"$f":"EOMONTH(B13,0)","v":"1900-01-31"},null,null,null,"鎌ケ谷市移動支援サービス提供実績記録票"]
["登録番号",null,null,{"$f":"VLOOKUP($C$1,利用者情報!A:U,COLUMN(利用者情報!B3),FALSE)","v":0},null,null,"支給決定障がい者等氏名\n（児童氏名）",null,{"$f":"VLOOKUP($C$1,利用者情報!A:U,COLUMN(利用者情報!C1),FALSE)","v":0},null,null,"事業所登録番号"]
[null,null,null,null,null,null,null,null,null,null,null,{"$f":"請求事業者!B3","v":0},null,null,null,null,"コメント",null,"決定時間数"]
["契約支給量",null,null,"身体介護を\n伴う",null,{"$f":"IF(VLOOKUP(C1,利用者情報!A:G,5)=\"有\",CONCATENATE(VLOOKUP(C1,利用者情報!A:G,4)&\"時間\"),\"\")","v":""},"身体介護を\n伴わない",null,{"$f":"IF(VLOOKUP(C1,利用者情報!A:G,5)<>\"有\",CONCATENATE(VLOOKUP(C1,利用者情報!A:G,4)&\"時間\"),\"\")","v":"時間"},"事業所及び\nその事業所",null,{"$f":"請求事業者!B7","v":0},null,null,null,null,{"$f":"利用者情報!J4","v":""},null,{"$f":"IF(F7=\"\",I7,F7)","v":"時間"}]
["利用者負担の有無",null,null,null,null,"利用者の負担割合",null,"利用者負担上限額"]
[{"$f":"VLOOKUP($C$1,利用者情報!A:U,COLUMN(利用者情報!F3),FALSE)","v":0},null,null,null,null,{"$f":"IF(A9=\"有\",\"1割\",\"0割\")","v":"0割"},null,{"$f":"VLOOKUP($C$1,利用者情報!A:U,COLUMN(利用者情報!G3),FALSE)","v":0},null,null,null,null,null,null,null,null,null,null,null,null,null,null,{"$f":"請求事業者!C9","v":5}]
[null,null,null,null,null,null,null,null,null,null,null,null,null,null,null,null,null,null,null,null,null,null,"便宜上区分"]
["日付",null,null,"支援計画",null,null,null,null,"算定\n時間","派遣\n人数","算定額","利用者\n負担額","請求額","サービス\n提供者印","利用者\n確認印",null,"コメント",null,null,"利用者負担額\n累計","上限到達フラグ","上限達成時の利用者負担額",{"$f":"IF(F7=\"\",\"無\",\"有\")","v":"無"}]
["月","日","曜日","開始\n時間","終了\n時間","計画\n時間数","開始\n時間","終了\n時間",null,null,null,null,null,null,null,null,null,"請求額","利用者\n負担額",null,null,null,{"$f":"IF(A9=\"有\",\"（9割）\",\"\")","v":""}]
[{"$f":"IF(B13=\"\",\"\",TEXT(B13,\"m\"))","v":""},null,{"$f":"IF(B13=\"\",\"\",B13)","v":""},null,null,null,null,null,{"$f":"H13-G13","v":0},null,{"$f":"IF($H13=0,0,INDEX(単価,MATCH(W13,時間,0),MATCH($W$9,地域区分,0)))","v":0},{"$f":"IF(U13=0,S13,V13)","v":0},{"$f":"K13-L13","v":0},null,null,1,{"$f":"IF(A13=\"\",\"\",IF($A$13<>A13,\"月が異なります！\",IF(SUM($I$13:I13)>$S$7,\"決定時間数を超過しています！\",\"\")))","v":""},{"$f":"IF(I13=0,0,INDEX(単価,MATCH(W13,時間,0),MATCH(IF(W12=\"\",W9,W9&W12),地域区分,0)))","v":0},{"$f":"K13-R13","v":0},{"$f":"SUM($S$13:S13)","v":0},null,null,{"$f":"IF(I13=0,0,CONCATENATE(VLOOKUP(I13+\"00:01\",'データ '!K:M,3,TRUE),\"/\",$W$11))","v":0}]
[{"$f":"IF(B14=\"\",\"\",TEXT(B14,\"m\"))","v":""},null,{"$f":"IF(B14=\"\",\"\",B14)","v":""},null,null,null,null,null,{"$f":"H14-G14","v":0},null,{"$f":"IF($H14=0,0,INDEX(単価,MATCH(W14,時間,0),MATCH($W$9,地域区分,0)))","v":0},{"$f":"IF(U14=0,S14,V14)","v":0},{"$f":"K14-L14","v":0},null,null,2,{"$f":"IF(A14=\"\",\"\",IF($A$13<>A14,\"月が異なります！\",IF(SUM($I$13:I14)>$S$7,\"決定時間数を超過しています！\",\"\")))","v":""},{"$f":"IF(AND($H14=0),0,IF($A$9=\"有\",INDEX(単価,MATCH(W14,時間,0),MATCH($W$9&$W$12,地域区分,0)),INDEX(単価,MATCH(W14,時間,0),MATCH($W$9,地域区分,0))))","v":0},{"$f":"K14-R14","v":0},{"$f":"SUM($S$13:S14)","v":0},{"$f":"IF(AND(T13<$H$9,T14>$H$9),1,IF(T14>$H$9,2,0))","v":0},{"$f":"IF(U14=1,$H$9-T13,0)","v":0},{"$f":"IF(I14=0,0,CONCATENATE(VLOOKUP(I14+\"00:01\",'データ '!K:M,3,TRUE),\"/\",$W$11))","v":0}]
["",null,"",null,null,null,null,null,0,null,0,{"$f":"IF(U15=0,S15,V15)","v":0},{"$f":"K15-L15","v":0},null,null,3,{"$f":"IF(A15=\"\",\"\",IF($A$13<>A15,\"月が異なります！\",IF(SUM($I$13:I15)>$S$7,\"決定時間数を超過しています！\",\"\")))","v":""},0,0,{"$f":"SUM($S$13:S15)","v":0},{"$f":"IF(AND(T14<$H$9,T15>$H$9),1,IF(T15>$H$9,2,0))","v":0},{"$f":"IF(U15=1,$H$9-T14,0)","v":0},{"$f":"IF(I15=0,0,CONCATENATE(VLOOKUP(I15+\"00:01\",'データ '!K:M,3,TRUE),\"/\",$W$11))","v":0}]
["",null,"",null,null,null,null,null,0,null,0,0,0,null,null,4,{"$f":"IF(A16=\"\",\"\",IF($A$13<>A16,\"月が異なります！\",IF(SUM($I$13:I16)>$S$7,\"決定時間数を超過しています！\",\"\")))","v":""},0,0,{"$f":"SUM($S$13:S16)","v":0},0,0,{"$f":"IF(I16=0,0,CONCATENATE(VLOOKUP(I16+\"00:01\",'データ '!K:M,3,TRUE),\"/\",$W$11))","v":0}]
["",null,"",null,null,null,null,null,0,null,0,0,0,null,null,5,{"$f":"IF(A17=\"\",\"\",IF($A$13<>A17,\"月が異なります！\",IF(SUM($I$13:I17)>$S$7,\"決定時間数を超過しています！\",\"\")))","v":""},0,0,{"$f":"SUM($S$13:S17)","v":0},0,0,{"$f":"IF(I17=0,0,CONCATENATE(VLOOKUP(I17+\"00:01\",'データ '!K:M,3,TRUE),\"/\",$W$11))","v":0}]
["",null,"",null,null,null,null,null,0,null,0,0,0,null,null,6,{"$f":"IF(A18=\"\",\"\",IF($A$13<>A18,\"月が異なります！\",IF(SUM($I$13:I18)>$S$7,\"決定時間数を超過しています！\",\"\")))","v":""},0,0,{"$f":"SUM($S$13:S18)","v":0},0,0,{"$f":"IF(I18=0,0,CONCATENATE(VLOOKUP(I18+\"00:01\",'データ '!K:M,3,TRUE),\"/\",$W$11))","v":0}]
["",null,"",null,null,null,null,null,0,null,0,0,0,null,null,7,{"$f":"IF(A19=\"\",\"\",IF($A$13<>A19,\"月が異なります！\",IF(SUM($I$13:I19)>$S$7,\"決定時間数を超過しています！\",\"\")))","v":""},0,0,{"$f":"SUM($S$13:S19)","v":0},0,0,{"$f":"IF(I19=0,0,CONCATENATE(VLOOKUP(I19+\"00:01\",'データ '!K:M,3,TRUE),\"/\",$W$11))","v":0}]
["",null,"",null,null,null,null,null,0,null,0,0,0,null,null,8,{"$f":"IF(A20=\"\",\"\",IF($A$13<>A20,\"月が異なります！\",IF(SUM($I$13:I20)>$S$7,\"決定時間数を超過しています！\",\"\")))","v":""},0,0,{"$f":"SUM($S$13:S20)","v":0},0,0,{"$f":"IF(I20=0,0,CONCATENATE(VLOOKUP(I20+\"00:01\",'データ '!K:M,3,TRUE),\"/\",$W$11))","v":0}]
["",null,"",null,null,null,null,null,0,null,0,{"$f":"IF(U21=0,S21,V21)","v":0},0,null,null,9,{"$f":"IF(A21=\"\",\"\",IF($A$13<>A21,\"月が異なります！\",IF(SUM($I$13:I21)>$S$7,\"決定時間数を超過しています！\",\"\")))","v":""},0,0,{"$f":"SUM($S$13:S21)","v":0},0,0,{"$f":"IF(I21=0,0,CONCATENATE(VLOOKUP(I21+\"00:01\",'データ '!K:M,3,TRUE),\"/\",$W$11))","v":0}]
["",null,"",null,null,null,null,null,0,null,0,{"$f":"IF(U22=0,S22,V22)","v":0},0,null,null,10,{"$f":"IF(A22=\"\",\"\",IF($A$13<>A22,\"月が異なります！\",IF(SUM($I$13:I22)>$S$7,\"決定時間数を超過しています！\",\"\")))","v":""},0,{"$f":"K22-R22","v":0},{"$f":"SUM($S$13:S22)","v":0},0,0,{"$f":"IF(I22=0,0,CONCATENATE(VLOOKUP(I22+\"00:01\",'データ '!K:M,3,TRUE),\"/\",$W$11))","v":0}]
["",null,"",null,null,null,null,null,0,null,0,0,0,null,null,11,{"$f":"IF(A23=\"\",\"\",IF($A$13<>A23,\"月が異なります！\",IF(SUM($I$13:I23)>$S$7,\"決定時間数を超過しています！\",\"\")))","v":""},0,0,{"$f":"SUM($S$13:S23)","v":0},0,0,{"$f":"IF(I23=0,0,CONCATENATE(VLOOKUP(I23+\"00:01\",'データ '!K:M,3,TRUE),\"/\",$W$11))","v":0}]
["",null,"",null,null,null,null,null,0,null,0,0,0,null,null,12,{"$f":"IF(A24=\"\",\"\",IF($A$13<>A24,\"月が異なります！\",IF(SUM($I$13:I24)>$S$7,\"決定時間数を超過しています！\",\"\")))","v":""},0,0,{"$f":"SUM($S$13:S24)","v":0},0,0,{"$f":"IF(I24=0,0,CONCATENATE(VLOOKUP(I24+\"00:01\",'データ '!K:M,3,TRUE),\"/\",$W$11))","v":0}]
["",null,"",null,null,null,null,null,0,null,0,0,0,null,null,13,{"$f":"IF(A25=\"\",\"\",IF($A$13<>A25,\"月が異なります！\",IF(SUM($I$13:I25)>$S$7,\"決定時間数を超過しています！\",\"\")))","v":""},0,0,{"$f":"SUM($S$13:S25)","v":0},0,0,{"$f":"IF(I25=0,0,CONCATENATE(VLOOKUP(I25+\"00:01\",'データ '!K:M,3,TRUE),\"/\",$W$11))","v":0}]
["",null,"",null,null,null,null,null,0,null,0,0,0,null,null,14,{"$f":"IF(A26=\"\",\"\",IF($A$13<>A26,\"月が異なります！\",IF(SUM($I$13:I26)>$S$7,\"決定時間数を超過しています！\",\"\")))","v":""},0,0,{"$f":"SUM($S$13:S26)","v":0},0,0,{"$f":"IF(I26=0,0,CONCATENATE(VLOOKUP(I26+\"00:01\",'データ '!K:M,3,TRUE),\"/\",$W$11))","v":0}]
["",null,"",null,null,null,null,null,0,null,0,0,0,null,null,15,{"$f":"IF(A27=\"\",\"\",IF($A$13<>A27,\"月が異なります！\",IF(SUM($I$13:I27)>$S$7,\"決定時間数を超過しています！\",\"\")))","v":""},0,0,{"$f":"SUM($S$13:S27)","v":0},0,0,{"$f":"IF(I27=0,0,CONCATENATE(VLOOKUP(I27+\"00:01\",'データ '!K:M,3,TRUE),\"/\",$W$11))","v":0}]
["",null,"",null,null,null,null,null,0,null,0,0,0,null,null,16,{"$f":"IF(A28=\"\",\"\",IF($A$13<>A28,\"月が異なります！\",IF(SUM($I$13:I28)>$S$7,\"決定時間数を超過しています！\",\"\")))","v":""},0,0,{"$f":"SUM($S$13:S28)","v":0},0,0,{"$f":"IF(I28=0,0,CONCATENATE(VLOOKUP(I28+\"00:01\",'データ '!K:M,3,TRUE),\"/\",$W$11))","v":0}]
["",null,"",null,null,null,null,null,0,null,0,0,0,null,null,17,{"$f":"IF(A29=\"\",\"\",IF($A$13<>A29,\"月が異なります！\",IF(SUM($I$13:I29)>$S$7,\"決定時間数を超過しています！\",\"\")))","v":""},0,0,{"$f":"SUM($S$13:S29)","v":0},0,0,{"$f":"IF(I29=0,0,CONCATENATE(VLOOKUP(I29+\"00:01\",'データ '!K:M,3,TRUE),\"/\",$W$11))","v":0}]
["",null,"",null,null,null,null,null,0,null,0,0,0,null,null,18,{"$f":"IF(A30=\"\",\"\",IF($A$13<>A30,\"月が異なります！\",IF(SUM($I$13:I30)>$S$7,\"決定時間数を超過しています！\",\"\")))","v":""},0,0,{"$f":"SUM($S$13:S30)","v":0},0,0,{"$f":"IF(I30=0,0,CONCATENATE(VLOOKUP(I30+\"00:01\",'データ '!K:M,3,TRUE),\"/\",$W$11))","v":0}]
["",null,"",null,null,null,null,null,0,null,0,0,0,null,null,19,{"$f":"IF(A31=\"\",\"\",IF($A$13<>A31,\"月が異なります！\",IF(SUM($I$13:I31)>$S$7,\"決定時間数を超過しています！\",\"\")))","v":""},0,0,{"$f":"SUM($S$13:S31)","v":0},0,0,{"$f":"IF(I31=0,0,CONCATENATE(VLOOKUP(I31+\"00:01\",'データ '!K:M,3,TRUE),\"/\",$W$11))","v":0}]
["",null,"",null,null,null,null,null,0,null,0,0,0,null,null,20,{"$f":"IF(A32=\"\",\"\",IF($A$13<>A32,\"月が異なります！\",IF(SUM($I$13:I32)>$S$7,\"決定時間数を超過しています！\",\"\")))","v":""},0,0,{"$f":"SUM($S$13:S32)","v":0},0,0,{"$f":"IF(I32=0,0,CONCATENATE(VLOOKUP(I32+\"00:01\",'データ '!K:M,3,TRUE),\"/\",$W$11))","v":0}]
["",null,"",null,null,null,null,null,0,null,0,0,0,null,null,21,{"$f":"IF(A33=\"\",\"\",IF($A$13<>A33,\"月が異なります！\",IF(SUM($I$13:I33)>$S$7,\"決定時間数を超過しています！\",\"\")))","v":""},0,0,{"$f":"SUM($S$13:S33)","v":0},0,0,{"$f":"IF(I33=0,0,CONCATENATE(VLOOKUP(I33+\"00:01\",'データ '!K:M,3,TRUE),\"/\",$W$11))","v":0}]
["",null,"",null,null,null,null,null,0,null,0,0,0,null,null,22,{"$f":"IF(A34=\"\",\"\",IF($A$13<>A34,\"月が異なります！\",IF(SUM($I$13:I34)>$S$7,\"決定時間数を超過しています！\",\"\")))","v":""},0,0,{"$f":"SUM($S$13:S34)","v":0},0,0,{"$f":"IF(I34=0,0,CONCATENATE(VLOOKUP(I34+\"00:01\",'データ '!K:M,3,TRUE),\"/\",$W$11))","v":0}]
["",null,"",null,null,null,null,null,0,null,0,0,0,null,null,23,{"$f":"IF(A35=\"\",\"\",IF($A$13<>A35,\"月が異なります！\",IF(SUM($I$13:I35)>$S$7,\"決定時間数を超過しています！\",\"\")))","v":""},0,0,{"$f":"SUM($S$13:S35)","v":0},0,0,{"$f":"IF(I35=0,0,CONCATENATE(VLOOKUP(I35+\"00:01\",'データ '!K:M,3,TRUE),\"/\",$W$11))","v":0}]
["",null,"",null,null,null,null,null,0,null,0,0,0,null,null,24,{"$f":"IF(A36=\"\",\"\",IF($A$13<>A36,\"月が異なります！\",IF(SUM($I$13:I36)>$S$7,\"決定時間数を超過しています！\",\"\")))","v":""},0,0,{"$f":"SUM($S$13:S36)","v":0},0,0,{"$f":"IF(I36=0,0,CONCATENATE(VLOOKUP(I36+\"00:01\",'データ '!K:M,3,TRUE),\"/\",$W$11))","v":0}]
["",null,"",null,null,null,null,null,0,null,0,0,0,null,null,25,{"$f":"IF(A37=\"\",\"\",IF($A$13<>A37,\"月が異なります！\",IF(SUM($I$13:I37)>$S$7,\"決定時間数を超過しています！\",\"\")))","v":""},0,0,{"$f":"SUM($S$13:S37)","v":0},0,0,{"$f":"IF(I37=0,0,CONCATENATE(VLOOKUP(I37+\"00:01\",'データ '!K:M,3,TRUE),\"/\",$W$11))","v":0}]
["",null,"",null,null,null,null,null,0,null,0,0,0,null,null,26,{"$f":"IF(A38=\"\",\"\",IF($A$13<>A38,\"月が異なります！\",IF(SUM($I$13:I38)>$S$7,\"決定時間数を超過しています！\",\"\")))","v":""},0,0,{"$f":"SUM($S$13:S38)","v":0},0,0,{"$f":"IF(I38=0,0,CONCATENATE(VLOOKUP(I38+\"00:01\",'データ '!K:M,3,TRUE),\"/\",$W$11))","v":0}]
["",null,"",null,null,null,null,null,0,null,0,0,0,null,null,27,{"$f":"IF(A39=\"\",\"\",IF($A$13<>A39,\"月が異なります！\",IF(SUM($I$13:I39)>$S$7,\"決定時間数を超過しています！\",\"\")))","v":""},0,0,{"$f":"SUM($S$13:S39)","v":0},0,0,{"$f":"IF(I39=0,0,CONCATENATE(VLOOKUP(I39+\"00:01\",'データ '!K:M,3,TRUE),\"/\",$W$11))","v":0}]
["",null,"",null,null,null,null,null,0,null,0,0,0,null,null,28,{"$f":"IF(A40=\"\",\"\",IF($A$13<>A40,\"月が異なります！\",IF(SUM($I$13:I40)>$S$7,\"決定時間数を超過しています！\",\"\")))","v":""},0,0,{"$f":"SUM($S$13:S40)","v":0},0,0,{"$f":"IF(I40=0,0,CONCATENATE(VLOOKUP(I40+\"00:01\",'データ '!K:M,3,TRUE),\"/\",$W$11))","v":0}]
["",null,"",null,null,null,null,null,0,null,0,0,0,null,null,29,{"$f":"IF(A41=\"\",\"\",IF($A$13<>A41,\"月が異なります！\",IF(SUM($I$13:I41)>$S$7,\"決定時間数を超過しています！\",\"\")))","v":""},0,0,{"$f":"SUM($S$13:S41)","v":0},0,0,{"$f":"IF(I41=0,0,CONCATENATE(VLOOKUP(I41+\"00:01\",'データ '!K:M,3,TRUE),\"/\",$W$11))","v":0}]
["",null,"",null,null,null,null,null,0,null,0,0,0,null,null,30,{"$f":"IF(A42=\"\",\"\",IF($A$13<>A42,\"月が異なります！\",IF(SUM($I$13:I42)>$S$7,\"決定時間数を超過しています！\",\"\")))","v":""},0,0,{"$f":"SUM($S$13:S42)","v":0},0,0,{"$f":"IF(I42=0,0,CONCATENATE(VLOOKUP(I42+\"00:01\",'データ '!K:M,3,TRUE),\"/\",$W$11))","v":0}]
["",null,"",null,null,null,null,null,0,null,0,0,0,null,null,31,{"$f":"IF(A43=\"\",\"\",IF($A$13<>A43,\"月が異なります！\",IF(SUM($I$13:I43)>$S$7,\"決定時間数を超過しています！\",\"\")))","v":""},0,0,{"$f":"SUM($S$13:S43)","v":0},0,0,{"$f":"IF(I43=0,0,CONCATENATE(VLOOKUP(I43+\"00:01\",'データ '!K:M,3,TRUE),\"/\",$W$11))","v":0}]
["合計",null,null,null,null,null,null,null,{"$f":"SUM(I13:I43)","v":0},null,{"$f":"SUM(K13:K43)","v":0},{"$f":"SUM(L13:L43)","v":0},{"$f":"SUM(M13:M43)","v":0},null,null,null,null,null,null,null,null,null,{"$f":"IF(I44>=$X$8,$Y$9,IF(AND(I44<$X$8,I44>=$X$7),$Y$8,IF(I44<$X$7,$Y$7)))&$W$11","v":"無"}]

{"sheet":"17","index":22,"n_rows":44,"n_cols":23,"rows_kept":44,"cut":false,"hidden":false,"merged":[[10,19,11,19],[10,20,11,20],[10,21,11,21],[43,0,43,7],[10,9,11,9],[10,10,11,10],[10,11,11,11],[10,12,11,12],[10,13,11,13],[10,14,11,14],[10,0,10,2],[10,3,10,5],[10,6,10,7],[10,8,11,8],[10,16,11,16],[6,16,8,16],[7,0,7,4],[7,5,7,6],[7,7,7,8],[8,0,8,4],[6,0,6,2],[6,3,6,4],[6,6,6,7],[6,9,8,10],[6,11,8,14],[8,5,8,6],[8,7,8,8],[4,11,4,14],[5,11,5,14],[3,1,3,4],[4,0,5,2],[4,3,5,5],[4,6,5,7],[4,8,5,10],[3,5,3,14]]}
[null,"№",17]
[]
[]
[null,{"$f":"EOMONTH(B13,0)","v":"1900-01-31"},null,null,null,"鎌ケ谷市移動支援サービス提供実績記録票"]
["登録番号",null,null,{"$f":"VLOOKUP($C$1,利用者情報!A:U,COLUMN(利用者情報!B3),FALSE)","v":0},null,null,"支給決定障がい者等氏名\n（児童氏名）",null,{"$f":"VLOOKUP($C$1,利用者情報!A:U,COLUMN(利用者情報!C1),FALSE)","v":0},null,null,"事業所登録番号"]
[null,null,null,null,null,null,null,null,null,null,null,{"$f":"請求事業者!B3","v":0},null,null,null,null,"コメント",null,"決定時間数"]
["契約支給量",null,null,"身体介護を\n伴う",null,{"$f":"IF(VLOOKUP(C1,利用者情報!A:G,5)=\"有\",CONCATENATE(VLOOKUP(C1,利用者情報!A:G,4)&\"時間\"),\"\")","v":""},"身体介護を\n伴わない",null,{"$f":"IF(VLOOKUP(C1,利用者情報!A:G,5)<>\"有\",CONCATENATE(VLOOKUP(C1,利用者情報!A:G,4)&\"時間\"),\"\")","v":"時間"},"事業所及び\nその事業所",null,{"$f":"請求事業者!B7","v":0},null,null,null,null,{"$f":"利用者情報!J4","v":""},null,{"$f":"IF(F7=\"\",I7,F7)","v":"時間"}]
["利用者負担の有無",null,null,null,null,"利用者の負担割合",null,"利用者負担上限額"]
[{"$f":"VLOOKUP($C$1,利用者情報!A:U,COLUMN(利用者情報!F3),FALSE)","v":0},null,null,null,null,{"$f":"IF(A9=\"有\",\"1割\",\"0割\")","v":"0割"},null,{"$f":"VLOOKUP($C$1,利用者情報!A:U,COLUMN(利用者情報!G3),FALSE)","v":0},null,null,null,null,null,null,null,null,null,null,null,null,null,null,{"$f":"請求事業者!C9","v":5}]
[null,null,null,null,null,null,null,null,null,null,null,null,null,null,null,null,null,null,null,null,null,null,"便宜上区分"]
["日付",null,null,"支援計画",null,null,null,null,"算定\n時間","派遣\n人数","算定額","利用者\n負担額","請求額","サービス\n提供者印","利用者\n確認印",null,"コメント",null,null,"利用者負担額\n累計","上限到達フラグ","上限達成時の利用者負担額",{"$f":"IF(F7=\"\",\"無\",\"有\")","v":"無"}]
["月","日","曜日","開始\n時間","終了\n時間","計画\n時間数","開始\n時間","終了\n時間",null,null,null,null,null,null,null,null,null,"請求額","利用者\n負担額",null,null,null,{"$f":"IF(A9=\"有\",\"（9割）\",\"\")","v":""}]
[{"$f":"IF(B13=\"\",\"\",TEXT(B13,\"m\"))","v":""},null,{"$f":"IF(B13=\"\",\"\",B13)","v":""},null,null,null,null,null,{"$f":"H13-G13","v":0},null,{"$f":"IF($H13=0,0,INDEX(単価,MATCH(W13,時間,0),MATCH($W$9,地域区分,0)))","v":0},{"$f":"IF(U13=0,S13,V13)","v":0},{"$f":"K13-L13","v":0},null,null,1,{"$f":"IF(A13=\"\",\"\",IF($A$13<>A13,\"月が異なります！\",IF(SUM($I$13:I13)>$S$7,\"決定時間数を超過しています！\",\"\")))","v":""},{"$f":"IF(I13=0,0,INDEX(単価,MATCH(W13,時間,0),MATCH(IF(W12=\"\",W9,W9&W12),地域区分,0)))","v":0},{"$f":"K13-R13","v":0},{"$f":"SUM($S$13:S13)","v":0},null,null,{"$f":"IF(I13=0,0,CONCATENATE(VLOOKUP(I13+\"00:01\",'データ '!K:M,3,TRUE),\"/\",$W$11))","v":0}]
[{"$f":"IF(B14=\"\",\"\",TEXT(B14,\"m\"))","v":""},null,{"$f":"IF(B14=\"\",\"\",B14)","v":""},null,null,null,null,null,{"$f":"H14-G14","v":0},null,{"$f":"IF($H14=0,0,INDEX(単価,MATCH(W14,時間,0),MATCH($W$9,地域区分,0)))","v":0},{"$f":"IF(U14=0,S14,V14)","v":0},{"$f":"K14-L14","v":0},null,null,2,{"$f":"IF(A14=\"\",\"\",IF($A$13<>A14,\"月が異なります！\",IF(SUM($I$13:I14)>$S$7,\"決定時間数を超過しています！\",\"\")))","v":""},{"$f":"IF(AND($H14=0),0,IF($A$9=\"有\",INDEX(単価,MATCH(W14,時間,0),MATCH($W$9&$W$12,地域区分,0)),INDEX(単価,MATCH(W14,時間,0),MATCH($W$9,地域区分,0))))","v":0},{"$f":"K14-R14","v":0},{"$f":"SUM($S$13:S14)","v":0},{"$f":"IF(AND(T13<$H$9,T14>$H$9),1,IF(T14>$H$9,2,0))","v":0},{"$f":"IF(U14=1,$H$9-T13,0)","v":0},{"$f":"IF(I14=0,0,CONCATENATE(VLOOKUP(I14+\"00:01\",'データ '!K:M,3,TRUE),\"/\",$W$11))","v":0}]
["",null,"",null,null,null,null,null,0,null,0,{"$f":"IF(U15=0,S15,V15)","v":0},{"$f":"K15-L15","v":0},null,null,3,{"$f":"IF(A15=\"\",\"\",IF($A$13<>A15,\"月が異なります！\",IF(SUM($I$13:I15)>$S$7,\"決定時間数を超過しています！\",\"\")))","v":""},0,0,{"$f":"SUM($S$13:S15)","v":0},{"$f":"IF(AND(T14<$H$9,T15>$H$9),1,IF(T15>$H$9,2,0))","v":0},{"$f":"IF(U15=1,$H$9-T14,0)","v":0},{"$f":"IF(I15=0,0,CONCATENATE(VLOOKUP(I15+\"00:01\",'データ '!K:M,3,TRUE),\"/\",$W$11))","v":0}]
["",null,"",null,null,null,null,null,0,null,0,0,0,null,null,4,{"$f":"IF(A16=\"\",\"\",IF($A$13<>A16,\"月が異なります！\",IF(SUM($I$13:I16)>$S$7,\"決定時間数を超過しています！\",\"\")))","v":""},0,0,{"$f":"SUM($S$13:S16)","v":0},0,0,{"$f":"IF(I16=0,0,CONCATENATE(VLOOKUP(I16+\"00:01\",'データ '!K:M,3,TRUE),\"/\",$W$11))","v":0}]
["",null,"",null,null,null,null,null,0,null,0,0,0,null,null,5,{"$f":"IF(A17=\"\",\"\",IF($A$13<>A17,\"月が異なります！\",IF(SUM($I$13:I17)>$S$7,\"決定時間数を超過しています！\",\"\")))","v":""},0,0,{"$f":"SUM($S$13:S17)","v":0},0,0,{"$f":"IF(I17=0,0,CONCATENATE(VLOOKUP(I17+\"00:01\",'データ '!K:M,3,TRUE),\"/\",$W$11))","v":0}]
["",null,"",null,null,null,null,null,0,null,0,0,0,null,null,6,{"$f":"IF(A18=\"\",\"\",IF($A$13<>A18,\"月が異なります！\",IF(SUM($I$13:I18)>$S$7,\"決定時間数を超過しています！\",\"\")))","v":""},0,0,{"$f":"SUM($S$13:S18)","v":0},0,0,{"$f":"IF(I18=0,0,CONCATENATE(VLOOKUP(I18+\"00:01\",'データ '!K:M,3,TRUE),\"/\",$W$11))","v":0}]
["",null,"",null,null,null,null,null,0,null,0,0,0,null,null,7,{"$f":"IF(A19=\"\",\"\",IF($A$13<>A19,\"月が異なります！\",IF(SUM($I$13:I19)>$S$7,\"決定時間数を超過しています！\",\"\")))","v":""},0,0,{"$f":"SUM($S$13:S19)","v":0},0,0,{"$f":"IF(I19=0,0,CONCATENATE(VLOOKUP(I19+\"00:01\",'データ '!K:M,3,TRUE),\"/\",$W$11))","v":0}]
["",null,"",null,null,null,null,null,0,null,0,0,0,null,null,8,{"$f":"IF(A20=\"\",\"\",IF($A$13<>A20,\"月が異なります！\",IF(SUM($I$13:I20)>$S$7,\"決定時間数を超過しています！\",\"\")))","v":""},0,0,{"$f":"SUM($S$13:S20)","v":0},0,0,{"$f":"IF(I20=0,0,CONCATENATE(VLOOKUP(I20+\"00:01\",'データ '!K:M,3,TRUE),\"/\",$W$11))","v":0}]
["",null,"",null,null,null,null,null,0,null,0,{"$f":"IF(U21=0,S21,V21)","v":0},0,null,null,9,{"$f":"IF(A21=\"\",\"\",IF($A$13<>A21,\"月が異なります！\",IF(SUM($I$13:I21)>$S$7,\"決定時間数を超過しています！\",\"\")))","v":""},0,0,{"$f":"SUM($S$13:S21)","v":0},0,0,{"$f":"IF(I21=0,0,CONCATENATE(VLOOKUP(I21+\"00:01\",'データ '!K:M,3,TRUE),\"/\",$W$11))","v":0}]
["",null,"",null,null,null,null,null,0,null,0,{"$f":"IF(U22=0,S22,V22)","v":0},0,null,null,10,{"$f":"IF(A22=\"\",\"\",IF($A$13<>A22,\"月が異なります！\",IF(SUM($I$13:I22)>$S$7,\"決定時間数を超過しています！\",\"\")))","v":""},0,{"$f":"K22-R22","v":0},{"$f":"SUM($S$13:S22)","v":0},0,0,{"$f":"IF(I22=0,0,CONCATENATE(VLOOKUP(I22+\"00:01\",'データ '!K:M,3,TRUE),\"/\",$W$11))","v":0}]
["",null,"",null,null,null,null,null,0,null,0,0,0,null,null,11,{"$f":"IF(A23=\"\",\"\",IF($A$13<>A23,\"月が異なります！\",IF(SUM($I$13:I23)>$S$7,\"決定時間数を超過しています！\",\"\")))","v":""},0,0,{"$f":"SUM($S$13:S23)","v":0},0,0,{"$f":"IF(I23=0,0,CONCATENATE(VLOOKUP(I23+\"00:01\",'データ '!K:M,3,TRUE),\"/\",$W$11))","v":0}]
["",null,"",null,null,null,null,null,0,null,0,0,0,null,null,12,{"$f":"IF(A24=\"\",\"\",IF($A$13<>A24,\"月が異なります！\",IF(SUM($I$13:I24)>$S$7,\"決定時間数を超過しています！\",\"\")))","v":""},0,0,{"$f":"SUM($S$13:S24)","v":0},0,0,{"$f":"IF(I24=0,0,CONCATENATE(VLOOKUP(I24+\"00:01\",'データ '!K:M,3,TRUE),\"/\",$W$11))","v":0}]
["",null,"",null,null,null,null,null,0,null,0,0,0,null,null,13,{"$f":"IF(A25=\"\",\"\",IF($A$13<>A25,\"月が異なります！\",IF(SUM($I$13:I25)>$S$7,\"決定時間数を超過しています！\",\"\")))","v":""},0,0,{"$f":"SUM($S$13:S25)","v":0},0,0,{"$f":"IF(I25=0,0,CONCATENATE(VLOOKUP(I25+\"00:01\",'データ '!K:M,3,TRUE),\"/\",$W$11))","v":0}]
["",null,"",null,null,null,null,null,0,null,0,0,0,null,null,14,{"$f":"IF(A26=\"\",\"\",IF($A$13<>A26,\"月が異なります！\",IF(SUM($I$13:I26)>$S$7,\"決定時間数を超過しています！\",\"\")))","v":""},0,0,{"$f":"SUM($S$13:S26)","v":0},0,0,{"$f":"IF(I26=0,0,CONCATENATE(VLOOKUP(I26+\"00:01\",'データ '!K:M,3,TRUE),\"/\",$W$11))","v":0}]
["",null,"",null,null,null,null,null,0,null,0,0,0,null,null,15,{"$f":"IF(A27=\"\",\"\",IF($A$13<>A27,\"月が異なります！\",IF(SUM($I$13:I27)>$S$7,\"決定時間数を超過しています！\",\"\")))","v":""},0,0,{"$f":"SUM($S$13:S27)","v":0},0,0,{"$f":"IF(I27=0,0,CONCATENATE(VLOOKUP(I27+\"00:01\",'データ '!K:M,3,TRUE),\"/\",$W$11))","v":0}]
["",null,"",null,null,null,null,null,0,null,0,0,0,null,null,16,{"$f":"IF(A28=\"\",\"\",IF($A$13<>A28,\"月が異なります！\",IF(SUM($I$13:I28)>$S$7,\"決定時間数を超過しています！\",\"\")))","v":""},0,0,{"$f":"SUM($S$13:S28)","v":0},0,0,{"$f":"IF(I28=0,0,CONCATENATE(VLOOKUP(I28+\"00:01\",'データ '!K:M,3,TRUE),\"/\",$W$11))","v":0}]
["",null,"",null,null,null,null,null,0,null,0,0,0,null,null,17,{"$f":"IF(A29=\"\",\"\",IF($A$13<>A29,\"月が異なります！\",IF(SUM($I$13:I29)>$S$7,\"決定時間数を超過しています！\",\"\")))","v":""},0,0,{"$f":"SUM($S$13:S29)","v":0},0,0,{"$f":"IF(I29=0,0,CONCATENATE(VLOOKUP(I29+\"00:01\",'データ '!K:M,3,TRUE),\"/\",$W$11))","v":0}]
["",null,"",null,null,null,null,null,0,null,0,0,0,null,null,18,{"$f":"IF(A30=\"\",\"\",IF($A$13<>A30,\"月が異なります！\",IF(SUM($I$13:I30)>$S$7,\"決定時間数を超過しています！\",\"\")))","v":""},0,0,{"$f":"SUM($S$13:S30)","v":0},0,0,{"$f":"IF(I30=0,0,CONCATENATE(VLOOKUP(I30+\"00:01\",'データ '!K:M,3,TRUE),\"/\",$W$11))","v":0}]
["",null,"",null,null,null,null,null,0,null,0,0,0,null,null,19,{"$f":"IF(A31=\"\",\"\",IF($A$13<>A31,\"月が異なります！\",IF(SUM($I$13:I31)>$S$7,\"決定時間数を超過しています！\",\"\")))","v":""},0,0,{"$f":"SUM($S$13:S31)","v":0},0,0,{"$f":"IF(I31=0,0,CONCATENATE(VLOOKUP(I31+\"00:01\",'データ '!K:M,3,TRUE),\"/\",$W$11))","v":0}]
["",null,"",null,null,null,null,null,0,null,0,0,0,null,null,20,{"$f":"IF(A32=\"\",\"\",IF($A$13<>A32,\"月が異なります！\",IF(SUM($I$13:I32)>$S$7,\"決定時間数を超過しています！\",\"\")))","v":""},0,0,{"$f":"SUM($S$13:S32)","v":0},0,0,{"$f":"IF(I32=0,0,CONCATENATE(VLOOKUP(I32+\"00:01\",'データ '!K:M,3,TRUE),\"/\",$W$11))","v":0}]
["",null,"",null,null,null,null,null,0,null,0,0,0,null,null,21,{"$f":"IF(A33=\"\",\"\",IF($A$13<>A33,\"月が異なります！\",IF(SUM($I$13:I33)>$S$7,\"決定時間数を超過しています！\",\"\")))","v":""},0,0,{"$f":"SUM($S$13:S33)","v":0},0,0,{"$f":"IF(I33=0,0,CONCATENATE(VLOOKUP(I33+\"00:01\",'データ '!K:M,3,TRUE),\"/\",$W$11))","v":0}]
["",null,"",null,null,null,null,null,0,null,0,0,0,null,null,22,{"$f":"IF(A34=\"\",\"\",IF($A$13<>A34,\"月が異なります！\",IF(SUM($I$13:I34)>$S$7,\"決定時間数を超過しています！\",\"\")))","v":""},0,0,{"$f":"SUM($S$13:S34)","v":0},0,0,{"$f":"IF(I34=0,0,CONCATENATE(VLOOKUP(I34+\"00:01\",'データ '!K:M,3,TRUE),\"/\",$W$11))","v":0}]
["",null,"",null,null,null,null,null,0,null,0,0,0,null,null,23,{"$f":"IF(A35=\"\",\"\",IF($A$13<>A35,\"月が異なります！\",IF(SUM($I$13:I35)>$S$7,\"決定時間数を超過しています！\",\"\")))","v":""},0,0,{"$f":"SUM($S$13:S35)","v":0},0,0,{"$f":"IF(I35=0,0,CONCATENATE(VLOOKUP(I35+\"00:01\",'データ '!K:M,3,TRUE),\"/\",$W$11))","v":0}]
["",null,"",null,null,null,null,null,0,null,0,0,0,null,null,24,{"$f":"IF(A36=\"\",\"\",IF($A$13<>A36,\"月が異なります！\",IF(SUM($I$13:I36)>$S$7,\"決定時間数を超過しています！\",\"\")))","v":""},0,0,{"$f":"SUM($S$13:S36)","v":0},0,0,{"$f":"IF(I36=0,0,CONCATENATE(VLOOKUP(I36+\"00:01\",'データ '!K:M,3,TRUE),\"/\",$W$11))","v":0}]
["",null,"",null,null,null,null,null,0,null,0,0,0,null,null,25,{"$f":"IF(A37=\"\",\"\",IF($A$13<>A37,\"月が異なります！\",IF(SUM($I$13:I37)>$S$7,\"決定時間数を超過しています！\",\"\")))","v":""},0,0,{"$f":"SUM($S$13:S37)","v":0},0,0,{"$f":"IF(I37=0,0,CONCATENATE(VLOOKUP(I37+\"00:01\",'データ '!K:M,3,TRUE),\"/\",$W$11))","v":0}]
["",null,"",null,null,null,null,null,0,null,0,0,0,null,null,26,{"$f":"IF(A38=\"\",\"\",IF($A$13<>A38,\"月が異なります！\",IF(SUM($I$13:I38)>$S$7,\"決定時間数を超過しています！\",\"\")))","v":""},0,0,{"$f":"SUM($S$13:S38)","v":0},0,0,{"$f":"IF(I38=0,0,CONCATENATE(VLOOKUP(I38+\"00:01\",'データ '!K:M,3,TRUE),\"/\",$W$11))","v":0}]
["",null,"",null,null,null,null,null,0,null,0,0,0,null,null,27,{"$f":"IF(A39=\"\",\"\",IF($A$13<>A39,\"月が異なります！\",IF(SUM($I$13:I39)>$S$7,\"決定時間数を超過しています！\",\"\")))","v":""},0,0,{"$f":"SUM($S$13:S39)","v":0},0,0,{"$f":"IF(I39=0,0,CONCATENATE(VLOOKUP(I39+\"00:01\",'データ '!K:M,3,TRUE),\"/\",$W$11))","v":0}]
["",null,"",null,null,null,null,null,0,null,0,0,0,null,null,28,{"$f":"IF(A40=\"\",\"\",IF($A$13<>A40,\"月が異なります！\",IF(SUM($I$13:I40)>$S$7,\"決定時間数を超過しています！\",\"\")))","v":""},0,0,{"$f":"SUM($S$13:S40)","v":0},0,0,{"$f":"IF(I40=0,0,CONCATENATE(VLOOKUP(I40+\"00:01\",'データ '!K:M,3,TRUE),\"/\",$W$11))","v":0}]
["",null,"",null,null,null,null,null,0,null,0,0,0,null,null,29,{"$f":"IF(A41=\"\",\"\",IF($A$13<>A41,\"月が異なります！\",IF(SUM($I$13:I41)>$S$7,\"決定時間数を超過しています！\",\"\")))","v":""},0,0,{"$f":"SUM($S$13:S41)","v":0},0,0,{"$f":"IF(I41=0,0,CONCATENATE(VLOOKUP(I41+\"00:01\",'データ '!K:M,3,TRUE),\"/\",$W$11))","v":0}]
["",null,"",null,null,null,null,null,0,null,0,0,0,null,null,30,{"$f":"IF(A42=\"\",\"\",IF($A$13<>A42,\"月が異なります！\",IF(SUM($I$13:I42)>$S$7,\"決定時間数を超過しています！\",\"\")))","v":""},0,0,{"$f":"SUM($S$13:S42)","v":0},0,0,{"$f":"IF(I42=0,0,CONCATENATE(VLOOKUP(I42+\"00:01\",'データ '!K:M,3,TRUE),\"/\",$W$11))","v":0}]
["",null,"",null,null,null,null,null,0,null,0,0,0,null,null,31,{"$f":"IF(A43=\"\",\"\",IF($A$13<>A43,\"月が異なります！\",IF(SUM($I$13:I43)>$S$7,\"決定時間数を超過しています！\",\"\")))","v":""},0,0,{"$f":"SUM($S$13:S43)","v":0},0,0,{"$f":"IF(I43=0,0,CONCATENATE(VLOOKUP(I43+\"00:01\",'データ '!K:M,3,TRUE),\"/\",$W$11))","v":0}]
["合計",null,null,null,null,null,null,null,{"$f":"SUM(I13:I43)","v":0},null,{"$f":"SUM(K13:K43)","v":0},{"$f":"SUM(L13:L43)","v":0},{"$f":"SUM(M13:M43)","v":0},null,null,null,null,null,null,null,null,null,{"$f":"IF(I44>=$X$8,$Y$9,IF(AND(I44<$X$8,I44>=$X$7),$Y$8,IF(I44<$X$7,$Y$7)))&$W$11","v":"無"}]

{"sheet":"18","index":23,"n_rows":44,"n_cols":23,"rows_kept":44,"cut":false,"hidden":false,"merged":[[10,19,11,19],[10,20,11,20],[10,21,11,21],[43,0,43,7],[10,9,11,9],[10,10,11,10],[10,11,11,11],[10,12,11,12],[10,13,11,13],[10,14,11,14],[10,0,10,2],[10,3,10,5],[10,6,10,7],[10,8,11,8],[10,16,11,16],[6,16,8,16],[7,0,7,4],[7,5,7,6],[7,7,7,8],[8,0,8,4],[6,0,6,2],[6,3,6,4],[6,6,6,7],[6,9,8,10],[6,11,8,14],[8,5,8,6],[8,7,8,8],[4,11,4,14],[5,11,5,14],[3,1,3,4],[4,0,5,2],[4,3,5,5],[4,6,5,7],[4,8,5,10],[3,5,3,14]]}
[null,"№",18]
[]
[]
[null,{"$f":"EOMONTH(B13,0)","v":"1900-01-31"},null,null,null,"鎌ケ谷市移動支援サービス提供実績記録票"]
["登録番号",null,null,{"$f":"VLOOKUP($C$1,利用者情報!A:U,COLUMN(利用者情報!B3),FALSE)","v":0},null,null,"支給決定障がい者等氏名\n（児童氏名）",null,{"$f":"VLOOKUP($C$1,利用者情報!A:U,COLUMN(利用者情報!C1),FALSE)","v":0},null,null,"事業所登録番号"]
[null,null,null,null,null,null,null,null,null,null,null,{"$f":"請求事業者!B3","v":0},null,null,null,null,"コメント",null,"決定時間数"]
["契約支給量",null,null,"身体介護を\n伴う",null,{"$f":"IF(VLOOKUP(C1,利用者情報!A:G,5)=\"有\",CONCATENATE(VLOOKUP(C1,利用者情報!A:G,4)&\"時間\"),\"\")","v":""},"身体介護を\n伴わない",null,{"$f":"IF(VLOOKUP(C1,利用者情報!A:G,5)<>\"有\",CONCATENATE(VLOOKUP(C1,利用者情報!A:G,4)&\"時間\"),\"\")","v":"時間"},"事業所及び\nその事業所",null,{"$f":"請求事業者!B7","v":0},null,null,null,null,{"$f":"利用者情報!J4","v":""},null,{"$f":"IF(F7=\"\",I7,F7)","v":"時間"}]
["利用者負担の有無",null,null,null,null,"利用者の負担割合",null,"利用者負担上限額"]
[{"$f":"VLOOKUP($C$1,利用者情報!A:U,COLUMN(利用者情報!F3),FALSE)","v":0},null,null,null,null,{"$f":"IF(A9=\"有\",\"1割\",\"0割\")","v":"0割"},null,{"$f":"VLOOKUP($C$1,利用者情報!A:U,COLUMN(利用者情報!G3),FALSE)","v":0},null,null,null,null,null,null,null,null,null,null,null,null,null,null,{"$f":"請求事業者!C9","v":5}]
[null,null,null,null,null,null,null,null,null,null,null,null,null,null,null,null,null,null,null,null,null,null,"便宜上区分"]
["日付",null,null,"支援計画",null,null,null,null,"算定\n時間","派遣\n人数","算定額","利用者\n負担額","請求額","サービス\n提供者印","利用者\n確認印",null,"コメント",null,null,"利用者負担額\n累計","上限到達フラグ","上限達成時の利用者負担額",{"$f":"IF(F7=\"\",\"無\",\"有\")","v":"無"}]
["月","日","曜日","開始\n時間","終了\n時間","計画\n時間数","開始\n時間","終了\n時間",null,null,null,null,null,null,null,null,null,"請求額","利用者\n負担額",null,null,null,{"$f":"IF(A9=\"有\",\"（9割）\",\"\")","v":""}]
[{"$f":"IF(B13=\"\",\"\",TEXT(B13,\"m\"))","v":""},null,{"$f":"IF(B13=\"\",\"\",B13)","v":""},null,null,null,null,null,{"$f":"H13-G13","v":0},null,{"$f":"IF($H13=0,0,INDEX(単価,MATCH(W13,時間,0),MATCH($W$9,地域区分,0)))","v":0},{"$f":"IF(U13=0,S13,V13)","v":0},{"$f":"K13-L13","v":0},null,null,1,{"$f":"IF(A13=\"\",\"\",IF($A$13<>A13,\"月が異なります！\",IF(SUM($I$13:I13)>$S$7,\"決定時間数を超過しています！\",\"\")))","v":""},{"$f":"IF(I13=0,0,INDEX(単価,MATCH(W13,時間,0),MATCH(IF(W12=\"\",W9,W9&W12),地域区分,0)))","v":0},{"$f":"K13-R13","v":0},{"$f":"SUM($S$13:S13)","v":0},null,null,{"$f":"IF(I13=0,0,CONCATENATE(VLOOKUP(I13+\"00:01\",'データ '!K:M,3,TRUE),\"/\",$W$11))","v":0}]
[{"$f":"IF(B14=\"\",\"\",TEXT(B14,\"m\"))","v":""},null,{"$f":"IF(B14=\"\",\"\",B14)","v":""},null,null,null,null,null,{"$f":"H14-G14","v":0},null,{"$f":"IF($H14=0,0,INDEX(単価,MATCH(W14,時間,0),MATCH($W$9,地域区分,0)))","v":0},{"$f":"IF(U14=0,S14,V14)","v":0},{"$f":"K14-L14","v":0},null,null,2,{"$f":"IF(A14=\"\",\"\",IF($A$13<>A14,\"月が異なります！\",IF(SUM($I$13:I14)>$S$7,\"決定時間数を超過しています！\",\"\")))","v":""},{"$f":"IF(AND($H14=0),0,IF($A$9=\"有\",INDEX(単価,MATCH(W14,時間,0),MATCH($W$9&$W$12,地域区分,0)),INDEX(単価,MATCH(W14,時間,0),MATCH($W$9,地域区分,0))))","v":0},{"$f":"K14-R14","v":0},{"$f":"SUM($S$13:S14)","v":0},{"$f":"IF(AND(T13<$H$9,T14>$H$9),1,IF(T14>$H$9,2,0))","v":0},{"$f":"IF(U14=1,$H$9-T13,0)","v":0},{"$f":"IF(I14=0,0,CONCATENATE(VLOOKUP(I14+\"00:01\",'データ '!K:M,3,TRUE),\"/\",$W$11))","v":0}]
["",null,"",null,null,null,null,null,0,null,0,{"$f":"IF(U15=0,S15,V15)","v":0},{"$f":"K15-L15","v":0},null,null,3,{"$f":"IF(A15=\"\",\"\",IF($A$13<>A15,\"月が異なります！\",IF(SUM($I$13:I15)>$S$7,\"決定時間数を超過しています！\",\"\")))","v":""},0,0,{"$f":"SUM($S$13:S15)","v":0},{"$f":"IF(AND(T14<$H$9,T15>$H$9),1,IF(T15>$H$9,2,0))","v":0},{"$f":"IF(U15=1,$H$9-T14,0)","v":0},{"$f":"IF(I15=0,0,CONCATENATE(VLOOKUP(I15+\"00:01\",'データ '!K:M,3,TRUE),\"/\",$W$11))","v":0}]
["",null,"",null,null,null,null,null,0,null,0,0,0,null,null,4,{"$f":"IF(A16=\"\",\"\",IF($A$13<>A16,\"月が異なります！\",IF(SUM($I$13:I16)>$S$7,\"決定時間数を超過しています！\",\"\")))","v":""},0,0,{"$f":"SUM($S$13:S16)","v":0},0,0,{"$f":"IF(I16=0,0,CONCATENATE(VLOOKUP(I16+\"00:01\",'データ '!K:M,3,TRUE),\"/\",$W$11))","v":0}]
["",null,"",null,null,null,null,null,0,null,0,0,0,null,null,5,{"$f":"IF(A17=\"\",\"\",IF($A$13<>A17,\"月が異なります！\",IF(SUM($I$13:I17)>$S$7,\"決定時間数を超過しています！\",\"\")))","v":""},0,0,{"$f":"SUM($S$13:S17)","v":0},0,0,{"$f":"IF(I17=0,0,CONCATENATE(VLOOKUP(I17+\"00:01\",'データ '!K:M,3,TRUE),\"/\",$W$11))","v":0}]
["",null,"",null,null,null,null,null,0,null,0,0,0,null,null,6,{"$f":"IF(A18=\"\",\"\",IF($A$13<>A18,\"月が異なります！\",IF(SUM($I$13:I18)>$S$7,\"決定時間数を超過しています！\",\"\")))","v":""},0,0,{"$f":"SUM($S$13:S18)","v":0},0,0,{"$f":"IF(I18=0,0,CONCATENATE(VLOOKUP(I18+\"00:01\",'データ '!K:M,3,TRUE),\"/\",$W$11))","v":0}]
["",null,"",null,null,null,null,null,0,null,0,0,0,null,null,7,{"$f":"IF(A19=\"\",\"\",IF($A$13<>A19,\"月が異なります！\",IF(SUM($I$13:I19)>$S$7,\"決定時間数を超過しています！\",\"\")))","v":""},0,0,{"$f":"SUM($S$13:S19)","v":0},0,0,{"$f":"IF(I19=0,0,CONCATENATE(VLOOKUP(I19+\"00:01\",'データ '!K:M,3,TRUE),\"/\",$W$11))","v":0}]
["",null,"",null,null,null,null,null,0,null,0,0,0,null,null,8,{"$f":"IF(A20=\"\",\"\",IF($A$13<>A20,\"月が異なります！\",IF(SUM($I$13:I20)>$S$7,\"決定時間数を超過しています！\",\"\")))","v":""},0,0,{"$f":"SUM($S$13:S20)","v":0},0,0,{"$f":"IF(I20=0,0,CONCATENATE(VLOOKUP(I20+\"00:01\",'データ '!K:M,3,TRUE),\"/\",$W$11))","v":0}]
["",null,"",null,null,null,null,null,0,null,0,{"$f":"IF(U21=0,S21,V21)","v":0},0,null,null,9,{"$f":"IF(A21=\"\",\"\",IF($A$13<>A21,\"月が異なります！\",IF(SUM($I$13:I21)>$S$7,\"決定時間数を超過しています！\",\"\")))","v":""},0,0,{"$f":"SUM($S$13:S21)","v":0},0,0,{"$f":"IF(I21=0,0,CONCATENATE(VLOOKUP(I21+\"00:01\",'データ '!K:M,3,TRUE),\"/\",$W$11))","v":0}]
["",null,"",null,null,null,null,null,0,null,0,{"$f":"IF(U22=0,S22,V22)","v":0},0,null,null,10,{"$f":"IF(A22=\"\",\"\",IF($A$13<>A22,\"月が異なります！\",IF(SUM($I$13:I22)>$S$7,\"決定時間数を超過しています！\",\"\")))","v":""},0,{"$f":"K22-R22","v":0},{"$f":"SUM($S$13:S22)","v":0},0,0,{"$f":"IF(I22=0,0,CONCATENATE(VLOOKUP(I22+\"00:01\",'データ '!K:M,3,TRUE),\"/\",$W$11))","v":0}]
["",null,"",null,null,null,null,null,0,null,0,0,0,null,null,11,{"$f":"IF(A23=\"\",\"\",IF($A$13<>A23,\"月が異なります！\",IF(SUM($I$13:I23)>$S$7,\"決定時間数を超過しています！\",\"\")))","v":""},0,0,{"$f":"SUM($S$13:S23)","v":0},0,0,{"$f":"IF(I23=0,0,CONCATENATE(VLOOKUP(I23+\"00:01\",'データ '!K:M,3,TRUE),\"/\",$W$11))","v":0}]
["",null,"",null,null,null,null,null,0,null,0,0,0,null,null,12,{"$f":"IF(A24=\"\",\"\",IF($A$13<>A24,\"月が異なります！\",IF(SUM($I$13:I24)>$S$7,\"決定時間数を超過しています！\",\"\")))","v":""},0,0,{"$f":"SUM($S$13:S24)","v":0},0,0,{"$f":"IF(I24=0,0,CONCATENATE(VLOOKUP(I24+\"00:01\",'データ '!K:M,3,TRUE),\"/\",$W$11))","v":0}]
["",null,"",null,null,null,null,null,0,null,0,0,0,null,null,13,{"$f":"IF(A25=\"\",\"\",IF($A$13<>A25,\"月が異なります！\",IF(SUM($I$13:I25)>$S$7,\"決定時間数を超過しています！\",\"\")))","v":""},0,0,{"$f":"SUM($S$13:S25)","v":0},0,0,{"$f":"IF(I25=0,0,CONCATENATE(VLOOKUP(I25+\"00:01\",'データ '!K:M,3,TRUE),\"/\",$W$11))","v":0}]
["",null,"",null,null,null,null,null,0,null,0,0,0,null,null,14,{"$f":"IF(A26=\"\",\"\",IF($A$13<>A26,\"月が異なります！\",IF(SUM($I$13:I26)>$S$7,\"決定時間数を超過しています！\",\"\")))","v":""},0,0,{"$f":"SUM($S$13:S26)","v":0},0,0,{"$f":"IF(I26=0,0,CONCATENATE(VLOOKUP(I26+\"00:01\",'データ '!K:M,3,TRUE),\"/\",$W$11))","v":0}]
["",null,"",null,null,null,null,null,0,null,0,0,0,null,null,15,{"$f":"IF(A27=\"\",\"\",IF($A$13<>A27,\"月が異なります！\",IF(SUM($I$13:I27)>$S$7,\"決定時間数を超過しています！\",\"\")))","v":""},0,0,{"$f":"SUM($S$13:S27)","v":0},0,0,{"$f":"IF(I27=0,0,CONCATENATE(VLOOKUP(I27+\"00:01\",'データ '!K:M,3,TRUE),\"/\",$W$11))","v":0}]
["",null,"",null,null,null,null,null,0,null,0,0,0,null,null,16,{"$f":"IF(A28=\"\",\"\",IF($A$13<>A28,\"月が異なります！\",IF(SUM($I$13:I28)>$S$7,\"決定時間数を超過しています！\",\"\")))","v":""},0,0,{"$f":"SUM($S$13:S28)","v":0},0,0,{"$f":"IF(I28=0,0,CONCATENATE(VLOOKUP(I28+\"00:01\",'データ '!K:M,3,TRUE),\"/\",$W$11))","v":0}]
["",null,"",null,null,null,null,null,0,null,0,0,0,null,null,17,{"$f":"IF(A29=\"\",\"\",IF($A$13<>A29,\"月が異なります！\",IF(SUM($I$13:I29)>$S$7,\"決定時間数を超過しています！\",\"\")))","v":""},0,0,{"$f":"SUM($S$13:S29)","v":0},0,0,{"$f":"IF(I29=0,0,CONCATENATE(VLOOKUP(I29+\"00:01\",'データ '!K:M,3,TRUE),\"/\",$W$11))","v":0}]
["",null,"",null,null,null,null,null,0,null,0,0,0,null,null,18,{"$f":"IF(A30=\"\",\"\",IF($A$13<>A30,\"月が異なります！\",IF(SUM($I$13:I30)>$S$7,\"決定時間数を超過しています！\",\"\")))","v":""},0,0,{"$f":"SUM($S$13:S30)","v":0},0,0,{"$f":"IF(I30=0,0,CONCATENATE(VLOOKUP(I30+\"00:01\",'データ '!K:M,3,TRUE),\"/\",$W$11))","v":0}]
["",null,"",null,null,null,null,null,0,null,0,0,0,null,null,19,{"$f":"IF(A31=\"\",\"\",IF($A$13<>A31,\"月が異なります！\",IF(SUM($I$13:I31)>$S$7,\"決定時間数を超過しています！\",\"\")))","v":""},0,0,{"$f":"SUM($S$13:S31)","v":0},0,0,{"$f":"IF(I31=0,0,CONCATENATE(VLOOKUP(I31+\"00:01\",'データ '!K:M,3,TRUE),\"/\",$W$11))","v":0}]
["",null,"",null,null,null,null,null,0,null,0,0,0,null,null,20,{"$f":"IF(A32=\"\",\"\",IF($A$13<>A32,\"月が異なります！\",IF(SUM($I$13:I32)>$S$7,\"決定時間数を超過しています！\",\"\")))","v":""},0,0,{"$f":"SUM($S$13:S32)","v":0},0,0,{"$f":"IF(I32=0,0,CONCATENATE(VLOOKUP(I32+\"00:01\",'データ '!K:M,3,TRUE),\"/\",$W$11))","v":0}]
["",null,"",null,null,null,null,null,0,null,0,0,0,null,null,21,{"$f":"IF(A33=\"\",\"\",IF($A$13<>A33,\"月が異なります！\",IF(SUM($I$13:I33)>$S$7,\"決定時間数を超過しています！\",\"\")))","v":""},0,0,{"$f":"SUM($S$13:S33)","v":0},0,0,{"$f":"IF(I33=0,0,CONCATENATE(VLOOKUP(I33+\"00:01\",'データ '!K:M,3,TRUE),\"/\",$W$11))","v":0}]
["",null,"",null,null,null,null,null,0,null,0,0,0,null,null,22,{"$f":"IF(A34=\"\",\"\",IF($A$13<>A34,\"月が異なります！\",IF(SUM($I$13:I34)>$S$7,\"決定時間数を超過しています！\",\"\")))","v":""},0,0,{"$f":"SUM($S$13:S34)","v":0},0,0,{"$f":"IF(I34=0,0,CONCATENATE(VLOOKUP(I34+\"00:01\",'データ '!K:M,3,TRUE),\"/\",$W$11))","v":0}]
["",null,"",null,null,null,null,null,0,null,0,0,0,null,null,23,{"$f":"IF(A35=\"\",\"\",IF($A$13<>A35,\"月が異なります！\",IF(SUM($I$13:I35)>$S$7,\"決定時間数を超過しています！\",\"\")))","v":""},0,0,{"$f":"SUM($S$13:S35)","v":0},0,0,{"$f":"IF(I35=0,0,CONCATENATE(VLOOKUP(I35+\"00:01\",'データ '!K:M,3,TRUE),\"/\",$W$11))","v":0}]
["",null,"",null,null,null,null,null,0,null,0,0,0,null,null,24,{"$f":"IF(A36=\"\",\"\",IF($A$13<>A36,\"月が異なります！\",IF(SUM($I$13:I36)>$S$7,\"決定時間数を超過しています！\",\"\")))","v":""},0,0,{"$f":"SUM($S$13:S36)","v":0},0,0,{"$f":"IF(I36=0,0,CONCATENATE(VLOOKUP(I36+\"00:01\",'データ '!K:M,3,TRUE),\"/\",$W$11))","v":0}]
["",null,"",null,null,null,null,null,0,null,0,0,0,null,null,25,{"$f":"IF(A37=\"\",\"\",IF($A$13<>A37,\"月が異なります！\",IF(SUM($I$13:I37)>$S$7,\"決定時間数を超過しています！\",\"\")))","v":""},0,0,{"$f":"SUM($S$13:S37)","v":0},0,0,{"$f":"IF(I37=0,0,CONCATENATE(VLOOKUP(I37+\"00:01\",'データ '!K:M,3,TRUE),\"/\",$W$11))","v":0}]
["",null,"",null,null,null,null,null,0,null,0,0,0,null,null,26,{"$f":"IF(A38=\"\",\"\",IF($A$13<>A38,\"月が異なります！\",IF(SUM($I$13:I38)>$S$7,\"決定時間数を超過しています！\",\"\")))","v":""},0,0,{"$f":"SUM($S$13:S38)","v":0},0,0,{"$f":"IF(I38=0,0,CONCATENATE(VLOOKUP(I38+\"00:01\",'データ '!K:M,3,TRUE),\"/\",$W$11))","v":0}]
["",null,"",null,null,null,null,null,0,null,0,0,0,null,null,27,{"$f":"IF(A39=\"\",\"\",IF($A$13<>A39,\"月が異なります！\",IF(SUM($I$13:I39)>$S$7,\"決定時間数を超過しています！\",\"\")))","v":""},0,0,{"$f":"SUM($S$13:S39)","v":0},0,0,{"$f":"IF(I39=0,0,CONCATENATE(VLOOKUP(I39+\"00:01\",'データ '!K:M,3,TRUE),\"/\",$W$11))","v":0}]
["",null,"",null,null,null,null,null,0,null,0,0,0,null,null,28,{"$f":"IF(A40=\"\",\"\",IF($A$13<>A40,\"月が異なります！\",IF(SUM($I$13:I40)>$S$7,\"決定時間数を超過しています！\",\"\")))","v":""},0,0,{"$f":"SUM($S$13:S40)","v":0},0,0,{"$f":"IF(I40=0,0,CONCATENATE(VLOOKUP(I40+\"00:01\",'データ '!K:M,3,TRUE),\"/\",$W$11))","v":0}]
["",null,"",null,null,null,null,null,0,null,0,0,0,null,null,29,{"$f":"IF(A41=\"\",\"\",IF($A$13<>A41,\"月が異なります！\",IF(SUM($I$13:I41)>$S$7,\"決定時間数を超過しています！\",\"\")))","v":""},0,0,{"$f":"SUM($S$13:S41)","v":0},0,0,{"$f":"IF(I41=0,0,CONCATENATE(VLOOKUP(I41+\"00:01\",'データ '!K:M,3,TRUE),\"/\",$W$11))","v":0}]
["",null,"",null,null,null,null,null,0,null,0,0,0,null,null,30,{"$f":"IF(A42=\"\",\"\",IF($A$13<>A42,\"月が異なります！\",IF(SUM($I$13:I42)>$S$7,\"決定時間数を超過しています！\",\"\")))","v":""},0,0,{"$f":"SUM($S$13:S42)","v":0},0,0,{"$f":"IF(I42=0,0,CONCATENATE(VLOOKUP(I42+\"00:01\",'データ '!K:M,3,TRUE),\"/\",$W$11))","v":0}]
["",null,"",null,null,null,null,null,0,null,0,0,0,null,null,31,{"$f":"IF(A43=\"\",\"\",IF($A$13<>A43,\"月が異なります！\",IF(SUM($I$13:I43)>$S$7,\"決定時間数を超過しています！\",\"\")))","v":""},0,0,{"$f":"SUM($S$13:S43)","v":0},0,0,{"$f":"IF(I43=0,0,CONCATENATE(VLOOKUP(I43+\"00:01\",'データ '!K:M,3,TRUE),\"/\",$W$11))","v":0}]
["合計",null,null,null,null,null,null,null,{"$f":"SUM(I13:I43)","v":0},null,{"$f":"SUM(K13:K43)","v":0},{"$f":"SUM(L13:L43)","v":0},{"$f":"SUM(M13:M43)","v":0},null,null,null,null,null,null,null,null,null,{"$f":"IF(I44>=$X$8,$Y$9,IF(AND(I44<$X$8,I44>=$X$7),$Y$8,IF(I44<$X$7,$Y$7)))&$W$11","v":"無"}]

{"sheet":"19","index":24,"n_rows":44,"n_cols":23,"rows_kept":44,"cut":false,"hidden":false,"merged":[[10,19,11,19],[10,20,11,20],[10,21,11,21],[43,0,43,7],[10,9,11,9],[10,10,11,10],[10,11,11,11],[10,12,11,12],[10,13,11,13],[10,14,11,14],[10,0,10,2],[10,3,10,5],[10,6,10,7],[10,8,11,8],[10,16,11,16],[6,16,8,16],[7,0,7,4],[7,5,7,6],[7,7,7,8],[8,0,8,4],[6,0,6,2],[6,3,6,4],[6,6,6,7],[6,9,8,10],[6,11,8,14],[8,5,8,6],[8,7,8,8],[4,11,4,14],[5,11,5,14],[3,1,3,4],[4,0,5,2],[4,3,5,5],[4,6,5,7],[4,8,5,10],[3,5,3,14]]}
[null,"№",19]
[]
[]
[null,{"$f":"EOMONTH(B13,0)","v":"1900-01-31"},null,null,null,"鎌ケ谷市移動支援サービス提供実績記録票"]
["登録番号",null,null,{"$f":"VLOOKUP($C$1,利用者情報!A:U,COLUMN(利用者情報!B3),FALSE)","v":0},null,null,"支給決定障がい者等氏名\n（児童氏名）",null,{"$f":"VLOOKUP($C$1,利用者情報!A:U,COLUMN(利用者情報!C1),FALSE)","v":0},null,null,"事業所登録番号"]
[null,null,null,null,null,null,null,null,null,null,null,{"$f":"請求事業者!B3","v":0},null,null,null,null,"コメント",null,"決定時間数"]
["契約支給量",null,null,"身体介護を\n伴う",null,{"$f":"IF(VLOOKUP(C1,利用者情報!A:G,5)=\"有\",CONCATENATE(VLOOKUP(C1,利用者情報!A:G,4)&\"時間\"),\"\")","v":""},"身体介護を\n伴わない",null,{"$f":"IF(VLOOKUP(C1,利用者情報!A:G,5)<>\"有\",CONCATENATE(VLOOKUP(C1,利用者情報!A:G,4)&\"時間\"),\"\")","v":"時間"},"事業所及び\nその事業所",null,{"$f":"請求事業者!B7","v":0},null,null,null,null,{"$f":"利用者情報!J4","v":""},null,{"$f":"IF(F7=\"\",I7,F7)","v":"時間"}]
["利用者負担の有無",null,null,null,null,"利用者の負担割合",null,"利用者負担上限額"]
[{"$f":"VLOOKUP($C$1,利用者情報!A:U,COLUMN(利用者情報!F3),FALSE)","v":0},null,null,null,null,{"$f":"IF(A9=\"有\",\"1割\",\"0割\")","v":"0割"},null,{"$f":"VLOOKUP($C$1,利用者情報!A:U,COLUMN(利用者情報!G3),FALSE)","v":0},null,null,null,null,null,null,null,null,null,null,null,null,null,null,{"$f":"請求事業者!C9","v":5}]
[null,null,null,null,null,null,null,null,null,null,null,null,null,null,null,null,null,null,null,null,null,null,"便宜上区分"]
["日付",null,null,"支援計画",null,null,null,null,"算定\n時間","派遣\n人数","算定額","利用者\n負担額","請求額","サービス\n提供者印","利用者\n確認印",null,"コメント",null,null,"利用者負担額\n累計","上限到達フラグ","上限達成時の利用者負担額",{"$f":"IF(F7=\"\",\"無\",\"有\")","v":"無"}]
["月","日","曜日","開始\n時間","終了\n時間","計画\n時間数","開始\n時間","終了\n時間",null,null,null,null,null,null,null,null,null,"請求額","利用者\n負担額",null,null,null,{"$f":"IF(A9=\"有\",\"（9割）\",\"\")","v":""}]
[{"$f":"IF(B13=\"\",\"\",TEXT(B13,\"m\"))","v":""},null,{"$f":"IF(B13=\"\",\"\",B13)","v":""},null,null,null,null,null,{"$f":"H13-G13","v":0},null,{"$f":"IF($H13=0,0,INDEX(単価,MATCH(W13,時間,0),MATCH($W$9,地域区分,0)))","v":0},{"$f":"IF(U13=0,S13,V13)","v":0},{"$f":"K13-L13","v":0},null,null,1,{"$f":"IF(A13=\"\",\"\",IF($A$13<>A13,\"月が異なります！\",IF(SUM($I$13:I13)>$S$7,\"決定時間数を超過しています！\",\"\")))","v":""},{"$f":"IF(I13=0,0,INDEX(単価,MATCH(W13,時間,0),MATCH(IF(W12=\"\",W9,W9&W12),地域区分,0)))","v":0},{"$f":"K13-R13","v":0},{"$f":"SUM($S$13:S13)","v":0},null,null,{"$f":"IF(I13=0,0,CONCATENATE(VLOOKUP(I13+\"00:01\",'データ '!K:M,3,TRUE),\"/\",$W$11))","v":0}]
[{"$f":"IF(B14=\"\",\"\",TEXT(B14,\"m\"))","v":""},null,{"$f":"IF(B14=\"\",\"\",B14)","v":""},null,null,null,null,null,{"$f":"H14-G14","v":0},null,{"$f":"IF($H14=0,0,INDEX(単価,MATCH(W14,時間,0),MATCH($W$9,地域区分,0)))","v":0},{"$f":"IF(U14=0,S14,V14)","v":0},{"$f":"K14-L14","v":0},null,null,2,{"$f":"IF(A14=\"\",\"\",IF($A$13<>A14,\"月が異なります！\",IF(SUM($I$13:I14)>$S$7,\"決定時間数を超過しています！\",\"\")))","v":""},{"$f":"IF(AND($H14=0),0,IF($A$9=\"有\",INDEX(単価,MATCH(W14,時間,0),MATCH($W$9&$W$12,地域区分,0)),INDEX(単価,MATCH(W14,時間,0),MATCH($W$9,地域区分,0))))","v":0},{"$f":"K14-R14","v":0},{"$f":"SUM($S$13:S14)","v":0},{"$f":"IF(AND(T13<$H$9,T14>$H$9),1,IF(T14>$H$9,2,0))","v":0},{"$f":"IF(U14=1,$H$9-T13,0)","v":0},{"$f":"IF(I14=0,0,CONCATENATE(VLOOKUP(I14+\"00:01\",'データ '!K:M,3,TRUE),\"/\",$W$11))","v":0}]
["",null,"",null,null,null,null,null,0,null,0,{"$f":"IF(U15=0,S15,V15)","v":0},{"$f":"K15-L15","v":0},null,null,3,{"$f":"IF(A15=\"\",\"\",IF($A$13<>A15,\"月が異なります！\",IF(SUM($I$13:I15)>$S$7,\"決定時間数を超過しています！\",\"\")))","v":""},0,0,{"$f":"SUM($S$13:S15)","v":0},{"$f":"IF(AND(T14<$H$9,T15>$H$9),1,IF(T15>$H$9,2,0))","v":0},{"$f":"IF(U15=1,$H$9-T14,0)","v":0},{"$f":"IF(I15=0,0,CONCATENATE(VLOOKUP(I15+\"00:01\",'データ '!K:M,3,TRUE),\"/\",$W$11))","v":0}]
["",null,"",null,null,null,null,null,0,null,0,0,0,null,null,4,{"$f":"IF(A16=\"\",\"\",IF($A$13<>A16,\"月が異なります！\",IF(SUM($I$13:I16)>$S$7,\"決定時間数を超過しています！\",\"\")))","v":""},0,0,{"$f":"SUM($S$13:S16)","v":0},0,0,{"$f":"IF(I16=0,0,CONCATENATE(VLOOKUP(I16+\"00:01\",'データ '!K:M,3,TRUE),\"/\",$W$11))","v":0}]
["",null,"",null,null,null,null,null,0,null,0,0,0,null,null,5,{"$f":"IF(A17=\"\",\"\",IF($A$13<>A17,\"月が異なります！\",IF(SUM($I$13:I17)>$S$7,\"決定時間数を超過しています！\",\"\")))","v":""},0,0,{"$f":"SUM($S$13:S17)","v":0},0,0,{"$f":"IF(I17=0,0,CONCATENATE(VLOOKUP(I17+\"00:01\",'データ '!K:M,3,TRUE),\"/\",$W$11))","v":0}]
["",null,"",null,null,null,null,null,0,null,0,0,0,null,null,6,{"$f":"IF(A18=\"\",\"\",IF($A$13<>A18,\"月が異なります！\",IF(SUM($I$13:I18)>$S$7,\"決定時間数を超過しています！\",\"\")))","v":""},0,0,{"$f":"SUM($S$13:S18)","v":0},0,0,{"$f":"IF(I18=0,0,CONCATENATE(VLOOKUP(I18+\"00:01\",'データ '!K:M,3,TRUE),\"/\",$W$11))","v":0}]
["",null,"",null,null,null,null,null,0,null,0,0,0,null,null,7,{"$f":"IF(A19=\"\",\"\",IF($A$13<>A19,\"月が異なります！\",IF(SUM($I$13:I19)>$S$7,\"決定時間数を超過しています！\",\"\")))","v":""},0,0,{"$f":"SUM($S$13:S19)","v":0},0,0,{"$f":"IF(I19=0,0,CONCATENATE(VLOOKUP(I19+\"00:01\",'データ '!K:M,3,TRUE),\"/\",$W$11))","v":0}]
["",null,"",null,null,null,null,null,0,null,0,0,0,null,null,8,{"$f":"IF(A20=\"\",\"\",IF($A$13<>A20,\"月が異なります！\",IF(SUM($I$13:I20)>$S$7,\"決定時間数を超過しています！\",\"\")))","v":""},0,0,{"$f":"SUM($S$13:S20)","v":0},0,0,{"$f":"IF(I20=0,0,CONCATENATE(VLOOKUP(I20+\"00:01\",'データ '!K:M,3,TRUE),\"/\",$W$11))","v":0}]
["",null,"",null,null,null,null,null,0,null,0,{"$f":"IF(U21=0,S21,V21)","v":0},0,null,null,9,{"$f":"IF(A21=\"\",\"\",IF($A$13<>A21,\"月が異なります！\",IF(SUM($I$13:I21)>$S$7,\"決定時間数を超過しています！\",\"\")))","v":""},0,0,{"$f":"SUM($S$13:S21)","v":0},0,0,{"$f":"IF(I21=0,0,CONCATENATE(VLOOKUP(I21+\"00:01\",'データ '!K:M,3,TRUE),\"/\",$W$11))","v":0}]
["",null,"",null,null,null,null,null,0,null,0,{"$f":"IF(U22=0,S22,V22)","v":0},0,null,null,10,{"$f":"IF(A22=\"\",\"\",IF($A$13<>A22,\"月が異なります！\",IF(SUM($I$13:I22)>$S$7,\"決定時間数を超過しています！\",\"\")))","v":""},0,{"$f":"K22-R22","v":0},{"$f":"SUM($S$13:S22)","v":0},0,0,{"$f":"IF(I22=0,0,CONCATENATE(VLOOKUP(I22+\"00:01\",'データ '!K:M,3,TRUE),\"/\",$W$11))","v":0}]
["",null,"",null,null,null,null,null,0,null,0,0,0,null,null,11,{"$f":"IF(A23=\"\",\"\",IF($A$13<>A23,\"月が異なります！\",IF(SUM($I$13:I23)>$S$7,\"決定時間数を超過しています！\",\"\")))","v":""},0,0,{"$f":"SUM($S$13:S23)","v":0},0,0,{"$f":"IF(I23=0,0,CONCATENATE(VLOOKUP(I23+\"00:01\",'データ '!K:M,3,TRUE),\"/\",$W$11))","v":0}]
["",null,"",null,null,null,null,null,0,null,0,0,0,null,null,12,{"$f":"IF(A24=\"\",\"\",IF($A$13<>A24,\"月が異なります！\",IF(SUM($I$13:I24)>$S$7,\"決定時間数を超過しています！\",\"\")))","v":""},0,0,{"$f":"SUM($S$13:S24)","v":0},0,0,{"$f":"IF(I24=0,0,CONCATENATE(VLOOKUP(I24+\"00:01\",'データ '!K:M,3,TRUE),\"/\",$W$11))","v":0}]
["",null,"",null,null,null,null,null,0,null,0,0,0,null,null,13,{"$f":"IF(A25=\"\",\"\",IF($A$13<>A25,\"月が異なります！\",IF(SUM($I$13:I25)>$S$7,\"決定時間数を超過しています！\",\"\")))","v":""},0,0,{"$f":"SUM($S$13:S25)","v":0},0,0,{"$f":"IF(I25=0,0,CONCATENATE(VLOOKUP(I25+\"00:01\",'データ '!K:M,3,TRUE),\"/\",$W$11))","v":0}]
["",null,"",null,null,null,null,null,0,null,0,0,0,null,null,14,{"$f":"IF(A26=\"\",\"\",IF($A$13<>A26,\"月が異なります！\",IF(SUM($I$13:I26)>$S$7,\"決定時間数を超過しています！\",\"\")))","v":""},0,0,{"$f":"SUM($S$13:S26)","v":0},0,0,{"$f":"IF(I26=0,0,CONCATENATE(VLOOKUP(I26+\"00:01\",'データ '!K:M,3,TRUE),\"/\",$W$11))","v":0}]
["",null,"",null,null,null,null,null,0,null,0,0,0,null,null,15,{"$f":"IF(A27=\"\",\"\",IF($A$13<>A27,\"月が異なります！\",IF(SUM($I$13:I27)>$S$7,\"決定時間数を超過しています！\",\"\")))","v":""},0,0,{"$f":"SUM($S$13:S27)","v":0},0,0,{"$f":"IF(I27=0,0,CONCATENATE(VLOOKUP(I27+\"00:01\",'データ '!K:M,3,TRUE),\"/\",$W$11))","v":0}]
["",null,"",null,null,null,null,null,0,null,0,0,0,null,null,16,{"$f":"IF(A28=\"\",\"\",IF($A$13<>A28,\"月が異なります！\",IF(SUM($I$13:I28)>$S$7,\"決定時間数を超過しています！\",\"\")))","v":""},0,0,{"$f":"SUM($S$13:S28)","v":0},0,0,{"$f":"IF(I28=0,0,CONCATENATE(VLOOKUP(I28+\"00:01\",'データ '!K:M,3,TRUE),\"/\",$W$11))","v":0}]
["",null,"",null,null,null,null,null,0,null,0,0,0,null,null,17,{"$f":"IF(A29=\"\",\"\",IF($A$13<>A29,\"月が異なります！\",IF(SUM($I$13:I29)>$S$7,\"決定時間数を超過しています！\",\"\")))","v":""},0,0,{"$f":"SUM($S$13:S29)","v":0},0,0,{"$f":"IF(I29=0,0,CONCATENATE(VLOOKUP(I29+\"00:01\",'データ '!K:M,3,TRUE),\"/\",$W$11))","v":0}]
["",null,"",null,null,null,null,null,0,null,0,0,0,null,null,18,{"$f":"IF(A30=\"\",\"\",IF($A$13<>A30,\"月が異なります！\",IF(SUM($I$13:I30)>$S$7,\"決定時間数を超過しています！\",\"\")))","v":""},0,0,{"$f":"SUM($S$13:S30)","v":0},0,0,{"$f":"IF(I30=0,0,CONCATENATE(VLOOKUP(I30+\"00:01\",'データ '!K:M,3,TRUE),\"/\",$W$11))","v":0}]
["",null,"",null,null,null,null,null,0,null,0,0,0,null,null,19,{"$f":"IF(A31=\"\",\"\",IF($A$13<>A31,\"月が異なります！\",IF(SUM($I$13:I31)>$S$7,\"決定時間数を超過しています！\",\"\")))","v":""},0,0,{"$f":"SUM($S$13:S31)","v":0},0,0,{"$f":"IF(I31=0,0,CONCATENATE(VLOOKUP(I31+\"00:01\",'データ '!K:M,3,TRUE),\"/\",$W$11))","v":0}]
["",null,"",null,null,null,null,null,0,null,0,0,0,null,null,20,{"$f":"IF(A32=\"\",\"\",IF($A$13<>A32,\"月が異なります！\",IF(SUM($I$13:I32)>$S$7,\"決定時間数を超過しています！\",\"\")))","v":""},0,0,{"$f":"SUM($S$13:S32)","v":0},0,0,{"$f":"IF(I32=0,0,CONCATENATE(VLOOKUP(I32+\"00:01\",'データ '!K:M,3,TRUE),\"/\",$W$11))","v":0}]
["",null,"",null,null,null,null,null,0,null,0,0,0,null,null,21,{"$f":"IF(A33=\"\",\"\",IF($A$13<>A33,\"月が異なります！\",IF(SUM($I$13:I33)>$S$7,\"決定時間数を超過しています！\",\"\")))","v":""},0,0,{"$f":"SUM($S$13:S33)","v":0},0,0,{"$f":"IF(I33=0,0,CONCATENATE(VLOOKUP(I33+\"00:01\",'データ '!K:M,3,TRUE),\"/\",$W$11))","v":0}]
["",null,"",null,null,null,null,null,0,null,0,0,0,null,null,22,{"$f":"IF(A34=\"\",\"\",IF($A$13<>A34,\"月が異なります！\",IF(SUM($I$13:I34)>$S$7,\"決定時間数を超過しています！\",\"\")))","v":""},0,0,{"$f":"SUM($S$13:S34)","v":0},0,0,{"$f":"IF(I34=0,0,CONCATENATE(VLOOKUP(I34+\"00:01\",'データ '!K:M,3,TRUE),\"/\",$W$11))","v":0}]
["",null,"",null,null,null,null,null,0,null,0,0,0,null,null,23,{"$f":"IF(A35=\"\",\"\",IF($A$13<>A35,\"月が異なります！\",IF(SUM($I$13:I35)>$S$7,\"決定時間数を超過しています！\",\"\")))","v":""},0,0,{"$f":"SUM($S$13:S35)","v":0},0,0,{"$f":"IF(I35=0,0,CONCATENATE(VLOOKUP(I35+\"00:01\",'データ '!K:M,3,TRUE),\"/\",$W$11))","v":0}]
["",null,"",null,null,null,null,null,0,null,0,0,0,null,null,24,{"$f":"IF(A36=\"\",\"\",IF($A$13<>A36,\"月が異なります！\",IF(SUM($I$13:I36)>$S$7,\"決定時間数を超過しています！\",\"\")))","v":""},0,0,{"$f":"SUM($S$13:S36)","v":0},0,0,{"$f":"IF(I36=0,0,CONCATENATE(VLOOKUP(I36+\"00:01\",'データ '!K:M,3,TRUE),\"/\",$W$11))","v":0}]
["",null,"",null,null,null,null,null,0,null,0,0,0,null,null,25,{"$f":"IF(A37=\"\",\"\",IF($A$13<>A37,\"月が異なります！\",IF(SUM($I$13:I37)>$S$7,\"決定時間数を超過しています！\",\"\")))","v":""},0,0,{"$f":"SUM($S$13:S37)","v":0},0,0,{"$f":"IF(I37=0,0,CONCATENATE(VLOOKUP(I37+\"00:01\",'データ '!K:M,3,TRUE),\"/\",$W$11))","v":0}]
["",null,"",null,null,null,null,null,0,null,0,0,0,null,null,26,{"$f":"IF(A38=\"\",\"\",IF($A$13<>A38,\"月が異なります！\",IF(SUM($I$13:I38)>$S$7,\"決定時間数を超過しています！\",\"\")))","v":""},0,0,{"$f":"SUM($S$13:S38)","v":0},0,0,{"$f":"IF(I38=0,0,CONCATENATE(VLOOKUP(I38+\"00:01\",'データ '!K:M,3,TRUE),\"/\",$W$11))","v":0}]
["",null,"",null,null,null,null,null,0,null,0,0,0,null,null,27,{"$f":"IF(A39=\"\",\"\",IF($A$13<>A39,\"月が異なります！\",IF(SUM($I$13:I39)>$S$7,\"決定時間数を超過しています！\",\"\")))","v":""},0,0,{"$f":"SUM($S$13:S39)","v":0},0,0,{"$f":"IF(I39=0,0,CONCATENATE(VLOOKUP(I39+\"00:01\",'データ '!K:M,3,TRUE),\"/\",$W$11))","v":0}]
["",null,"",null,null,null,null,null,0,null,0,0,0,null,null,28,{"$f":"IF(A40=\"\",\"\",IF($A$13<>A40,\"月が異なります！\",IF(SUM($I$13:I40)>$S$7,\"決定時間数を超過しています！\",\"\")))","v":""},0,0,{"$f":"SUM($S$13:S40)","v":0},0,0,{"$f":"IF(I40=0,0,CONCATENATE(VLOOKUP(I40+\"00:01\",'データ '!K:M,3,TRUE),\"/\",$W$11))","v":0}]
["",null,"",null,null,null,null,null,0,null,0,0,0,null,null,29,{"$f":"IF(A41=\"\",\"\",IF($A$13<>A41,\"月が異なります！\",IF(SUM($I$13:I41)>$S$7,\"決定時間数を超過しています！\",\"\")))","v":""},0,0,{"$f":"SUM($S$13:S41)","v":0},0,0,{"$f":"IF(I41=0,0,CONCATENATE(VLOOKUP(I41+\"00:01\",'データ '!K:M,3,TRUE),\"/\",$W$11))","v":0}]
["",null,"",null,null,null,null,null,0,null,0,0,0,null,null,30,{"$f":"IF(A42=\"\",\"\",IF($A$13<>A42,\"月が異なります！\",IF(SUM($I$13:I42)>$S$7,\"決定時間数を超過しています！\",\"\")))","v":""},0,0,{"$f":"SUM($S$13:S42)","v":0},0,0,{"$f":"IF(I42=0,0,CONCATENATE(VLOOKUP(I42+\"00:01\",'データ '!K:M,3,TRUE),\"/\",$W$11))","v":0}]
["",null,"",null,null,null,null,null,0,null,0,0,0,null,null,31,{"$f":"IF(A43=\"\",\"\",IF($A$13<>A43,\"月が異なります！\",IF(SUM($I$13:I43)>$S$7,\"決定時間数を超過しています！\",\"\")))","v":""},0,0,{"$f":"SUM($S$13:S43)","v":0},0,0,{"$f":"IF(I43=0,0,CONCATENATE(VLOOKUP(I43+\"00:01\",'データ '!K:M,3,TRUE),\"/\",$W$11))","v":0}]
["合計",null,null,null,null,null,null,null,{"$f":"SUM(I13:I43)","v":0},null,{"$f":"SUM(K13:K43)","v":0},{"$f":"SUM(L13:L43)","v":0},{"$f":"SUM(M13:M43)","v":0},null,null,null,null,null,null,null,null,null,{"$f":"IF(I44>=$X$8,$Y$9,IF(AND(I44<$X$8,I44>=$X$7),$Y$8,IF(I44<$X$7,$Y$7)))&$W$11","v":"無"}]

{"sheet":"20","index":25,"n_rows":44,"n_cols":23,"rows_kept":44,"cut":false,"hidden":false,"merged":[[10,19,11,19],[10,20,11,20],[10,21,11,21],[43,0,43,7],[10,9,11,9],[10,10,11,10],[10,11,11,11],[10,12,11,12],[10,13,11,13],[10,14,11,14],[10,0,10,2],[10,3,10,5],[10,6,10,7],[10,8,11,8],[10,16,11,16],[6,16,8,16],[7,0,7,4],[7,5,7,6],[7,7,7,8],[8,0,8,4],[6,0,6,2],[6,3,6,4],[6,6,6,7],[6,9,8,10],[6,11,8,14],[8,5,8,6],[8,7,8,8],[4,11,4,14],[5,11,5,14],[3,1,3,4],[4,0,5,2],[4,3,5,5],[4,6,5,7],[4,8,5,10],[3,5,3,14]]}
[null,"№",20]
[]
[]
[null,{"$f":"EOMONTH(B13,0)","v":"1900-01-31"},null,null,null,"鎌ケ谷市移動支援サービス提供実績記録票"]
["登録番号",null,null,{"$f":"VLOOKUP($C$1,利用者情報!A:U,COLUMN(利用者情報!B3),FALSE)","v":0},null,null,"支給決定障がい者等氏名\n（児童氏名）",null,{"$f":"VLOOKUP($C$1,利用者情報!A:U,COLUMN(利用者情報!C1),FALSE)","v":0},null,null,"事業所登録番号"]
[null,null,null,null,null,null,null,null,null,null,null,{"$f":"請求事業者!B3","v":0},null,null,null,null,"コメント",null,"決定時間数"]
["契約支給量",null,null,"身体介護を\n伴う",null,{"$f":"IF(VLOOKUP(C1,利用者情報!A:G,5)=\"有\",CONCATENATE(VLOOKUP(C1,利用者情報!A:G,4)&\"時間\"),\"\")","v":""},"身体介護を\n伴わない",null,{"$f":"IF(VLOOKUP(C1,利用者情報!A:G,5)<>\"有\",CONCATENATE(VLOOKUP(C1,利用者情報!A:G,4)&\"時間\"),\"\")","v":"時間"},"事業所及び\nその事業所",null,{"$f":"請求事業者!B7","v":0},null,null,null,null,{"$f":"利用者情報!J4","v":""},null,{"$f":"IF(F7=\"\",I7,F7)","v":"時間"}]
["利用者負担の有無",null,null,null,null,"利用者の負担割合",null,"利用者負担上限額"]
[{"$f":"VLOOKUP($C$1,利用者情報!A:U,COLUMN(利用者情報!F3),FALSE)","v":0},null,null,null,null,{"$f":"IF(A9=\"有\",\"1割\",\"0割\")","v":"0割"},null,{"$f":"VLOOKUP($C$1,利用者情報!A:U,COLUMN(利用者情報!G3),FALSE)","v":0},null,null,null,null,null,null,null,null,null,null,null,null,null,null,{"$f":"請求事業者!C9","v":5}]
[null,null,null,null,null,null,null,null,null,null,null,null,null,null,null,null,null,null,null,null,null,null,"便宜上区分"]
["日付",null,null,"支援計画",null,null,null,null,"算定\n時間","派遣\n人数","算定額","利用者\n負担額","請求額","サービス\n提供者印","利用者\n確認印",null,"コメント",null,null,"利用者負担額\n累計","上限到達フラグ","上限達成時の利用者負担額",{"$f":"IF(F7=\"\",\"無\",\"有\")","v":"無"}]
["月","日","曜日","開始\n時間","終了\n時間","計画\n時間数","開始\n時間","終了\n時間",null,null,null,null,null,null,null,null,null,"請求額","利用者\n負担額",null,null,null,{"$f":"IF(A9=\"有\",\"（9割）\",\"\")","v":""}]
[{"$f":"IF(B13=\"\",\"\",TEXT(B13,\"m\"))","v":""},null,{"$f":"IF(B13=\"\",\"\",B13)","v":""},null,null,null,null,null,{"$f":"H13-G13","v":0},null,{"$f":"IF($H13=0,0,INDEX(単価,MATCH(W13,時間,0),MATCH($W$9,地域区分,0)))","v":0},{"$f":"IF(U13=0,S13,V13)","v":0},{"$f":"K13-L13","v":0},null,null,1,{"$f":"IF(A13=\"\",\"\",IF($A$13<>A13,\"月が異なります！\",IF(SUM($I$13:I13)>$S$7,\"決定時間数を超過しています！\",\"\")))","v":""},{"$f":"IF(I13=0,0,INDEX(単価,MATCH(W13,時間,0),MATCH(IF(W12=\"\",W9,W9&W12),地域区分,0)))","v":0},{"$f":"K13-R13","v":0},{"$f":"SUM($S$13:S13)","v":0},null,null,{"$f":"IF(I13=0,0,CONCATENATE(VLOOKUP(I13+\"00:01\",'データ '!K:M,3,TRUE),\"/\",$W$11))","v":0}]
[{"$f":"IF(B14=\"\",\"\",TEXT(B14,\"m\"))","v":""},null,{"$f":"IF(B14=\"\",\"\",B14)","v":""},null,null,null,null,null,{"$f":"H14-G14","v":0},null,{"$f":"IF($H14=0,0,INDEX(単価,MATCH(W14,時間,0),MATCH($W$9,地域区分,0)))","v":0},{"$f":"IF(U14=0,S14,V14)","v":0},{"$f":"K14-L14","v":0},null,null,2,{"$f":"IF(A14=\"\",\"\",IF($A$13<>A14,\"月が異なります！\",IF(SUM($I$13:I14)>$S$7,\"決定時間数を超過しています！\",\"\")))","v":""},{"$f":"IF(AND($H14=0),0,IF($A$9=\"有\",INDEX(単価,MATCH(W14,時間,0),MATCH($W$9&$W$12,地域区分,0)),INDEX(単価,MATCH(W14,時間,0),MATCH($W$9,地域区分,0))))","v":0},{"$f":"K14-R14","v":0},{"$f":"SUM($S$13:S14)","v":0},{"$f":"IF(AND(T13<$H$9,T14>$H$9),1,IF(T14>$H$9,2,0))","v":0},{"$f":"IF(U14=1,$H$9-T13,0)","v":0},{"$f":"IF(I14=0,0,CONCATENATE(VLOOKUP(I14+\"00:01\",'データ '!K:M,3,TRUE),\"/\",$W$11))","v":0}]
["",null,"",null,null,null,null,null,0,null,0,{"$f":"IF(U15=0,S15,V15)","v":0},{"$f":"K15-L15","v":0},null,null,3,{"$f":"IF(A15=\"\",\"\",IF($A$13<>A15,\"月が異なります！\",IF(SUM($I$13:I15)>$S$7,\"決定時間数を超過しています！\",\"\")))","v":""},0,0,{"$f":"SUM($S$13:S15)","v":0},{"$f":"IF(AND(T14<$H$9,T15>$H$9),1,IF(T15>$H$9,2,0))","v":0},{"$f":"IF(U15=1,$H$9-T14,0)","v":0},{"$f":"IF(I15=0,0,CONCATENATE(VLOOKUP(I15+\"00:01\",'データ '!K:M,3,TRUE),\"/\",$W$11))","v":0}]
["",null,"",null,null,null,null,null,0,null,0,0,0,null,null,4,{"$f":"IF(A16=\"\",\"\",IF($A$13<>A16,\"月が異なります！\",IF(SUM($I$13:I16)>$S$7,\"決定時間数を超過しています！\",\"\")))","v":""},0,0,{"$f":"SUM($S$13:S16)","v":0},0,0,{"$f":"IF(I16=0,0,CONCATENATE(VLOOKUP(I16+\"00:01\",'データ '!K:M,3,TRUE),\"/\",$W$11))","v":0}]
["",null,"",null,null,null,null,null,0,null,0,0,0,null,null,5,{"$f":"IF(A17=\"\",\"\",IF($A$13<>A17,\"月が異なります！\",IF(SUM($I$13:I17)>$S$7,\"決定時間数を超過しています！\",\"\")))","v":""},0,0,{"$f":"SUM($S$13:S17)","v":0},0,0,{"$f":"IF(I17=0,0,CONCATENATE(VLOOKUP(I17+\"00:01\",'データ '!K:M,3,TRUE),\"/\",$W$11))","v":0}]
["",null,"",null,null,null,null,null,0,null,0,0,0,null,null,6,{"$f":"IF(A18=\"\",\"\",IF($A$13<>A18,\"月が異なります！\",IF(SUM($I$13:I18)>$S$7,\"決定時間数を超過しています！\",\"\")))","v":""},0,0,{"$f":"SUM($S$13:S18)","v":0},0,0,{"$f":"IF(I18=0,0,CONCATENATE(VLOOKUP(I18+\"00:01\",'データ '!K:M,3,TRUE),\"/\",$W$11))","v":0}]
["",null,"",null,null,null,null,null,0,null,0,0,0,null,null,7,{"$f":"IF(A19=\"\",\"\",IF($A$13<>A19,\"月が異なります！\",IF(SUM($I$13:I19)>$S$7,\"決定時間数を超過しています！\",\"\")))","v":""},0,0,{"$f":"SUM($S$13:S19)","v":0},0,0,{"$f":"IF(I19=0,0,CONCATENATE(VLOOKUP(I19+\"00:01\",'データ '!K:M,3,TRUE),\"/\",$W$11))","v":0}]
["",null,"",null,null,null,null,null,0,null,0,0,0,null,null,8,{"$f":"IF(A20=\"\",\"\",IF($A$13<>A20,\"月が異なります！\",IF(SUM($I$13:I20)>$S$7,\"決定時間数を超過しています！\",\"\")))","v":""},0,0,{"$f":"SUM($S$13:S20)","v":0},0,0,{"$f":"IF(I20=0,0,CONCATENATE(VLOOKUP(I20+\"00:01\",'データ '!K:M,3,TRUE),\"/\",$W$11))","v":0}]
["",null,"",null,null,null,null,null,0,null,0,{"$f":"IF(U21=0,S21,V21)","v":0},0,null,null,9,{"$f":"IF(A21=\"\",\"\",IF($A$13<>A21,\"月が異なります！\",IF(SUM($I$13:I21)>$S$7,\"決定時間数を超過しています！\",\"\")))","v":""},0,0,{"$f":"SUM($S$13:S21)","v":0},0,0,{"$f":"IF(I21=0,0,CONCATENATE(VLOOKUP(I21+\"00:01\",'データ '!K:M,3,TRUE),\"/\",$W$11))","v":0}]
["",null,"",null,null,null,null,null,0,null,0,{"$f":"IF(U22=0,S22,V22)","v":0},0,null,null,10,{"$f":"IF(A22=\"\",\"\",IF($A$13<>A22,\"月が異なります！\",IF(SUM($I$13:I22)>$S$7,\"決定時間数を超過しています！\",\"\")))","v":""},0,{"$f":"K22-R22","v":0},{"$f":"SUM($S$13:S22)","v":0},0,0,{"$f":"IF(I22=0,0,CONCATENATE(VLOOKUP(I22+\"00:01\",'データ '!K:M,3,TRUE),\"/\",$W$11))","v":0}]
["",null,"",null,null,null,null,null,0,null,0,0,0,null,null,11,{"$f":"IF(A23=\"\",\"\",IF($A$13<>A23,\"月が異なります！\",IF(SUM($I$13:I23)>$S$7,\"決定時間数を超過しています！\",\"\")))","v":""},0,0,{"$f":"SUM($S$13:S23)","v":0},0,0,{"$f":"IF(I23=0,0,CONCATENATE(VLOOKUP(I23+\"00:01\",'データ '!K:M,3,TRUE),\"/\",$W$11))","v":0}]
["",null,"",null,null,null,null,null,0,null,0,0,0,null,null,12,{"$f":"IF(A24=\"\",\"\",IF($A$13<>A24,\"月が異なります！\",IF(SUM($I$13:I24)>$S$7,\"決定時間数を超過しています！\",\"\")))","v":""},0,0,{"$f":"SUM($S$13:S24)","v":0},0,0,{"$f":"IF(I24=0,0,CONCATENATE(VLOOKUP(I24+\"00:01\",'データ '!K:M,3,TRUE),\"/\",$W$11))","v":0}]
["",null,"",null,null,null,null,null,0,null,0,0,0,null,null,13,{"$f":"IF(A25=\"\",\"\",IF($A$13<>A25,\"月が異なります！\",IF(SUM($I$13:I25)>$S$7,\"決定時間数を超過しています！\",\"\")))","v":""},0,0,{"$f":"SUM($S$13:S25)","v":0},0,0,{"$f":"IF(I25=0,0,CONCATENATE(VLOOKUP(I25+\"00:01\",'データ '!K:M,3,TRUE),\"/\",$W$11))","v":0}]
["",null,"",null,null,null,null,null,0,null,0,0,0,null,null,14,{"$f":"IF(A26=\"\",\"\",IF($A$13<>A26,\"月が異なります！\",IF(SUM($I$13:I26)>$S$7,\"決定時間数を超過しています！\",\"\")))","v":""},0,0,{"$f":"SUM($S$13:S26)","v":0},0,0,{"$f":"IF(I26=0,0,CONCATENATE(VLOOKUP(I26+\"00:01\",'データ '!K:M,3,TRUE),\"/\",$W$11))","v":0}]
["",null,"",null,null,null,null,null,0,null,0,0,0,null,null,15,{"$f":"IF(A27=\"\",\"\",IF($A$13<>A27,\"月が異なります！\",IF(SUM($I$13:I27)>$S$7,\"決定時間数を超過しています！\",\"\")))","v":""},0,0,{"$f":"SUM($S$13:S27)","v":0},0,0,{"$f":"IF(I27=0,0,CONCATENATE(VLOOKUP(I27+\"00:01\",'データ '!K:M,3,TRUE),\"/\",$W$11))","v":0}]
["",null,"",null,null,null,null,null,0,null,0,0,0,null,null,16,{"$f":"IF(A28=\"\",\"\",IF($A$13<>A28,\"月が異なります！\",IF(SUM($I$13:I28)>$S$7,\"決定時間数を超過しています！\",\"\")))","v":""},0,0,{"$f":"SUM($S$13:S28)","v":0},0,0,{"$f":"IF(I28=0,0,CONCATENATE(VLOOKUP(I28+\"00:01\",'データ '!K:M,3,TRUE),\"/\",$W$11))","v":0}]
["",null,"",null,null,null,null,null,0,null,0,0,0,null,null,17,{"$f":"IF(A29=\"\",\"\",IF($A$13<>A29,\"月が異なります！\",IF(SUM($I$13:I29)>$S$7,\"決定時間数を超過しています！\",\"\")))","v":""},0,0,{"$f":"SUM($S$13:S29)","v":0},0,0,{"$f":"IF(I29=0,0,CONCATENATE(VLOOKUP(I29+\"00:01\",'データ '!K:M,3,TRUE),\"/\",$W$11))","v":0}]
["",null,"",null,null,null,null,null,0,null,0,0,0,null,null,18,{"$f":"IF(A30=\"\",\"\",IF($A$13<>A30,\"月が異なります！\",IF(SUM($I$13:I30)>$S$7,\"決定時間数を超過しています！\",\"\")))","v":""},0,0,{"$f":"SUM($S$13:S30)","v":0},0,0,{"$f":"IF(I30=0,0,CONCATENATE(VLOOKUP(I30+\"00:01\",'データ '!K:M,3,TRUE),\"/\",$W$11))","v":0}]
["",null,"",null,null,null,null,null,0,null,0,0,0,null,null,19,{"$f":"IF(A31=\"\",\"\",IF($A$13<>A31,\"月が異なります！\",IF(SUM($I$13:I31)>$S$7,\"決定時間数を超過しています！\",\"\")))","v":""},0,0,{"$f":"SUM($S$13:S31)","v":0},0,0,{"$f":"IF(I31=0,0,CONCATENATE(VLOOKUP(I31+\"00:01\",'データ '!K:M,3,TRUE),\"/\",$W$11))","v":0}]
["",null,"",null,null,null,null,null,0,null,0,0,0,null,null,20,{"$f":"IF(A32=\"\",\"\",IF($A$13<>A32,\"月が異なります！\",IF(SUM($I$13:I32)>$S$7,\"決定時間数を超過しています！\",\"\")))","v":""},0,0,{"$f":"SUM($S$13:S32)","v":0},0,0,{"$f":"IF(I32=0,0,CONCATENATE(VLOOKUP(I32+\"00:01\",'データ '!K:M,3,TRUE),\"/\",$W$11))","v":0}]
["",null,"",null,null,null,null,null,0,null,0,0,0,null,null,21,{"$f":"IF(A33=\"\",\"\",IF($A$13<>A33,\"月が異なります！\",IF(SUM($I$13:I33)>$S$7,\"決定時間数を超過しています！\",\"\")))","v":""},0,0,{"$f":"SUM($S$13:S33)","v":0},0,0,{"$f":"IF(I33=0,0,CONCATENATE(VLOOKUP(I33+\"00:01\",'データ '!K:M,3,TRUE),\"/\",$W$11))","v":0}]
["",null,"",null,null,null,null,null,0,null,0,0,0,null,null,22,{"$f":"IF(A34=\"\",\"\",IF($A$13<>A34,\"月が異なります！\",IF(SUM($I$13:I34)>$S$7,\"決定時間数を超過しています！\",\"\")))","v":""},0,0,{"$f":"SUM($S$13:S34)","v":0},0,0,{"$f":"IF(I34=0,0,CONCATENATE(VLOOKUP(I34+\"00:01\",'データ '!K:M,3,TRUE),\"/\",$W$11))","v":0}]
["",null,"",null,null,null,null,null,0,null,0,0,0,null,null,23,{"$f":"IF(A35=\"\",\"\",IF($A$13<>A35,\"月が異なります！\",IF(SUM($I$13:I35)>$S$7,\"決定時間数を超過しています！\",\"\")))","v":""},0,0,{"$f":"SUM($S$13:S35)","v":0},0,0,{"$f":"IF(I35=0,0,CONCATENATE(VLOOKUP(I35+\"00:01\",'データ '!K:M,3,TRUE),\"/\",$W$11))","v":0}]
["",null,"",null,null,null,null,null,0,null,0,0,0,null,null,24,{"$f":"IF(A36=\"\",\"\",IF($A$13<>A36,\"月が異なります！\",IF(SUM($I$13:I36)>$S$7,\"決定時間数を超過しています！\",\"\")))","v":""},0,0,{"$f":"SUM($S$13:S36)","v":0},0,0,{"$f":"IF(I36=0,0,CONCATENATE(VLOOKUP(I36+\"00:01\",'データ '!K:M,3,TRUE),\"/\",$W$11))","v":0}]
["",null,"",null,null,null,null,null,0,null,0,0,0,null,null,25,{"$f":"IF(A37=\"\",\"\",IF($A$13<>A37,\"月が異なります！\",IF(SUM($I$13:I37)>$S$7,\"決定時間数を超過しています！\",\"\")))","v":""},0,0,{"$f":"SUM($S$13:S37)","v":0},0,0,{"$f":"IF(I37=0,0,CONCATENATE(VLOOKUP(I37+\"00:01\",'データ '!K:M,3,TRUE),\"/\",$W$11))","v":0}]
["",null,"",null,null,null,null,null,0,null,0,0,0,null,null,26,{"$f":"IF(A38=\"\",\"\",IF($A$13<>A38,\"月が異なります！\",IF(SUM($I$13:I38)>$S$7,\"決定時間数を超過しています！\",\"\")))","v":""},0,0,{"$f":"SUM($S$13:S38)","v":0},0,0,{"$f":"IF(I38=0,0,CONCATENATE(VLOOKUP(I38+\"00:01\",'データ '!K:M,3,TRUE),\"/\",$W$11))","v":0}]
["",null,"",null,null,null,null,null,0,null,0,0,0,null,null,27,{"$f":"IF(A39=\"\",\"\",IF($A$13<>A39,\"月が異なります！\",IF(SUM($I$13:I39)>$S$7,\"決定時間数を超過しています！\",\"\")))","v":""},0,0,{"$f":"SUM($S$13:S39)","v":0},0,0,{"$f":"IF(I39=0,0,CONCATENATE(VLOOKUP(I39+\"00:01\",'データ '!K:M,3,TRUE),\"/\",$W$11))","v":0}]
["",null,"",null,null,null,null,null,0,null,0,0,0,null,null,28,{"$f":"IF(A40=\"\",\"\",IF($A$13<>A40,\"月が異なります！\",IF(SUM($I$13:I40)>$S$7,\"決定時間数を超過しています！\",\"\")))","v":""},0,0,{"$f":"SUM($S$13:S40)","v":0},0,0,{"$f":"IF(I40=0,0,CONCATENATE(VLOOKUP(I40+\"00:01\",'データ '!K:M,3,TRUE),\"/\",$W$11))","v":0}]
["",null,"",null,null,null,null,null,0,null,0,0,0,null,null,29,{"$f":"IF(A41=\"\",\"\",IF($A$13<>A41,\"月が異なります！\",IF(SUM($I$13:I41)>$S$7,\"決定時間数を超過しています！\",\"\")))","v":""},0,0,{"$f":"SUM($S$13:S41)","v":0},0,0,{"$f":"IF(I41=0,0,CONCATENATE(VLOOKUP(I41+\"00:01\",'データ '!K:M,3,TRUE),\"/\",$W$11))","v":0}]
["",null,"",null,null,null,null,null,0,null,0,0,0,null,null,30,{"$f":"IF(A42=\"\",\"\",IF($A$13<>A42,\"月が異なります！\",IF(SUM($I$13:I42)>$S$7,\"決定時間数を超過しています！\",\"\")))","v":""},0,0,{"$f":"SUM($S$13:S42)","v":0},0,0,{"$f":"IF(I42=0,0,CONCATENATE(VLOOKUP(I42+\"00:01\",'データ '!K:M,3,TRUE),\"/\",$W$11))","v":0}]
["",null,"",null,null,null,null,null,0,null,0,0,0,null,null,31,{"$f":"IF(A43=\"\",\"\",IF($A$13<>A43,\"月が異なります！\",IF(SUM($I$13:I43)>$S$7,\"決定時間数を超過しています！\",\"\")))","v":""},0,0,{"$f":"SUM($S$13:S43)","v":0},0,0,{"$f":"IF(I43=0,0,CONCATENATE(VLOOKUP(I43+\"00:01\",'データ '!K:M,3,TRUE),\"/\",$W$11))","v":0}]
["合計",null,null,null,null,null,null,null,{"$f":"SUM(I13:I43)","v":0},null,{"$f":"SUM(K13:K43)","v":0},{"$f":"SUM(L13:L43)","v":0},{"$f":"SUM(M13:M43)","v":0},null,null,null,null,null,null,null,null,null,{"$f":"IF(I44>=$X$8,$Y$9,IF(AND(I44<$X$8,I44>=$X$7),$Y$8,IF(I44<$X$7,$Y$7)))&$W$11","v":"無"}]