{"text_format":"1","workbook":"xlsx","n_sheets":26,"sheets":["説明","請求事業者","利用者情報","請求書","単価表","1","2","3","4","5","6","7","8","9","10","11","12","13","14","15","16","17","18","19","20","データ "],"not_rendered":{"charts":0,"images":3,"macros":1,"external_links":2,"defined_names":31,"comments":1,"pivot_tables":0},"unopened":[],"bounds":{"document_bytes":16777216,"sheet_cells":100000,"rows_first":2000,"rows_last":500,"rows_between":2000,"halvings":0,"cell_chars":16384,"cell_head_chars":4096},"cells_cut":0,"cells_raw":0,"read":"whole","date_system":"1900"}

{"sheet":"説明","index":0,"n_rows":12,"n_cols":2,"rows_kept":12,"cut":false,"hidden":false,"merged":[[4,0,5,0],[6,0,7,0],[10,0,10,1],[11,0,11,1],[0,0,0,1]]}
["鎌ケ谷市日中一時支援事業　請求書・実績記録作成支援システムの使い方"]
[]
["シート名","説明"]
["請求事業者","まず、事業所の情報を入力してください。入力内容は請求書にも反映されますので、債権者登録の内容と一致させてください。"]
["利用者情報","利用者の受給者証の情報を入力してください。色がついた部分を入力してください。赤線部分は必須内容です。有効期限が近かったり、切れていたりするとコメントが表示されます。先頭の「№」から該当する提供実績記録票にリンクしています。"]
[]
["（提供実績記録票）1～20","利用者ごとに実績記録を入力してください。色がついた部分を入力してください。入力日の月が異なっていたり、決定日数を超過している場合コメントが表示されます。"]
[]
["請求書","利用者の実績記録をもとに請求書に自動で情報が入力されます。"]
[]
["請求書と実績記録票をプリントし、実績記録票に「利用者確認印」の押印と、請求書に「事業所」の押印をお願いします。"]
["請求書の提出は利用の翌月１０日までになります。土日・祝日などによって提出期間が短くなる場合がありますのでご注意ください。"]

{"sheet":"請求事業者","index":1,"n_rows":9,"n_cols":3,"rows_kept":9,"cut":false,"hidden":false,"merged":[[1,0,1,1],[0,0,0,1]]}
["請求者の情報を入力してください。請求書の請求事業者の欄に反映されます。請求者は債権者登録の内容と一致する必要があります。変更する場合は債権者登録の変更の手続きが必要になりますので、障がい福祉課までご連絡ください。"]
[]
["事業所番号"]
["〒"]
["住所"]
["電話番号"]
["名称"]
["職氏名"]
["所在地",null,{"$f":"VLOOKUP(B9,'データ '!B:C,2,FALSE)","v":{"$error":"#N/A"}}]

{"sheet":"利用者情報","index":2,"n_rows":23,"n_cols":18,"rows_kept":23,"cut":false,"hidden":false,"merged":[[0,1,0,6],[0,9,0,22]]}
[null,"下記に利用者の受給者証の情報を入力してください。色が付いている部分の入力をお願いします。赤線部分は必須事項になります。",null,null,null,null,null,"【本日の日付】",{"$f":"TODAY()","v":"2020-04-01"},"実績が入力されている最初の利用者の利用月が「請求書」に反映されています。請求月に利用がない場合は、実績記録票から前の月の内容を削除してください。"]
[null,null,null,null,null,null,null,null,null,null,null,null,null,null,null,null,null,"↓"]
["№","登録番号","利用者名","上限日/月","区分","利用者負担の有無","利用者負担上限額","有効期限（始期）","有効期限（終期）","コメント",null,null,null,"氏名","算定額","利用者負担額","請求額","最新の利用月"]
[1,null,null,null,null,null,{"$f":"IF(F4=\"有\",37200,0)","v":0},null,null,{"$f":"IF(I4=0,\"\",IF($I$1>I4,\"受給者証の有効期限が切れいています！\",IF($I$1+31>I4,\"有効期限注意！更新してください！\",\"\")))","v":""},{"$f":"VLOOKUP(E4,'データ '!F:G,2,FALSE)","v":{"$error":"#N/A"}},{"$f":"IF(M4=1,SUM($M$4:M4),0)","v":0},{"$f":"IF(Q4<>0,1,0)","v":0},{"$f":"C4","v":0},{"$f":"IFERROR(INDIRECT(A4&\"!Ｎ44\"),0)","v":0},{"$f":"IFERROR(INDIRECT(A4&\"!Ｏ44\"),0)","v":0},{"$f":"IFERROR(INDIRECT(A4&\"!Ｐ44\"),0)","v":0},{"$f":"IF(INDIRECT(A4&\"!Ｂ4\")=31,\"実績入力なし\",INDIRECT(A4&\"!Ｂ4\"))","v":"実績入力なし"}]
[2,null,null,null,null,null,0,null,null,{"$f":"IF(I5=0,\"\",IF($I$1>I5,\"受給者証の有効期限が切れいています！\",IF($I$1+31>I5,\"有効期限注意！更新してください！\",\"\")))","v":""},{"$f":"VLOOKUP(E5,'データ '!F:G,2,FALSE)","v":{"$error":"#N/A"}},{"$f":"IF(M5=1,SUM($M$4:M5),0)","v":0},{"$f":"IF(Q5<>0,1,0)","v":0},{"$f":"C5","v":0},{"$f":"IFERROR(INDIRECT(A5&\"!Ｎ44\"),0)","v":0},{"$f":"IFERROR(INDIRECT(A5&\"!Ｏ44\"),0)","v":0},{"$f":"IFERROR(INDIRECT(A5&\"!Ｐ44\"),0)","v":0},{"$f":"IF(INDIRECT(A5&\"!Ｂ4\")=31,\"実績入力なし\",INDIRECT(A5&\"!Ｂ4\"))","v":"実績入力なし"}]
[3,null,null,null,null,null,{"$f":"IF(F6=\"有\",37200,0)","v":0},null,null,"",{"$f":"VLOOKUP(E6,'データ '!F:G,2,FALSE)","v":{"$error":"#N/A"}},{"$f":"IF(M6=1,SUM($M$4:M6),0)","v":0},{"$f":"IF(Q6<>0,1,0)","v":0},0,0,0,0,"実績入力なし"]
[4,null,null,null,null,null,0,null,null,"",{"$f":"VLOOKUP(E7,'データ '!F:G,2,FALSE)","v":{"$error":"#N/A"}},{"$f":"IF(M7=1,SUM($M$4:M7),0)","v":0},0,0,0,0,0,"実績入力なし"]
[5,null,null,null,null,null,{"$f":"IF(F8=\"有\",37200,0)","v":0},null,null,"",{"$f":"VLOOKUP(E8,'データ '!F:G,2,FALSE)","v":{"$error":"#N/A"}},{"$f":"IF(M8=1,SUM($M$4:M8),0)","v":0},0,0,0,0,0,"実績入力なし"]
[6,null,null,null,null,null,0,null,null,"",{"$f":"VLOOKUP(E9,'データ '!F:G,2,FALSE)","v":{"$error":"#N/A"}},{"$f":"IF(M9=1,SUM($M$4:M9),0)","v":0},0,0,0,0,0,"実績入力なし"]
[7,null,null,null,null,null,0,null,null,"",{"$f":"VLOOKUP(E10,'データ '!F:G,2,FALSE)","v":{"$error":"#N/A"}},{"$f":"IF(M10=1,SUM($M$4:M10),0)","v":0},0,0,0,0,0,"実績入力なし"]
[8,null,null,null,null,null,0,null,null,"",{"$f":"VLOOKUP(E11,'データ '!F:G,2,FALSE)","v":{"$error":"#N/A"}},{"$f":"IF(M11=1,SUM($M$4:M11),0)","v":0},0,0,0,0,0,"実績入力なし"]
[9,null,null,null,null,null,0,null,null,"",{"$f":"VLOOKUP(E12,'データ '!F:G,2,FALSE)","v":{"$error":"#N/A"}},{"$f":"IF(M12=1,SUM($M$4:M12),0)","v":0},0,0,0,0,0,"実績入力なし"]
[10,null,null,null,null,null,0,null,null,"",{"$f":"VLOOKUP(E13,'データ '!F:G,2,FALSE)","v":{"$error":"#N/A"}},{"$f":"IF(M13=1,SUM($M$4:M13),0)","v":0},0,0,0,0,0,"実績入力なし"]
[11,null,null,null,null,null,0,null,null,{"$f":"IF(I14=0,\"\",IF($I$1>I14,\"受給者証の有効期限が切れいています！\",IF($I$1+31>I14,\"有効期限注意！更新してください！\",\"\")))","v":""},{"$f":"VLOOKUP(E14,'データ '!F:G,2,FALSE)","v":{"$error":"#N/A"}},{"$f":"IF(M14=1,SUM($M$4:M14),0)","v":0},0,0,0,0,0,"実績入力なし"]
[12,null,null,null,null,null,0,null,null,"",{"$f":"VLOOKUP(E15,'データ '!F:G,2,FALSE)","v":{"$error":"#N/A"}},{"$f":"IF(M15=1,SUM($M$4:M15),0)","v":0},0,0,0,0,0,"実績入力なし"]
[13,null,null,null,null,null,0,null,null,"",{"$f":"VLOOKUP(E16,'データ '!F:G,2,FALSE)","v":{"$error":"#N/A"}},{"$f":"IF(M16=1,SUM($M$4:M16),0)","v":0},0,0,0,0,0,"実績入力なし"]
[14,null,null,null,null,null,0,null,null,"",{"$f":"VLOOKUP(E17,'データ '!F:G,2,FALSE)","v":{"$error":"#N/A"}},{"$f":"IF(M17=1,SUM($M$4:M17),0)","v":0},0,0,0,0,0,"実績入力なし"]
[15,null,null,null,null,null,0,null,null,"",{"$f":"VLOOKUP(E18,'データ '!F:G,2,FALSE)","v":{"$error":"#N/A"}},{"$f":"IF(M18=1,SUM($M$4:M18),0)","v":0},0,0,0,0,0,"実績入力なし"]
[16,null,null,null,null,null,0,null,null,"",{"$f":"VLOOKUP(E19,'データ '!F:G,2,FALSE)","v":{"$error":"#N/A"}},{"$f":"IF(M19=1,SUM($M$4:M19),0)","v":0},0,0,0,0,0,"実績入力なし"]
[17,null,null,null,null,null,0,null,null,"",{"$f":"VLOOKUP(E20,'データ '!F:G,2,FALSE)","v":{"$error":"#N/A"}},{"$f":"IF(M20=1,SUM($M$4:M20),0)","v":0},0,0,0,0,0,"実績入力なし"]
[18,null,null,null,null,null,0,null,null,"",{"$f":"VLOOKUP(E21,'データ '!F:G,2,FALSE)","v":{"$error":"#N/A"}},{"$f":"IF(M21=1,SUM($M$4:M21),0)","v":0},0,0,0,0,0,"実績入力なし"]
[19,null,null,null,null,null,0,null,null,"",{"$f":"VLOOKUP(E22,'データ '!F:G,2,FALSE)","v":{"$error":"#N/A"}},{"$f":"IF(M22=1,SUM($M$4:M22),0)","v":0},0,0,0,0,0,"実績入力なし"]
[20,null,null,null,null,null,0,null,null,"",{"$f":"VLOOKUP(E23,'データ '!F:G,2,FALSE)","v":{"$error":"#N/A"}},{"$f":"IF(M23=1,SUM($M$4:M23),0)","v":0},0,0,0,0,0,"実績入力なし"]

{"sheet":"請求書","index":3,"n_rows":31,"n_cols":30,"rows_kept":31,"cut":false,"hidden":false,"merged":[[25,23,25,24],[25,25,25,31],[26,23,30,24],[26,25,27,26],[26,27,26,31],[27,27,27,31],[28,25,28,26],[28,27,28,31],[29,25,29,26],[29,27,29,31],[30,25,30,26],[30,27,30,31],[19,24,19,26],[19,27,19,28],[19,29,19,30],[20,21,21,23],[20,24,21,26],[20,27,21,28],[20,29,21,30],[1,20,1,31],[2,20,2,31],[5,20,5,23],[5,24,5,30],[6,20,6,30],[16,21,16,23],[16,24,16,26],[16,27,16,28],[16,29,16,30],[13,21,13,23],[13,24,13,26],[13,27,13,28],[13,29,13,30],[14,21,14,23],[14,24,14,26],[14,27,14,28],[14,29,14,30],[22,20,22,26],[23,20,23,31],[7,20,21,20],[7,21,7,22],[7,24,7,25],[8,21,9,23],[8,24,9,26],[8,27,9,28],[8,29,9,30],[10,21,10,23],[10,24,10,26],[10,27,10,28],[17,21,17,23],[17,24,17,26],[17,27,17,28],[17,29,17,30],[18,21,18,23],[18,24,18,26],[18,27,18,28],[18,29,18,30],[15,21,15,23],[15,24,15,26],[15,27,15,28],[15,29,15,30],[11,21,11,23],[11,24,11,26],[11,27,11,28],[11,29,11,30],[12,21,12,23],[12,24,12,26],[12,27,12,28],[12,29,12,30],[10,29,10,30],[19,21,19,23],[6,1,6,11],[28,8,28,12],[29,8,29,12],[30,8,30,12],[26,6,27,7],[26,8,26,12],[30,6,30,7],[29,6,29,7],[28,6,28,7],[26,4,30,5],[27,8,27,12],[22,1,22,7],[23,1,23,12],[25,4,25,5],[25,6,25,12],[18,8,18,9],[18,10,18,11],[19,2,19,4],[19,5,19,7],[19,8,19,9],[19,10,19,11],[20,8,21,9],[20,10,21,11],[2,1,2,12],[1,1,1,12],[16,2,16,4],[16,5,16,7],[16,8,16,9],[16,10,16,11],[15,2,15,4],[15,5,15,7],[15,8,15,9],[15,10,15,11],[11,5,11,7],[11,8,11,9],[11,10,11,11],[18,2,18,4],[18,5,18,7],[7,1,21,1],[5,1,5,4],[5,5,5,11],[8,2,9,4],[10,2,10,4],[11,2,11,4],[12,2,12,4],[13,2,13,4],[8,5,9,7],[8,8,9,9],[8,10,9,11],[10,5,10,7],[10,8,10,9],[7,2,7,3],[7,5,7,6],[12,10,12,11],[10,10,10,11],[20,2,21,4],[20,5,21,7],[14,5,14,7],[14,8,14,9],[14,10,14,11],[17,2,17,4],[17,5,17,7],[17,8,17,9],[17,10,17,11],[12,5,12,7],[12,8,12,9],[14,2,14,4],[13,5,13,7],[13,8,13,9],[13,10,13,11]]}
[]
[null,"鎌ケ谷市地域生活支援事業",null,null,null,null,null,null,null,null,null,null,null,null,null,null,null,null,null,null,"鎌ケ谷市地域生活支援事業"]
[null,"（移動支援、日中一時）請求書",null,null,null,null,null,null,null,null,null,null,null,null,null,null,null,null,null,null,"（移動支援、日中一時）請求書"]
[null,"鎌ケ谷市長　　　　　　　　　様",null,null,null,null,null,null,null,null,null,null,null,null,null,null,null,null,null,null,"鎌ケ谷市長　　　　　　　　　様"]
[]
[null,"請求金額合計",null,null,null,{"$f":"K21+AD21","v":0},null,null,null,null,null,null,null,null,null,null,null,null,null,null,"請求金額合計"]
[]
[null,"内容",{"$f":"Q11","v":""},null,"年",{"$f":"Q11","v":""},null,"月分",null,null,null,null,null,null,null,null,null,null,null,null,"内容",{"$f":"Q11","v":""},null,"年",{"$f":"F8","v":""},null,"月分"]
[null,null,"利用者名",null,null,"算定額",null,null,"利用者負担額",null,"請求額",null,null,null,null,null,null,null,null,null,null,"利用者名",null,null,"算定額",null,null,"利用者負担額",null,"請求額"]
[]
[null,null,{"$f":"IF($Q11=$F$8,IFERROR(VLOOKUP($O11,利用者情報!$L:$Q,3,FALSE),\"\"),\"\")","v":""},null,null,{"$f":"IF($Q11=$F$8,IFERROR(VLOOKUP($O11,利用者情報!$L:$Q,4,FALSE),0),0)","v":0},null,null,{"$f":"IF($Q11=$F$8,IFERROR(VLOOKUP($O11,利用者情報!$L:$Q,5,FALSE),0),0)","v":0},null,{"$f":"IF($Q11=$F$8,IFERROR(VLOOKUP(O11,利用者情報!$L:$Q,6,FALSE),0),0)","v":0},null,null,null,1,{"$f":"IF($F$8=Q11,1,0)","v":1},{"$f":"IFERROR(VLOOKUP(O11,利用者情報!$L:$R,7,FALSE),\"\")","v":""},null,null,null,null,{"$f":"IF($Q21=$F$8,IFERROR(VLOOKUP($O21,利用者情報!$L:$Q,3,FALSE),\"\"),\"\")","v":""},null,null,{"$f":"IF($Q21=$F$8,IFERROR(VLOOKUP($O21,利用者情報!$L:$Q,4,FALSE),0),0)","v":0},null,null,{"$f":"IF($Q21=$F$8,IFERROR(VLOOKUP($O21,利用者情報!$L:$Q,5,FALSE),0),0)","v":0},null,{"$f":"IF($Q21=$F$8,IFERROR(VLOOKUP($O21,利用者情報!$L:$Q,6,FALSE),0),0)","v":0}]
[null,null,{"$f":"IF($Q12=$F$8,IFERROR(VLOOKUP($O12,利用者情報!$L:$Q,3,FALSE),\"\"),\"\")","v":""},null,null,{"$f":"IF($Q12=$F$8,IFERROR(VLOOKUP($O12,利用者情報!$L:$Q,4,FALSE),0),0)","v":0},null,null,{"$f":"IF($Q12=$F$8,IFERROR(VLOOKUP($O12,利用者情報!$L:$Q,5,FALSE),0),0)","v":0},null,{"$f":"IF($Q12=$F$8,IFERROR(VLOOKUP(O12,利用者情報!$L:$Q,6,FALSE),0),0)","v":0},null,null,null,2,{"$f":"IF($F$8=Q12,1,0)","v":1},{"$f":"IFERROR(VLOOKUP(O12,利用者情報!$L:$R,7,FALSE),\"\")","v":""},{"$f":"IFERROR(VLOOKUP(O12,$Q$11:$Q$29,2,FALSE),\"\")","v":""},null,null,null,{"$f":"IF($Q22=$F$8,IFERROR(VLOOKUP($O22,利用者情報!$L:$Q,3,FALSE),\"\"),\"\")","v":""},null,null,{"$f":"IF($Q22=$F$8,IFERROR(VLOOKUP($O22,利用者情報!$L:$Q,4,FALSE),0),0)","v":0},null,null,{"$f":"IF($Q22=$F$8,IFERROR(VLOOKUP($O22,利用者情報!$L:$Q,5,FALSE),0),0)","v":0},null,{"$f":"IF($Q22=$F$8,IFERROR(VLOOKUP($O22,利用者情報!$L:$Q,6,FALSE),0),0)","v":0}]
[null,null,{"$f":"IF($Q13=$F$8,IFERROR(VLOOKUP($O13,利用者情報!$L:$Q,3,FALSE),\"\"),\"\")","v":""},null,null,{"$f":"IF($Q13=$F$8,IFERROR(VLOOKUP($O13,利用者情報!$L:$Q,4,FALSE),0),0)","v":0},null,null,{"$f":"IF($Q13=$F$8,IFERROR(VLOOKUP($O13,利用者情報!$L:$Q,5,FALSE),0),0)","v":0},null,{"$f":"IF($Q13=$F$8,IFERROR(VLOOKUP(O13,利用者情報!$L:$Q,6,FALSE),0),0)","v":0},null,null,null,3,{"$f":"IF($F$8=Q13,1,0)","v":1},{"$f":"IFERROR(VLOOKUP(O13,利用者情報!$L:$R,7,FALSE),\"\")","v":""},"",null,null,null,{"$f":"IF($Q23=$F$8,IFERROR(VLOOKUP($O23,利用者情報!$L:$Q,3,FALSE),\"\"),\"\")","v":""},null,null,{"$f":"IF($Q23=$F$8,IFERROR(VLOOKUP($O23,利用者情報!$L:$Q,4,FALSE),0),0)","v":0},null,null,{"$f":"IF($Q23=$F$8,IFERROR(VLOOKUP($O23,利用者情報!$L:$Q,5,FALSE),0),0)","v":0},null,{"$f":"IF($Q23=$F$8,IFERROR(VLOOKUP($O23,利用者情報!$L:$Q,6,FALSE),0),0)","v":0}]
[null,null,{"$f":"IF($Q14=$F$8,IFERROR(VLOOKUP($O14,利用者情報!$L:$Q,3,FALSE),\"\"),\"\")","v":""},null,null,{"$f":"IF($Q14=$F$8,IFERROR(VLOOKUP($O14,利用者情報!$L:$Q,4,FALSE),0),0)","v":0},null,null,{"$f":"IF($Q14=$F$8,IFERROR(VLOOKUP($O14,利用者情報!$L:$Q,5,FALSE),0),0)","v":0},null,{"$f":"IF($Q14=$F$8,IFERROR(VLOOKUP(O14,利用者情報!$L:$Q,6,FALSE),0),0)","v":0},null,null,null,4,1,{"$f":"IFERROR(VLOOKUP(O14,利用者情報!$L:$R,7,FALSE),\"\")","v":""},"",null,null,null,{"$f":"IF($Q24=$F$8,IFERROR(VLOOKUP($O24,利用者情報!$L:$Q,3,FALSE),\"\"),\"\")","v":""},null,null,{"$f":"IF($Q24=$F$8,IFERROR(VLOOKUP($O24,利用者情報!$L:$Q,4,FALSE),0),0)","v":0},null,null,{"$f":"IF($Q24=$F$8,IFERROR(VLOOKUP($O24,利用者情報!$L:$Q,5,FALSE),0),0)","v":0},null,{"$f":"IF($Q24=$F$8,IFERROR(VLOOKUP($O24,利用者情報!$L:$Q,6,FALSE),0),0)","v":0}]
[null,null,{"$f":"IF($Q15=$F$8,IFERROR(VLOOKUP($O15,利用者情報!$L:$Q,3,FALSE),\"\"),\"\")","v":""},null,null,{"$f":"IF($Q15=$F$8,IFERROR(VLOOKUP($O15,利用者情報!$L:$Q,4,FALSE),0),0)","v":0},null,null,{"$f":"IF($Q15=$F$8,IFERROR(VLOOKUP($O15,利用者情報!$L:$Q,5,FALSE),0),0)","v":0},null,{"$f":"IF($Q15=$F$8,IFERROR(VLOOKUP(O15,利用者情報!$L:$Q,6,FALSE),0),0)","v":0},null,null,null,5,1,{"$f":"IFERROR(VLOOKUP(O15,利用者情報!$L:$R,7,FALSE),\"\")","v":""},"",null,null,null,{"$f":"IF($Q25=$F$8,IFERROR(VLOOKUP($O25,利用者情報!$L:$Q,3,FALSE),\"\"),\"\")","v":""},null,null,{"$f":"IF($Q25=$F$8,IFERROR(VLOOKUP($O25,利用者情報!$L:$Q,4,FALSE),0),0)","v":0},null,null,{"$f":"IF($Q25=$F$8,IFERROR(VLOOKUP($O25,利用者情報!$L:$Q,5,FALSE),0),0)","v":0},null,{"$f":"IF($Q25=$F$8,IFERROR(VLOOKUP($O25,利用者情報!$L:$Q,6,FALSE),0),0)","v":0}]
[null,null,{"$f":"IF($Q16=$F$8,IFERROR(VLOOKUP($O16,利用者情報!$L:$Q,3,FALSE),\"\"),\"\")","v":""},null,null,{"$f":"IF($Q16=$F$8,IFERROR(VLOOKUP($O16,利用者情報!$L:$Q,4,FALSE),0),0)","v":0},null,null,{"$f":"IF($Q16=$F$8,IFERROR(VLOOKUP($O16,利用者情報!$L:$Q,5,FALSE),0),0)","v":0},null,{"$f":"IF($Q16=$F$8,IFERROR(VLOOKUP(O16,利用者情報!$L:$Q,6,FALSE),0),0)","v":0},null,null,null,6,1,{"$f":"IFERROR(VLOOKUP(O16,利用者情報!$L:$R,7,FALSE),\"\")","v":""},"",null,null,null,{"$f":"IF($Q26=$F$8,IFERROR(VLOOKUP($O26,利用者情報!$L:$Q,3,FALSE),\"\"),\"\")","v":""},null,null,{"$f":"IF($Q26=$F$8,IFERROR(VLOOKUP($O26,利用者情報!$L:$Q,4,FALSE),0),0)","v":0},null,null,{"$f":"IF($Q26=$F$8,IFERROR(VLOOKUP($O26,利用者情報!$L:$Q,5,FALSE),0),0)","v":0},null,{"$f":"IF($Q26=$F$8,IFERROR(VLOOKUP($O26,利用者情報!$L:$Q,6,FALSE),0),0)","v":0}]
[null,null,{"$f":"IF($Q17=$F$8,IFERROR(VLOOKUP($O17,利用者情報!$L:$Q,3,FALSE),\"\"),\"\")","v":""},null,null,{"$f":"IF($Q17=$F$8,IFERROR(VLOOKUP($O17,利用者情報!$L:$Q,4,FALSE),0),0)","v":0},null,null,{"$f":"IF($Q17=$F$8,IFERROR(VLOOKUP($O17,利用者情報!$L:$Q,5,FALSE),0),0)","v":0},null,{"$f":"IF($Q17=$F$8,IFERROR(VLOOKUP(O17,利用者情報!$L:$Q,6,FALSE),0),0)","v":0},null,null,null,7,1,{"$f":"IFERROR(VLOOKUP(O17,利用者情報!$L:$R,7,FALSE),\"\")","v":""},"",null,null,null,{"$f":"IF($Q27=$F$8,IFERROR(VLOOKUP($O27,利用者情報!$L:$Q,3,FALSE),\"\"),\"\")","v":""},null,null,{"$f":"IF($Q27=$F$8,IFERROR(VLOOKUP($O27,利用者情報!$L:$Q,4,FALSE),0),0)","v":0},null,null,{"$f":"IF($Q27=$F$8,IFERROR(VLOOKUP($O27,利用者情報!$L:$Q,5,FALSE),0),0)","v":0},null,{"$f":"IF($Q27=$F$8,IFERROR(VLOOKUP($O27,利用者情報!$L:$Q,6,FALSE),0),0)","v":0}]
[null,null,{"$f":"IF($Q18=$F$8,IFERROR(VLOOKUP($O18,利用者情報!$L:$Q,3,FALSE),\"\"),\"\")","v":""},null,null,{"$f":"IF($Q18=$F$8,IFERROR(VLOOKUP($O18,利用者情報!$L:$Q,4,FALSE),0),0)","v":0},null,null,{"$f":"IF($Q18=$F$8,IFERROR(VLOOKUP($O18,利用者情報!$L:$Q,5,FALSE),0),0)","v":0},null,{"$f":"IF($Q18=$F$8,IFERROR(VLOOKUP(O18,利用者情報!$L:$Q,6,FALSE),0),0)","v":0},null,null,null,8,1,{"$f":"IFERROR(VLOOKUP(O18,利用者情報!$L:$R,7,FALSE),\"\")","v":""},"",null,null,null,{"$f":"IF($Q28=$F$8,IFERROR(VLOOKUP($O28,利用者情報!$L:$Q,3,FALSE),\"\"),\"\")","v":""},null,null,{"$f":"IF($Q28=$F$8,IFERROR(VLOOKUP($O28,利用者情報!$L:$Q,4,FALSE),0),0)","v":0},null,null,{"$f":"IF($Q28=$F$8,IFERROR(VLOOKUP($O28,利用者情報!$L:$Q,5,FALSE),0),0)","v":0},null,{"$f":"IF($Q28=$F$8,IFERROR(VLOOKUP($O28,利用者情報!$L:$Q,6,FALSE),0),0)","v":0}]
[null,null,{"$f":"IF($Q19=$F$8,IFERROR(VLOOKUP($O19,利用者情報!$L:$Q,3,FALSE),\"\"),\"\")","v":""},null,null,{"$f":"IF($Q19=$F$8,IFERROR(VLOOKUP($O19,利用者情報!$L:$Q,4,FALSE),0),0)","v":0},null,null,{"$f":"IF($Q19=$F$8,IFERROR(VLOOKUP($O19,利用者情報!$L:$Q,5,FALSE),0),0)","v":0},null,{"$f":"IF($Q19=$F$8,IFERROR(VLOOKUP(O19,利用者情報!$L:$Q,6,FALSE),0),0)","v":0},null,null,null,9,1,{"$f":"IFERROR(VLOOKUP(O19,利用者情報!$L:$R,7,FALSE),\"\")","v":""},"",null,null,null,{"$f":"IF($Q29=$F$8,IFERROR(VLOOKUP($O29,利用者情報!$L:$Q,3,FALSE),\"\"),\"\")","v":""},null,null,{"$f":"IF($Q29=$F$8,IFERROR(VLOOKUP($O29,利用者情報!$L:$Q,4,FALSE),0),0)","v":0},null,null,{"$f":"IF($Q29=$F$8,IFERROR(VLOOKUP($O29,利用者情報!$L:$Q,5,FALSE),0),0)","v":0},null,{"$f":"IF($Q29=$F$8,IFERROR(VLOOKUP($O29,利用者情報!$L:$Q,6,FALSE),0),0)","v":0}]
[null,null,{"$f":"IF($Q20=$F$8,IFERROR(VLOOKUP($O20,利用者情報!$L:$Q,3,FALSE),\"\"),\"\")","v":""},null,null,{"$f":"IF($Q20=$F$8,IFERROR(VLOOKUP($O20,利用者情報!$L:$Q,4,FALSE),0),0)","v":0},null,null,{"$f":"IF($Q20=$F$8,IFERROR(VLOOKUP($O20,利用者情報!$L:$Q,5,FALSE),0),0)","v":0},null,{"$f":"IF($Q20=$F$8,IFERROR(VLOOKUP(O20,利用者情報!$L:$Q,6,FALSE),0),0)","v":0},null,null,null,10,1,{"$f":"IFERROR(VLOOKUP(O20,利用者情報!$L:$R,7,FALSE),\"\")","v":""},"",null,null,null,{"$f":"IF($Q30=$F$8,IFERROR(VLOOKUP($O30,利用者情報!$L:$Q,3,FALSE),\"\"),\"\")","v":""},null,null,{"$f":"IF($Q30=$F$8,IFERROR(VLOOKUP($O30,利用者情報!$L:$Q,4,FALSE),0),0)","v":0},null,null,{"$f":"IF($Q30=$F$8,IFERROR(VLOOKUP($O30,利用者情報!$L:$Q,5,FALSE),0),0)","v":0},null,{"$f":"IF($Q30=$F$8,IFERROR(VLOOKUP($O30,利用者情報!$L:$Q,6,FALSE),0),0)","v":0}]
[null,null,"合計",null,null,{"$f":"SUM(F11:H17)","v":0},null,null,{"$f":"SUM(I11:J17)","v":0},null,{"$f":"SUM(K11:L17)","v":0},null,null,null,11,1,{"$f":"IFERROR(VLOOKUP(O21,利用者情報!$L:$R,7,FALSE),\"\")","v":""},"",null,null,null,"合計",null,null,{"$f":"SUM(Y11:AA20)","v":0},null,null,{"$f":"SUM(AB11:AC20)","v":0},null,{"$f":"SUM(AD11:AE20)","v":0}]
[null,null,null,null,null,null,null,null,null,null,null,null,null,null,12,1,{"$f":"IFERROR(VLOOKUP(O22,利用者情報!$L:$R,7,FALSE),\"\")","v":""},""]
[null,"上記のとおり請求します。",null,null,null,null,null,null,null,null,null,null,null,null,13,1,{"$f":"IFERROR(VLOOKUP(O23,利用者情報!$L:$R,7,FALSE),\"\")","v":""},"",null,null,"上記のとおり請求します。"]
[null,"年　　　月　　　日",null,null,null,null,null,null,null,null,null,null,null,null,14,1,{"$f":"IFERROR(VLOOKUP(O24,利用者情報!$L:$R,7,FALSE),\"\")","v":""},"",null,null,"年　　　月　　　日"]
[null,null,null,null,null,null,null,null,null,null,null,null,null,null,15,1,{"$f":"IFERROR(VLOOKUP(O25,利用者情報!$L:$R,7,FALSE),\"\")","v":""},""]
[null,null,null,null,"事業所番号\n（登録番号）",null,{"$f":"請求事業者!B3","v":0},null,null,null,null,null,null,null,16,1,{"$f":"IFERROR(VLOOKUP(O26,利用者情報!$L:$R,7,FALSE),\"\")","v":""},"",null,null,null,null,null,"事業所番号\n（登録番号）",null,{"$f":"G26","v":0}]
[null,null,null,null,"請求事業者",null,"住　　　所",null,{"$f":"請求事業者!A4&請求事業者!B4","v":"〒"},null,null,null,null,null,17,1,{"$f":"IFERROR(VLOOKUP(O27,利用者情報!$L:$R,7,FALSE),\"\")","v":""},"",null,null,null,null,null,"請求事業者",null,"住　　　所",null,{"$f":"I27","v":"〒"}]
[null,null,null,null,null,null,null,null,{"$f":"請求事業者!B5","v":0},null,null,null,null,null,18,1,{"$f":"IFERROR(VLOOKUP(O28,利用者情報!$L:$R,7,FALSE),\"\")","v":""},"",null,null,null,null,null,null,null,null,null,{"$f":"I28","v":0}]
[null,null,null,null,null,null,"電話番号",null,{"$f":"請求事業者!B6","v":0},null,null,null,null,null,19,1,{"$f":"IFERROR(VLOOKUP(O29,利用者情報!$L:$R,7,FALSE),\"\")","v":""},"",null,null,null,null,null,null,null,"電話番号",null,{"$f":"I29","v":0}]
[null,null,null,null,null,null,"名称",null,{"$f":"請求事業者!B7","v":0},null,null,null,null,null,20,1,{"$f":"IFERROR(VLOOKUP(O30,利用者情報!$L:$R,7,FALSE),\"\")","v":""},null,null,null,null,null,null,null,null,"名称",null,{"$f":"I30","v":0}]
[null,null,null,null,null,null,"職氏名",null,{"$f":"請求事業者!B8","v":0},null,null,null,null,null,null,null,null,null,null,null,null,null,null,null,null,"職氏名",null,{"$f":"I31","v":0}]

{"sheet":"単価表","index":4,"n_rows":22,"n_cols":20,"rows_kept":22,"cut":false,"hidden":false,"merged":[[4,11,4,13],[4,14,4,16],[4,17,4,19],[3,2,3,4],[3,5,3,7],[3,8,3,10],[3,11,3,13],[5,14,5,16],[5,17,5,19],[7,0,9,0],[10,0,12,0],[13,0,15,0],[3,0,6,0],[3,1,6,1],[5,2,5,4],[5,5,5,7],[5,8,5,10],[5,11,5,13],[3,14,3,16],[3,17,3,19],[4,2,4,4],[4,5,4,7],[4,8,4,10]]}
[]
["鎌ケ谷市日中一時支援事業単価表"]
[null,null,null,null,null,null,null,null,null,null,null,null,null,null,null,null,null,null,null,"単位：円"]
["区分","利用時間","その他",null,null,"２　級地",null,null,"３　級地",null,null,"４　級地",null,null,"５級地",null,null,"６　級地"]
[null,null,"１～６級地以外",null,null,"成田市、印西市",null,null,"船橋市、浦安市\n袖ケ浦市",null,null,"千葉市、市川市\n松戸市、四街道市\n富津市、習志野市",null,null,"柏市、茂原市\n佐倉市、市原市\n白井市、我孫子市\n鎌ケ谷市、長柄町\n長南町、木更津市\n君津市",null,null,"野田市、東金市\n流山市、八街市\n酒々井町、栄町\n大網白里市、山武市\n富里市"]
[null,null,1,null,null,1.0900000000000001,null,null,1.0720000000000001,null,null,1.06,null,null,1.036,null,null,1.018]
[null,null,"基準","９割","１割","基準","９割","１割","基準","９割","１割","基準","９割","１割","基準","９割","１割","基準","９割","１割"]
["児１\n者１～２","４時間未満",1225,1103,122,1335,1202,133,1313,1182,131,1298,1169,129,1269,1143,126,1247,1123,124]
[null,"４～８時間未満",2450,2205,245,2670,2403,267,2626,2364,262,2597,2338,259,2538,2285,253,2494,2245,249]
[null,"８時間以上",3675,3308,367,4005,3605,400,3939,3546,393,3895,3506,389,3807,3427,380,3741,3367,374]
["児２\n者３～４","４時間未満",1483,1335,148,1616,1455,161,1589,1431,158,1571,1414,157,1536,1383,153,1509,1359,150]
[null,"４～８時間未満",2965,2669,296,3231,2908,323,3178,2861,317,3142,2828,314,3071,2764,307,3018,2717,301]
[null,"８時間以上",4448,4004,444,4848,4364,484,4768,4292,476,4714,4243,471,4608,4148,460,4528,4076,452]
["児３\n者５～６","４時間未満",1893,1704,189,2063,1857,206,2029,1827,202,2006,1806,200,1961,1765,196,1927,1735,192]
[null,"４～８時間未満",3785,3407,378,4125,3713,412,4057,3652,405,4012,3611,401,3921,3529,392,3853,3468,385]
[null,"８時間以上",5678,5111,567,6189,5571,618,6086,5478,608,6018,5417,601,5882,5294,588,5780,5202,578]
[]
[]
[]
[]
[]
[null,"09:30:00","15:30:00",{"$f":"C22-B22","v":"06:00:00"}]

{"sheet":"1","index":5,"n_rows":44,"n_cols":27,"rows_kept":44,"cut":false,"hidden":false,"merged":[[6,18,8,18],[43,0,43,11],[10,15,11,15],[10,16,11,16],[10,18,11,18],[6,0,6,3],[6,11,8,11],[6,12,8,16],[7,0,7,4],[7,5,7,7],[7,8,7,10],[8,0,8,4],[8,5,8,7],[8,8,8,10],[10,21,11,21],[10,22,11,22],[10,23,11,23],[10,0,10,2],[10,3,10,6],[10,7,10,11],[10,12,11,12],[10,13,11,13],[10,14,11,14],[3,1,3,4],[3,5,3,13],[4,0,5,3],[4,4,5,6],[4,7,5,8],[4,9,5,12],[4,13,4,16],[5,13,5,16]]}
[null,"№",1]
[]
[]
[null,{"$f":"EOMONTH(B13,0)","v":"1900-01-31"},null,null,null,"鎌ケ谷市日中一時支援サービス提供実績記録票"]
["登録番号",null,null,null,{"$f":"VLOOKUP($C$1,利用者情報!A:U,COLUMN(利用者情報!B3),FALSE)","v":0},null,null,"支給決定障がい者等氏名\n（児童氏名）",null,{"$f":"VLOOKUP($C$1,利用者情報!A:U,COLUMN(利用者情報!C3),FALSE)","v":0},null,null,null,"事業所登録番号"]
[null,null,null,null,null,null,null,null,null,null,null,null,null,{"$f":"請求事業者!B3","v":0},null,null,null,null,"コメント",null,null,null,null,null,null,{"$f":"VLOOKUP(H7,'データ '!F:G,2,FALSE)","v":{"$error":"#N/A"}}]
["サービス内容及び\n契約支給量",null,null,null,{"$f":"VLOOKUP($C$1,利用者情報!A:U,COLUMN(利用者情報!D3),FALSE)","v":0},"日/月","区分",{"$f":"VLOOKUP($C$1,利用者情報!A:U,COLUMN(利用者情報!E4),FALSE)","v":0},null,null,null,"事業所及びその事務所",{"$f":"請求事業者!B7","v":0},null,null,null,null,null,{"$f":"利用者情報!J4","v":""},null,null,null,null,null,null,"04:00:00","４時間未満/"]
["利用者負担の有無",null,null,null,null,"利用者の負担割合",null,null,"利用者負担上限額",null,null,null,null,null,null,null,null,null,null,null,null,null,null,null,"地区区分","08:00:00","４～８時間未満/"]
[{"$f":"VLOOKUP($C$1,利用者情報!A:U,COLUMN(利用者情報!F3),FALSE)","v":0},null,null,null,null,{"$f":"IF(A9=\"有\",\"1割\",\"0割\")","v":"0割"},null,null,{"$f":"VLOOKUP($C$1,利用者情報!A:U,COLUMN(利用者情報!G3),FALSE)","v":0},null,null,null,null,null,null,null,null,null,null,null,null,null,null,null,{"$f":"請求事業者!C9","v":{"$error":"#N/A"}},null,"８時間以上/"]
[null,null,null,null,null,null,null,null,null,null,null,null,null,null,null,null,null,null,null,null,null,null,null,null,"便宜上区分"]
["日付",null,null,"サービス計画",null,null,null,"サービス提供実績",null,null,null,null,"算定\n時間","算定額","利用者\n負担額","請求額","利用者\n確認印",null,"コメント",null,null,"利用者負担額\n累計","上限到達フラグ","上限達成時の利用者負担額",{"$f":"VLOOKUP(H7,'データ '!F:G,2,FALSE)","v":{"$error":"#N/A"}}]
["月","日","曜日","計画\n日数","食事\n提供","入浴","送迎","開始時間","終了\n時間","食事\n提供","入浴","送迎",null,null,null,null,null,null,null,"請求額","利用者\n負担額",null,null,null,"（9割）"]
[{"$f":"IF(B13=\"\",\"\",TEXT(B13,\"m\"))","v":""},null,{"$f":"IF(B13=\"\",\"\",B13)","v":""},null,null,null,null,null,null,null,null,null,{"$f":"I13-H13","v":0},{"$f":"IF($I13=0,0,INDEX(単価,MATCH(Y13,時間,0),MATCH($Y$9,地域区分,0)))","v":0},{"$f":"IF(W13=0,U13,X13)","v":0},{"$f":"N13-O13","v":0},null,1,{"$f":"IF(A13=\"\",\"\",IF($A$13<>A13,\"月が異なります！\",IF(R13>$E$7,\"決定日数を超過しています！\",\"\")))","v":""},{"$f":"IF(AND($I13=0),0,IF($A$9=\"有\",INDEX(単価,MATCH(Y13,時間,0),MATCH($Y$9&$Y$12,地域区分,0)),INDEX(単価,MATCH(Y13,時間,0),MATCH($Y$9,地域区分,0))))","v":0},{"$f":"N13-T13","v":0},{"$f":"SUM($U$13:U13)","v":0},null,null,{"$f":"IF(M13>=$Z$8,$AA$9,IF(AND(M13<$Z$8,M13>=$Z$7),$AA$8,IF(M13<$Z$7,$AA$7)))&$Y$11","v":{"$error":"#N/A"}}]
[{"$f":"IF(B14=\"\",\"\",TEXT(B14,\"m\"))","v":""},null,{"$f":"IF(B14=\"\",\"\",B14)","v":""},null,null,null,null,null,null,null,null,null,{"$f":"I14-H14","v":0},{"$f":"IF($I14=0,0,INDEX(単価,MATCH(Y14,時間,0),MATCH($Y$9,地域区分,0)))","v":0},{"$f":"IF(W14=0,U14,X14)","v":0},{"$f":"N14-O14","v":0},null,2,{"$f":"IF(A14=\"\",\"\",IF($A$13<>A14,\"月が異なります！\",IF(R14>$E$7,\"決定日数を超過しています！\",\"\")))","v":""},{"$f":"IF(AND($I14=0),0,IF($A$9=\"有\",INDEX(単価,MATCH(Y14,時間,0),MATCH($Y$9&$Y$12,地域区分,0)),INDEX(単価,MATCH(Y14,時間,0),MATCH($Y$9,地域区分,0))))","v":0},{"$f":"N14-T14","v":0},{"$f":"SUM($U$13:U14)","v":0},{"$f":"IF(AND(V13<$I$9,V14>$I$9),1,IF(V14>$I$9,2,0))","v":0},{"$f":"IF(W14=1,$I$9-V13,0)","v":0},{"$f":"IF(M14>=$Z$8,$AA$9,IF(AND(M14<$Z$8,M14>=$Z$7),$AA$8,IF(M14<$Z$7,$AA$7)))&$Y$11","v":{"$error":"#N/A"}}]
["",null,"",null,null,null,null,null,null,null,null,null,0,0,0,0,null,3,"",0,0,{"$f":"SUM($U$13:U15)","v":0},{"$f":"IF(AND(V14<$I$9,V15>$I$9),1,IF(V15>$I$9,2,0))","v":0},{"$f":"IF(W15=1,$I$9-V14,0)","v":0},{"$error":"#N/A"}]
["",null,"",null,null,null,null,null,null,null,null,null,0,0,{"$f":"IF(W16=0,U16,X16)","v":0},0,null,4,"",0,0,{"$f":"SUM($U$13:U16)","v":0},0,0,{"$error":"#N/A"}]
["",null,"",null,null,null,null,null,null,null,null,null,0,0,0,0,null,5,"",0,0,{"$f":"SUM($U$13:U17)","v":0},0,0,{"$error":"#N/A"}]
["",null,"",null,null,null,null,null,null,null,null,null,0,0,0,0,null,6,"",0,0,{"$f":"SUM($U$13:U18)","v":0},0,0,{"$error":"#N/A"}]
["",null,"",null,null,null,null,null,null,null,null,null,0,0,0,0,null,7,"",0,0,{"$f":"SUM($U$13:U19)","v":0},0,0,{"$error":"#N/A"}]
["",null,"",null,null,null,null,null,null,null,null,null,0,0,0,0,null,8,"",0,0,{"$f":"SUM($U$13:U20)","v":0},0,0,{"$error":"#N/A"}]
["",null,"",null,null,null,null,null,null,null,null,null,0,0,{"$f":"IF(W21=0,U21,X21)","v":0},0,null,9,"",0,0,{"$f":"SUM($U$13:U21)","v":0},0,0,{"$error":"#N/A"}]
["",null,"",null,null,null,null,null,null,null,null,null,0,0,{"$f":"IF(W22=0,U22,X22)","v":0},0,null,10,"",0,{"$f":"N22-T22","v":0},{"$f":"SUM($U$13:U22)","v":0},0,{"$f":"IF(W22=1,$I$9-V21,0)","v":0},{"$error":"#N/A"}]
["",null,"",null,null,null,null,null,null,null,null,null,0,0,0,0,null,11,"",0,0,{"$f":"SUM($U$13:U23)","v":0},0,0,{"$error":"#N/A"}]
["",null,"",null,null,null,null,null,null,null,null,null,0,0,0,0,null,12,"",0,0,{"$f":"SUM($U$13:U24)","v":0},0,0,{"$error":"#N/A"}]
["",null,"",null,null,null,null,null,null,null,null,null,0,0,0,0,null,13,"",0,0,{"$f":"SUM($U$13:U25)","v":0},0,0,{"$error":"#N/A"}]
["",null,"",null,null,null,null,null,null,null,null,null,0,0,0,0,null,14,"",0,0,{"$f":"SUM($U$13:U26)","v":0},0,0,{"$error":"#N/A"}]
["",null,"",null,null,null,null,null,null,null,null,null,0,0,0,0,null,15,"",0,0,{"$f":"SUM($U$13:U27)","v":0},0,0,{"$error":"#N/A"}]
["",null,"",null,null,null,null,null,null,null,null,null,0,0,0,0,null,16,"",0,0,{"$f":"SUM($U$13:U28)","v":0},0,0,{"$error":"#N/A"}]
["",null,"",null,null,null,null,null,null,null,null,null,0,0,0,0,null,17,"",0,0,{"$f":"SUM($U$13:U29)","v":0},0,0,{"$error":"#N/A"}]
["",null,"",null,null,null,null,null,null,null,null,null,0,0,0,0,null,18,"",0,0,{"$f":"SUM($U$13:U30)","v":0},0,0,{"$error":"#N/A"}]
["",null,"",null,null,null,null,null,null,null,null,null,0,0,0,0,null,19,"",0,0,{"$f":"SUM($U$13:U31)","v":0},0,0,{"$error":"#N/A"}]
["",null,"",null,null,null,null,null,null,null,null,null,0,0,0,0,null,20,"",0,0,{"$f":"SUM($U$13:U32)","v":0},0,0,{"$error":"#N/A"}]
["",null,"",null,null,null,null,null,null,null,null,null,0,0,0,0,null,21,"",0,0,{"$f":"SUM($U$13:U33)","v":0},0,0,{"$error":"#N/A"}]
["",null,"",null,null,null,null,null,null,null,null,null,0,0,0,0,null,22,"",0,0,{"$f":"SUM($U$13:U34)","v":0},0,0,{"$error":"#N/A"}]
["",null,"",null,null,null,null,null,null,null,null,null,0,0,0,0,null,23,"",0,0,{"$f":"SUM($U$13:U35)","v":0},0,0,{"$error":"#N/A"}]
["",null,"",null,null,null,null,null,null,null,null,null,0,0,0,0,null,24,"",0,0,{"$f":"SUM($U$13:U36)","v":0},0,0,{"$error":"#N/A"}]
["",null,"",null,null,null,null,null,null,null,null,null,0,0,0,0,null,25,"",0,0,{"$f":"SUM($U$13:U37)","v":0},0,0,{"$error":"#N/A"}]
["",null,"",null,null,null,null,null,null,null,null,null,0,0,0,0,null,26,"",0,0,{"$f":"SUM($U$13:U38)","v":0},0,0,{"$error":"#N/A"}]
["",null,"",null,null,null,null,null,null,null,null,null,0,0,0,0,null,27,"",0,0,{"$f":"SUM($U$13:U39)","v":0},0,0,{"$error":"#N/A"}]
["",null,"",null,null,null,null,null,null,null,null,null,0,0,0,0,null,28,"",0,0,{"$f":"SUM($U$13:U40)","v":0},0,0,{"$error":"#N/A"}]
["",null,"",null,null,null,null,null,null,null,null,null,0,0,0,0,null,29,"",0,0,{"$f":"SUM($U$13:U41)","v":0},0,0,{"$error":"#N/A"}]
["",null,"",null,null,null,null,null,null,null,null,null,0,0,0,0,null,30,"",0,0,{"$f":"SUM($U$13:U42)","v":0},0,0,{"$error":"#N/A"}]
["",null,"",null,null,null,null,null,null,null,null,null,0,0,0,0,null,31,"",0,0,{"$f":"SUM($U$13:U43)","v":0},0,0,{"$error":"#N/A"}]
["合計",null,null,null,null,null,null,null,null,null,null,null,{"$f":"SUM(M13:M43)","v":0},{"$f":"SUM(N13:N43)","v":0},{"$f":"SUM(O13:O43)","v":0},{"$f":"SUM(P13:P43)","v":0},null,null,null,null,null,null,null,null,{"$error":"#N/A"}]

{"sheet":"2","index":6,"n_rows":44,"n_cols":27,"rows_kept":44,"cut":false,"hidden":false,"merged":[[6,18,8,18],[43,0,43,11],[10,15,11,15],[10,16,11,16],[10,18,11,18],[6,0,6,3],[6,11,8,11],[6,12,8,16],[7,0,7,4],[7,5,7,7],[7,8,7,10],[8,0,8,4],[8,5,8,7],[8,8,8,10],[10,21,11,21],[10,22,11,22],[10,23,11,23],[10,0,10,2],[10,3,10,6],[10,7,10,11],[10,12,11,12],[10,13,11,13],[10,14,11,14],[3,1,3,4],[3,5,3,13],[4,0,5,3],[4,4,5,6],[4,7,5,8],[4,9,5,12],[4,13,4,16],[5,13,5,16]]}
[null,"№",2]
[]
[]
[null,{"$f":"EOMONTH(B13,0)","v":"1900-01-31"},null,null,null,"鎌ケ谷市日中一時支援サービス提供実績記録票"]
["登録番号",null,null,null,{"$f":"VLOOKUP($C$1,利用者情報!A:U,COLUMN(利用者情報!B3),FALSE)","v":0},null,null,"支給決定障がい者等氏名\n（児童氏名）",null,{"$f":"VLOOKUP($C$1,利用者情報!A:U,COLUMN(利用者情報!C3),FALSE)","v":0},null,null,null,"事業所登録番号"]
[null,null,null,null,null,null,null,null,null,null,null,null,null,{"$f":"請求事業者!B3","v":0},null,null,null,null,"コメント",null,null,null,null,null,null,{"$f":"VLOOKUP(H7,'データ '!F:G,2,FALSE)","v":{"$error":"#N/A"}}]
["サービス内容及び\n契約支給量",null,null,null,{"$f":"VLOOKUP($C$1,利用者情報!A:U,COLUMN(利用者情報!D3),FALSE)","v":0},"日/月","区分",{"$f":"VLOOKUP($C$1,利用者情報!A:U,COLUMN(利用者情報!E4),FALSE)","v":0},null,null,null,"事業所及びその事務所",{"$f":"請求事業者!B7","v":0},null,null,null,null,null,{"$f":"利用者情報!J4","v":""},null,null,null,null,null,null,"04:00:00","４時間未満/"]
["利用者負担の有無",null,null,null,null,"利用者の負担割合",null,null,"利用者負担上限額",null,null,null,null,null,null,null,null,null,null,null,null,null,null,null,"地区区分","08:00:00","４～８時間未満/"]
[{"$f":"VLOOKUP($C$1,利用者情報!A:U,COLUMN(利用者情報!F3),FALSE)","v":0},null,null,null,null,{"$f":"IF(A9=\"有\",\"1割\",\"0割\")","v":"0割"},null,null,{"$f":"VLOOKUP($C$1,利用者情報!A:U,COLUMN(利用者情報!G3),FALSE)","v":0},null,null,null,null,null,null,null,null,null,null,null,null,null,null,null,{"$f":"請求事業者!C9","v":{"$error":"#N/A"}},null,"８時間以上/"]
[null,null,null,null,null,null,null,null,null,null,null,null,null,null,null,null,null,null,null,null,null,null,null,null,"便宜上区分"]
["日付",null,null,"サービス計画",null,null,null,"サービス提供実績",null,null,null,null,"算定\n時間","算定額","利用者\n負担額","請求額","利用者\n確認印",null,"コメント",null,null,"利用者負担額\n累計","上限到達フラグ","上限達成時の利用者負担額",{"$f":"VLOOKUP(H7,'データ '!F:G,2,FALSE)","v":{"$error":"#N/A"}}]
["月","日","曜日","計画\n日数","食事\n提供","入浴","送迎","開始時間","終了\n時間","食事\n提供","入浴","送迎",null,null,null,null,null,null,null,"請求額","利用者\n負担額",null,null,null,"（9割）"]
[{"$f":"IF(B13=\"\",\"\",TEXT(B13,\"m\"))","v":""},null,{"$f":"IF(B13=\"\",\"\",B13)","v":""},null,null,null,null,null,null,null,null,null,{"$f":"I13-H13","v":0},{"$f":"IF($I13=0,0,INDEX(単価,MATCH(Y13,時間,0),MATCH($Y$9,地域区分,0)))","v":0},{"$f":"IF(W13=0,U13,X13)","v":0},{"$f":"N13-O13","v":0},null,1,{"$f":"IF(A13=\"\",\"\",IF($A$13<>A13,\"月が異なります！\",IF(R13>$E$7,\"決定日数を超過しています！\",\"\")))","v":""},{"$f":"IF(AND($I13=0),0,IF($A$9=\"有\",INDEX(単価,MATCH(Y13,時間,0),MATCH($Y$9&$Y$12,地域区分,0)),INDEX(単価,MATCH(Y13,時間,0),MATCH($Y$9,地域区分,0))))","v":0},{"$f":"N13-T13","v":0},{"$f":"SUM($U$13:U13)","v":0},null,null,{"$f":"IF(M13>=$Z$8,$AA$9,IF(AND(M13<$Z$8,M13>=$Z$7),$AA$8,IF(M13<$Z$7,$AA$7)))&$Y$11","v":{"$error":"#N/A"}}]
[{"$f":"IF(B14=\"\",\"\",TEXT(B14,\"m\"))","v":""},null,{"$f":"IF(B14=\"\",\"\",B14)","v":""},null,null,null,null,null,null,null,null,null,{"$f":"I14-H14","v":0},0,{"$f":"IF(W14=0,U14,X14)","v":0},{"$f":"N14-O14","v":0},null,2,{"$f":"IF(A14=\"\",\"\",IF($A$13<>A14,\"月が異なります！\",IF(R14>$E$7,\"決定日数を超過しています！\",\"\")))","v":""},0,{"$f":"N14-T14","v":0},{"$f":"SUM($U$13:U14)","v":0},{"$f":"IF(AND(V13<$I$9,V14>$I$9),1,IF(V14>$I$9,2,0))","v":0},{"$f":"IF(W14=1,$I$9-V13,0)","v":0},{"$f":"IF(M14>=$Z$8,$AA$9,IF(AND(M14<$Z$8,M14>=$Z$7),$AA$8,IF(M14<$Z$7,$AA$7)))&$Y$11","v":{"$error":"#N/A"}}]
["",null,"",null,null,null,null,null,null,null,null,null,0,0,0,0,null,3,"",0,0,{"$f":"SUM($U$13:U15)","v":0},{"$f":"IF(AND(V14<$I$9,V15>$I$9),1,IF(V15>$I$9,2,0))","v":0},{"$f":"IF(W15=1,$I$9-V14,0)","v":0},{"$error":"#N/A"}]
["",null,"",null,null,null,null,null,null,null,null,null,0,0,0,0,null,4,"",0,0,{"$f":"SUM($U$13:U16)","v":0},0,0,{"$error":"#N/A"}]
["",null,"",null,null,null,null,null,null,null,null,null,0,0,0,0,null,5,"",0,0,{"$f":"SUM($U$13:U17)","v":0},0,0,{"$error":"#N/A"}]
["",null,"",null,null,null,null,null,null,null,null,null,0,0,0,0,null,6,"",0,0,{"$f":"SUM($U$13:U18)","v":0},0,0,{"$error":"#N/A"}]
["",null,"",null,null,null,null,null,null,null,null,null,0,0,0,0,null,7,"",0,0,{"$f":"SUM($U$13:U19)","v":0},0,0,{"$error":"#N/A"}]
["",null,"",null,null,null,null,null,null,null,null,null,0,0,0,0,null,8,"",0,0,{"$f":"SUM($U$13:U20)","v":0},0,0,{"$error":"#N/A"}]
["",null,"",null,null,null,null,null,null,null,null,null,0,0,{"$f":"IF(W21=0,U21,X21)","v":0},0,null,9,"",0,0,{"$f":"SUM($U$13:U21)","v":0},0,0,{"$error":"#N/A"}]
["",null,"",null,null,null,null,null,null,null,null,null,0,0,{"$f":"IF(W22=0,U22,X22)","v":0},0,null,10,"",0,{"$f":"N22-T22","v":0},{"$f":"SUM($U$13:U22)","v":0},0,{"$f":"IF(W22=1,$I$9-V21,0)","v":0},{"$error":"#N/A"}]
["",null,"",null,null,null,null,null,null,null,null,null,0,0,0,0,null,11,"",0,0,{"$f":"SUM($U$13:U23)","v":0},0,0,{"$error":"#N/A"}]
["",null,"",null,null,null,null,null,null,null,null,null,0,0,0,0,null,12,"",0,0,{"$f":"SUM($U$13:U24)","v":0},0,0,{"$error":"#N/A"}]
["",null,"",null,null,null,null,null,null,null,null,null,0,0,0,0,null,13,"",0,0,{"$f":"SUM($U$13:U25)","v":0},0,0,{"$error":"#N/A"}]
["",null,"",null,null,null,null,null,null,null,null,null,0,0,0,0,null,14,"",0,0,{"$f":"SUM($U$13:U26)","v":0},0,0,{"$error":"#N/A"}]
["",null,"",null,null,null,null,null,null,null,null,null,0,0,0,0,null,15,"",0,0,{"$f":"SUM($U$13:U27)","v":0},0,0,{"$error":"#N/A"}]
["",null,"",null,null,null,null,null,null,null,null,null,0,0,0,0,null,16,"",0,0,{"$f":"SUM($U$13:U28)","v":0},0,0,{"$error":"#N/A"}]
["",null,"",null,null,null,null,null,null,null,null,null,0,0,0,0,null,17,"",0,0,{"$f":"SUM($U$13:U29)","v":0},0,0,{"$error":"#N/A"}]
["",null,"",null,null,null,null,null,null,null,null,null,0,0,0,0,null,18,"",0,0,{"$f":"SUM($U$13:U30)","v":0},0,0,{"$error":"#N/A"}]
["",null,"",null,null,null,null,null,null,null,null,null,0,0,0,0,null,19,"",0,0,{"$f":"SUM($U$13:U31)","v":0},0,0,{"$error":"#N/A"}]
["",null,"",null,null,null,null,null,null,null,null,null,0,0,0,0,null,20,"",0,0,{"$f":"SUM($U$13:U32)","v":0},0,0,{"$error":"#N/A"}]
["",null,"",null,null,null,null,null,null,null,null,null,0,0,0,0,null,21,"",0,0,{"$f":"SUM($U$13:U33)","v":0},0,0,{"$error":"#N/A"}]
["",null,"",null,null,null,null,null,null,null,null,null,0,0,0,0,null,22,"",0,0,{"$f":"SUM($U$13:U34)","v":0},0,0,{"$error":"#N/A"}]
["",null,"",null,null,null,null,null,null,null,null,null,0,0,0,0,null,23,"",0,0,{"$f":"SUM($U$13:U35)","v":0},0,0,{"$error":"#N/A"}]
["",null,"",null,null,null,null,null,null,null,null,null,0,0,0,0,null,24,"",0,0,{"$f":"SUM($U$13:U36)","v":0},0,0,{"$error":"#N/A"}]
["",null,"",null,null,null,null,null,null,null,null,null,0,0,0,0,null,25,"",0,0,{"$f":"SUM($U$13:U37)","v":0},0,0,{"$error":"#N/A"}]
["",null,"",null,null,null,null,null,null,null,null,null,0,0,0,0,null,26,"",0,0,{"$f":"SUM($U$13:U38)","v":0},0,0,{"$error":"#N/A"}]
["",null,"",null,null,null,null,null,null,null,null,null,0,0,0,0,null,27,"",0,0,{"$f":"SUM($U$13:U39)","v":0},0,0,{"$error":"#N/A"}]
["",null,"",null,null,null,null,null,null,null,null,null,0,0,0,0,null,28,"",0,0,{"$f":"SUM($U$13:U40)","v":0},0,0,{"$error":"#N/A"}]
["",null,"",null,null,null,null,null,null,null,null,null,0,0,0,0,null,29,"",0,0,{"$f":"SUM($U$13:U41)","v":0},0,0,{"$error":"#N/A"}]
["",null,"",null,null,null,null,null,null,null,null,null,0,0,0,0,null,30,"",0,0,{"$f":"SUM($U$13:U42)","v":0},0,0,{"$error":"#N/A"}]
["",null,"",null,null,null,null,null,null,null,null,null,0,0,0,0,null,31,"",0,0,{"$f":"SUM($U$13:U43)","v":0},0,0,{"$error":"#N/A"}]
["合計",null,null,null,null,null,null,null,null,null,null,null,{"$f":"SUM(M13:M43)","v":0},{"$f":"SUM(N13:N43)","v":0},{"$f":"SUM(O13:O43)","v":0},{"$f":"SUM(P13:P43)","v":0},null,null,null,null,null,null,null,null,{"$error":"#N/A"}]

{"sheet":"3","index":7,"n_rows":44,"n_cols":27,"rows_kept":44,"cut":false,"hidden":false,"merged":[[6,18,8,18],[43,0,43,11],[10,15,11,15],[10,16,11,16],[10,18,11,18],[6,0,6,3],[6,11,8,11],[6,12,8,16],[7,0,7,4],[7,5,7,7],[7,8,7,10],[8,0,8,4],[8,5,8,7],[8,8,8,10],[10,21,11,21],[10,22,11,22],[10,23,11,23],[10,0,10,2],[10,3,10,6],[10,7,10,11],[10,12,11,12],[10,13,11,13],[10,14,11,14],[3,1,3,4],[3,5,3,13],[4,0,5,3],[4,4,5,6],[4,7,5,8],[4,9,5,12],[4,13,4,16],[5,13,5,16]]}
[null,"№",3]
[]
[]
[null,{"$f":"EOMONTH(B13,0)","v":"1900-01-31"},null,null,null,"鎌ケ谷市日中一時支援サービス提供実績記録票"]
["登録番号",null,null,null,{"$f":"VLOOKUP($C$1,利用者情報!A:U,COLUMN(利用者情報!B3),FALSE)","v":0},null,null,"支給決定障がい者等氏名\n（児童氏名）",null,{"$f":"VLOOKUP($C$1,利用者情報!A:U,COLUMN(利用者情報!C3),FALSE)","v":0},null,null,null,"事業所登録番号"]
[null,null,null,null,null,null,null,null,null,null,null,null,null,{"$f":"請求事業者!B3","v":0},null,null,null,null,"コメント",null,null,null,null,null,null,{"$f":"VLOOKUP(H7,'データ '!F:G,2,FALSE)","v":{"$error":"#N/A"}}]
["サービス内容及び\n契約支給量",null,null,null,{"$f":"VLOOKUP($C$1,利用者情報!A:U,COLUMN(利用者情報!D3),FALSE)","v":0},"日/月","区分",{"$f":"VLOOKUP($C$1,利用者情報!A:U,COLUMN(利用者情報!E4),FALSE)","v":0},null,null,null,"事業所及びその事務所",{"$f":"請求事業者!B7","v":0},null,null,null,null,null,{"$f":"利用者情報!J4","v":""},null,null,null,null,null,null,"04:00:00","４時間未満/"]
["利用者負担の有無",null,null,null,null,"利用者の負担割合",null,null,"利用者負担上限額",null,null,null,null,null,null,null,null,null,null,null,null,null,null,null,"地区区分","08:00:00","４～８時間未満/"]
[{"$f":"VLOOKUP($C$1,利用者情報!A:U,COLUMN(利用者情報!F3),FALSE)","v":0},null,null,null,null,{"$f":"IF(A9=\"有\",\"1割\",\"0割\")","v":"0割"},null,null,{"$f":"VLOOKUP($C$1,利用者情報!A:U,COLUMN(利用者情報!G3),FALSE)","v":0},null,null,null,null,null,null,null,null,null,null,null,null,null,null,null,{"$f":"請求事業者!C9","v":{"$error":"#N/A"}},null,"８時間以上/"]
[null,null,null,null,null,null,null,null,null,null,null,null,null,null,null,null,null,null,null,null,null,null,null,null,"便宜上区分"]
["日付",null,null,"サービス計画",null,null,null,"サービス提供実績",null,null,null,null,"算定\n時間","算定額","利用者\n負担額","請求額","利用者\n確認印",null,"コメント",null,null,"利用者負担額\n累計","上限到達フラグ","上限達成時の利用者負担額",{"$f":"VLOOKUP(H7,'データ '!F:G,2,FALSE)","v":{"$error":"#N/A"}}]
["月","日","曜日","計画\n日数","食事\n提供","入浴","送迎","開始時間","終了\n時間","食事\n提供","入浴","送迎",null,null,null,null,null,null,null,"請求額","利用者\n負担額",null,null,null,"（9割）"]
[{"$f":"IF(B13=\"\",\"\",TEXT(B13,\"m\"))","v":""},null,{"$f":"IF(B13=\"\",\"\",B13)","v":""},null,null,null,null,null,null,null,null,null,{"$f":"I13-H13","v":0},{"$f":"IF($I13=0,0,INDEX(単価,MATCH(Y13,時間,0),MATCH($Y$9,地域区分,0)))","v":0},{"$f":"IF(W13=0,U13,X13)","v":0},{"$f":"N13-O13","v":0},null,1,{"$f":"IF(A13=\"\",\"\",IF($A$13<>A13,\"月が異なります！\",IF(R13>$E$7,\"決定日数を超過しています！\",\"\")))","v":""},{"$f":"IF(AND($I13=0),0,IF($A$9=\"有\",INDEX(単価,MATCH(Y13,時間,0),MATCH($Y$9&$Y$12,地域区分,0)),INDEX(単価,MATCH(Y13,時間,0),MATCH($Y$9,地域区分,0))))","v":0},{"$f":"N13-T13","v":0},{"$f":"SUM($U$13:U13)","v":0},null,null,{"$f":"IF(M13>=$Z$8,$AA$9,IF(AND(M13<$Z$8,M13>=$Z$7),$AA$8,IF(M13<$Z$7,$AA$7)))&$Y$11","v":{"$error":"#N/A"}}]
[{"$f":"IF(B14=\"\",\"\",TEXT(B14,\"m\"))","v":""},null,{"$f":"IF(B14=\"\",\"\",B14)","v":""},null,null,null,null,null,null,null,null,null,{"$f":"I14-H14","v":0},0,{"$f":"IF(W14=0,U14,X14)","v":0},{"$f":"N14-O14","v":0},null,2,{"$f":"IF(A14=\"\",\"\",IF($A$13<>A14,\"月が異なります！\",IF(R14>$E$7,\"決定日数を超過しています！\",\"\")))","v":""},0,{"$f":"N14-T14","v":0},{"$f":"SUM($U$13:U14)","v":0},{"$f":"IF(AND(V13<$I$9,V14>$I$9),1,IF(V14>$I$9,2,0))","v":0},{"$f":"IF(W14=1,$I$9-V13,0)","v":0},{"$f":"IF(M14>=$Z$8,$AA$9,IF(AND(M14<$Z$8,M14>=$Z$7),$AA$8,IF(M14<$Z$7,$AA$7)))&$Y$11","v":{"$error":"#N/A"}}]
["",null,"",null,null,null,null,null,null,null,null,null,0,0,0,0,null,3,"",0,0,{"$f":"SUM($U$13:U15)","v":0},{"$f":"IF(AND(V14<$I$9,V15>$I$9),1,IF(V15>$I$9,2,0))","v":0},{"$f":"IF(W15=1,$I$9-V14,0)","v":0},{"$error":"#N/A"}]
["",null,"",null,null,null,null,null,null,null,null,null,0,0,0,0,null,4,"",0,0,{"$f":"SUM($U$13:U16)","v":0},0,0,{"$error":"#N/A"}]
["",null,"",null,null,null,null,null,null,null,null,null,0,0,0,0,null,5,"",0,0,{"$f":"SUM($U$13:U17)","v":0},0,0,{"$error":"#N/A"}]
["",null,"",null,null,null,null,null,null,null,null,null,0,0,0,0,null,6,"",0,0,{"$f":"SUM($U$13:U18)","v":0},0,0,{"$error":"#N/A"}]
["",null,"",null,null,null,null,null,null,null,null,null,0,0,0,0,null,7,"",0,0,{"$f":"SUM($U$13:U19)","v":0},0,0,{"$error":"#N/A"}]
["",null,"",null,null,null,null,null,null,null,null,null,0,0,0,0,null,8,"",0,0,{"$f":"SUM($U$13:U20)","v":0},0,0,{"$error":"#N/A"}]
["",null,"",null,null,null,null,null,null,null,null,null,0,0,{"$f":"IF(W21=0,U21,X21)","v":0},0,null,9,"",0,0,{"$f":"SUM($U$13:U21)","v":0},0,0,{"$error":"#N/A"}]
["",null,"",null,null,null,null,null,null,null,null,null,0,0,{"$f":"IF(W22=0,U22,X22)","v":0},0,null,10,"",0,{"$f":"N22-T22","v":0},{"$f":"SUM($U$13:U22)","v":0},0,{"$f":"IF(W22=1,$I$9-V21,0)","v":0},{"$error":"#N/A"}]
["",null,"",null,null,null,null,null,null,null,null,null,0,0,0,0,null,11,"",0,0,{"$f":"SUM($U$13:U23)","v":0},0,0,{"$error":"#N/A"}]
["",null,"",null,null,null,null,null,null,null,null,null,0,0,0,0,null,12,"",0,0,{"$f":"SUM($U$13:U24)","v":0},0,0,{"$error":"#N/A"}]
["",null,"",null,null,null,null,null,null,null,null,null,0,0,0,0,null,13,"",0,0,{"$f":"SUM($U$13:U25)","v":0},0,0,{"$error":"#N/A"}]
["",null,"",null,null,null,null,null,null,null,null,null,0,0,0,0,null,14,"",0,0,{"$f":"SUM($U$13:U26)","v":0},0,0,{"$error":"#N/A"}]
["",null,"",null,null,null,null,null,null,null,null,null,0,0,0,0,null,15,"",0,0,{"$f":"SUM($U$13:U27)","v":0},0,0,{"$error":"#N/A"}]
["",null,"",null,null,null,null,null,null,null,null,null,0,0,0,0,null,16,"",0,0,{"$f":"SUM($U$13:U28)","v":0},0,0,{"$error":"#N/A"}]
["",null,"",null,null,null,null,null,null,null,null,null,0,0,0,0,null,17,"",0,0,{"$f":"SUM($U$13:U29)","v":0},0,0,{"$error":"#N/A"}]
["",null,"",null,null,null,null,null,null,null,null,null,0,0,0,0,null,18,"",0,0,{"$f":"SUM($U$13:U30)","v":0},0,0,{"$error":"#N/A"}]
["",null,"",null,null,null,null,null,null,null,null,null,0,0,0,0,null,19,"",0,0,{"$f":"SUM($U$13:U31)","v":0},0,0,{"$error":"#N/A"}]
["",null,"",null,null,null,null,null,null,null,null,null,0,0,0,0,null,20,"",0,0,{"$f":"SUM($U$13:U32)","v":0},0,0,{"$error":"#N/A"}]
["",null,"",null,null,null,null,null,null,null,null,null,0,0,0,0,null,21,"",0,0,{"$f":"SUM($U$13:U33)","v":0},0,0,{"$error":"#N/A"}]
["",null,"",null,null,null,null,null,null,null,null,null,0,0,0,0,null,22,"",0,0,{"$f":"SUM($U$13:U34)","v":0},0,0,{"$error":"#N/A"}]
["",null,"",null,null,null,null,null,null,null,null,null,0,0,0,0,null,23,"",0,0,{"$f":"SUM($U$13:U35)","v":0},0,0,{"$error":"#N/A"}]
["",null,"",null,null,null,null,null,null,null,null,null,0,0,0,0,null,24,"",0,0,{"$f":"SUM($U$13:U36)","v":0},0,0,{"$error":"#N/A"}]
["",null,"",null,null,null,null,null,null,null,null,null,0,0,0,0,null,25,"",0,0,{"$f":"SUM($U$13:U37)","v":0},0,0,{"$error":"#N/A"}]
["",null,"",null,null,null,null,null,null,null,null,null,0,0,0,0,null,26,"",0,0,{"$f":"SUM($U$13:U38)","v":0},0,0,{"$error":"#N/A"}]
["",null,"",null,null,null,null,null,null,null,null,null,0,0,0,0,null,27,"",0,0,{"$f":"SUM($U$13:U39)","v":0},0,0,{"$error":"#N/A"}]
["",null,"",null,null,null,null,null,null,null,null,null,0,0,0,0,null,28,"",0,0,{"$f":"SUM($U$13:U40)","v":0},0,0,{"$error":"#N/A"}]
["",null,"",null,null,null,null,null,null,null,null,null,0,0,0,0,null,29,"",0,0,{"$f":"SUM($U$13:U41)","v":0},0,0,{"$error":"#N/A"}]
["",null,"",null,null,null,null,null,null,null,null,null,0,0,0,0,null,30,"",0,0,{"$f":"SUM($U$13:U42)","v":0},0,0,{"$error":"#N/A"}]
["",null,"",null,null,null,null,null,null,null,null,null,0,0,0,0,null,31,"",0,0,{"$f":"SUM($U$13:U43)","v":0},0,0,{"$error":"#N/A"}]
["合計",null,null,null,null,null,null,null,null,null,null,null,{"$f":"SUM(M13:M43)","v":0},{"$f":"SUM(N13:N43)","v":0},{"$f":"SUM(O13:O43)","v":0},{"$f":"SUM(P13:P43)","v":0},null,null,null,null,null,null,null,null,{"$error":"#N/A"}]

{"sheet":"4","index":8,"n_rows":44,"n_cols":27,"rows_kept":44,"cut":false,"hidden":false,"merged":[[6,18,8,18],[43,0,43,11],[10,15,11,15],[10,16,11,16],[10,18,11,18],[6,0,6,3],[6,11,8,11],[6,12,8,16],[7,0,7,4],[7,5,7,7],[7,8,7,10],[8,0,8,4],[8,5,8,7],[8,8,8,10],[10,21,11,21],[10,22,11,22],[10,23,11,23],[10,0,10,2],[10,3,10,6],[10,7,10,11],[10,12,11,12],[10,13,11,13],[10,14,11,14],[3,1,3,4],[3,5,3,13],[4,0,5,3],[4,4,5,6],[4,7,5,8],[4,9,5,12],[4,13,4,16],[5,13,5,16]]}
[null,"№",4]
[]
[]
[null,{"$f":"EOMONTH(B13,0)","v":"1900-01-31"},null,null,null,"鎌ケ谷市日中一時支援サービス提供実績記録票"]
["登録番号",null,null,null,{"$f":"VLOOKUP($C$1,利用者情報!A:U,COLUMN(利用者情報!B3),FALSE)","v":0},null,null,"支給決定障がい者等氏名\n（児童氏名）",null,{"$f":"VLOOKUP($C$1,利用者情報!A:U,COLUMN(利用者情報!C3),FALSE)","v":0},null,null,null,"事業所登録番号"]
[null,null,null,null,null,null,null,null,null,null,null,null,null,{"$f":"請求事業者!B3","v":0},null,null,null,null,"コメント",null,null,null,null,null,null,{"$f":"VLOOKUP(H7,'データ '!F:G,2,FALSE)","v":{"$error":"#N/A"}}]
["サービス内容及び\n契約支給量",null,null,null,{"$f":"VLOOKUP($C$1,利用者情報!A:U,COLUMN(利用者情報!D3),FALSE)","v":0},"日/月","区分",{"$f":"VLOOKUP($C$1,利用者情報!A:U,COLUMN(利用者情報!E4),FALSE)","v":0},null,null,null,"事業所及びその事務所",{"$f":"請求事業者!B7","v":0},null,null,null,null,null,{"$f":"利用者情報!J4","v":""},null,null,null,null,null,null,"04:00:00","４時間未満/"]
["利用者負担の有無",null,null,null,null,"利用者の負担割合",null,null,"利用者負担上限額",null,null,null,null,null,null,null,null,null,null,null,null,null,null,null,"地区区分","08:00:00","４～８時間未満/"]
[{"$f":"VLOOKUP($C$1,利用者情報!A:U,COLUMN(利用者情報!F3),FALSE)","v":0},null,null,null,null,{"$f":"IF(A9=\"有\",\"1割\",\"0割\")","v":"0割"},null,null,{"$f":"VLOOKUP($C$1,利用者情報!A:U,COLUMN(利用者情報!G3),FALSE)","v":0},null,null,null,null,null,null,null,null,null,null,null,null,null,null,null,{"$f":"請求事業者!C9","v":{"$error":"#N/A"}},null,"８時間以上/"]
[null,null,null,null,null,null,null,null,null,null,null,null,null,null,null,null,null,null,null,null,null,null,null,null,"便宜上区分"]
["日付",null,null,"サービス計画",null,null,null,"サービス提供実績",null,null,null,null,"算定\n時間","算定額","利用者\n負担額","請求額","利用者\n確認印",null,"コメント",null,null,"利用者負担額\n累計","上限到達フラグ","上限達成時の利用者負担額",{"$f":"VLOOKUP(H7,'データ '!F:G,2,FALSE)","v":{"$error":"#N/A"}}]
["月","日","曜日","計画\n日数","食事\n提供","入浴","送迎","開始時間","終了\n時間","食事\n提供","入浴","送迎",null,null,null,null,null,null,null,"請求額","利用者\n負担額",null,null,null,"（9割）"]
[{"$f":"IF(B13=\"\",\"\",TEXT(B13,\"m\"))","v":""},null,{"$f":"IF(B13=\"\",\"\",B13)","v":""},null,null,null,null,null,null,null,null,null,{"$f":"I13-H13","v":0},{"$f":"IF($I13=0,0,INDEX(単価,MATCH(Y13,時間,0),MATCH($Y$9,地域区分,0)))","v":0},{"$f":"IF(W13=0,U13,X13)","v":0},{"$f":"N13-O13","v":0},null,1,{"$f":"IF(A13=\"\",\"\",IF($A$13<>A13,\"月が異なります！\",IF(R13>$E$7,\"決定日数を超過しています！\",\"\")))","v":""},{"$f":"IF(AND($I13=0),0,IF($A$9=\"有\",INDEX(単価,MATCH(Y13,時間,0),MATCH($Y$9&$Y$12,地域区分,0)),INDEX(単価,MATCH(Y13,時間,0),MATCH($Y$9,地域区分,0))))","v":0},{"$f":"N13-T13","v":0},{"$f":"SUM($U$13:U13)","v":0},null,null,{"$f":"IF(M13>=$Z$8,$AA$9,IF(AND(M13<$Z$8,M13>=$Z$7),$AA$8,IF(M13<$Z$7,$AA$7)))&$Y$11","v":{"$error":"#N/A"}}]
[{"$f":"IF(B14=\"\",\"\",TEXT(B14,\"m\"))","v":""},null,{"$f":"IF(B14=\"\",\"\",B14)","v":""},null,null,null,null,null,null,null,null,null,{"$f":"I14-H14","v":0},0,{"$f":"IF(W14=0,U14,X14)","v":0},{"$f":"N14-O14","v":0},null,2,{"$f":"IF(A14=\"\",\"\",IF($A$13<>A14,\"月が異なります！\",IF(R14>$E$7,\"決定日数を超過しています！\",\"\")))","v":""},0,{"$f":"N14-T14","v":0},{"$f":"SUM($U$13:U14)","v":0},{"$f":"IF(AND(V13<$I$9,V14>$I$9),1,IF(V14>$I$9,2,0))","v":0},{"$f":"IF(W14=1,$I$9-V13,0)","v":0},{"$f":"IF(M14>=$Z$8,$AA$9,IF(AND(M14<$Z$8,M14>=$Z$7),$AA$8,IF(M14<$Z$7,$AA$7)))&$Y$11","v":{"$error":"#N/A"}}]
["",null,"",null,null,null,null,null,null,null,null,null,0,0,0,0,null,3,"",0,0,{"$f":"SUM($U$13:U15)","v":0},{"$f":"IF(AND(V14<$I$9,V15>$I$9),1,IF(V15>$I$9,2,0))","v":0},{"$f":"IF(W15=1,$I$9-V14,0)","v":0},{"$error":"#N/A"}]
["",null,"",null,null,null,null,null,null,null,null,null,0,0,0,0,null,4,"",0,0,{"$f":"SUM($U$13:U16)","v":0},0,0,{"$error":"#N/A"}]
["",null,"",null,null,null,null,null,null,null,null,null,0,0,0,0,null,5,"",0,0,{"$f":"SUM($U$13:U17)","v":0},0,0,{"$error":"#N/A"}]
["",null,"",null,null,null,null,null,null,null,null,null,0,0,0,0,null,6,"",0,0,{"$f":"SUM($U$13:U18)","v":0},0,0,{"$error":"#N/A"}]
["",null,"",null,null,null,null,null,null,null,null,null,0,0,0,0,null,7,"",0,0,{"$f":"SUM($U$13:U19)","v":0},0,0,{"$error":"#N/A"}]
["",null,"",null,null,null,null,null,null,null,null,null,0,0,0,0,null,8,"",0,0,{"$f":"SUM($U$13:U20)","v":0},0,0,{"$error":"#N/A"}]
["",null,"",null,null,null,null,null,null,null,null,null,0,0,{"$f":"IF(W21=0,U21,X21)","v":0},0,null,9,"",0,0,{"$f":"SUM($U$13:U21)","v":0},0,0,{"$error":"#N/A"}]
["",null,"",null,null,null,null,null,null,null,null,null,0,0,{"$f":"IF(W22=0,U22,X22)","v":0},0,null,10,"",0,{"$f":"N22-T22","v":0},{"$f":"SUM($U$13:U22)","v":0},0,{"$f":"IF(W22=1,$I$9-V21,0)","v":0},{"$error":"#N/A"}]
["",null,"",null,null,null,null,null,null,null,null,null,0,0,0,0,null,11,"",0,0,{"$f":"SUM($U$13:U23)","v":0},0,0,{"$error":"#N/A"}]
["",null,"",null,null,null,null,null,null,null,null,null,0,0,0,0,null,12,"",0,0,{"$f":"SUM($U$13:U24)","v":0},0,0,{"$error":"#N/A"}]
["",null,"",null,null,null,null,null,null,null,null,null,0,0,0,0,null,13,"",0,0,{"$f":"SUM($U$13:U25)","v":0},0,0,{"$error":"#N/A"}]
["",null,"",null,null,null,null,null,null,null,null,null,0,0,0,0,null,14,"",0,0,{"$f":"SUM($U$13:U26)","v":0},0,0,{"$error":"#N/A"}]
["",null,"",null,null,null,null,null,null,null,null,null,0,0,0,0,null,15,"",0,0,{"$f":"SUM($U$13:U27)","v":0},0,0,{"$error":"#N/A"}]
["",null,"",null,null,null,null,null,null,null,null,null,0,0,0,0,null,16,"",0,0,{"$f":"SUM($U$13:U28)","v":0},0,0,{"$error":"#N/A"}]
["",null,"",null,null,null,null,null,null,null,null,null,0,0,0,0,null,17,"",0,0,{"$f":"SUM($U$13:U29)","v":0},0,0,{"$error":"#N/A"}]
["",null,"",null,null,null,null,null,null,null,null,null,0,0,0,0,null,18,"",0,0,{"$f":"SUM($U$13:U30)","v":0},0,0,{"$error":"#N/A"}]
["",null,"",null,null,null,null,null,null,null,null,null,0,0,0,0,null,19,"",0,0,{"$f":"SUM($U$13:U31)","v":0},0,0,{"$error":"#N/A"}]
["",null,"",null,null,null,null,null,null,null,null,null,0,0,0,0,null,20,"",0,0,{"$f":"SUM($U$13:U32)","v":0},0,0,{"$error":"#N/A"}]
["",null,"",null,null,null,null,null,null,null,null,null,0,0,0,0,null,21,"",0,0,{"$f":"SUM($U$13:U33)","v":0},0,0,{"$error":"#N/A"}]
["",null,"",null,null,null,null,null,null,null,null,null,0,0,0,0,null,22,"",0,0,{"$f":"SUM($U$13:U34)","v":0},0,0,{"$error":"#N/A"}]
["",null,"",null,null,null,null,null,null,null,null,null,0,0,0,0,null,23,"",0,0,{"$f":"SUM($U$13:U35)","v":0},0,0,{"$error":"#N/A"}]
["",null,"",null,null,null,null,null,null,null,null,null,0,0,0,0,null,24,"",0,0,{"$f":"SUM($U$13:U36)","v":0},0,0,{"$error":"#N/A"}]
["",null,"",null,null,null,null,null,null,null,null,null,0,0,0,0,null,25,"",0,0,{"$f":"SUM($U$13:U37)","v":0},0,0,{"$error":"#N/A"}]
["",null,"",null,null,null,null,null,null,null,null,null,0,0,0,0,null,26,"",0,0,{"$f":"SUM($U$13:U38)","v":0},0,0,{"$error":"#N/A"}]
["",null,"",null,null,null,null,null,null,null,null,null,0,0,0,0,null,27,"",0,0,{"$f":"SUM($U$13:U39)","v":0},0,0,{"$error":"#N/A"}]
["",null,"",null,null,null,null,null,null,null,null,null,0,0,0,0,null,28,"",0,0,{"$f":"SUM($U$13:U40)","v":0},0,0,{"$error":"#N/A"}]
["",null,"",null,null,null,null,null,null,null,null,null,0,0,0,0,null,29,"",0,0,{"$f":"SUM($U$13:U41)","v":0},0,0,{"$error":"#N/A"}]
["",null,"",null,null,null,null,null,null,null,null,null,0,0,0,0,null,30,"",0,0,{"$f":"SUM($U$13:U42)","v":0},0,0,{"$error":"#N/A"}]
["",null,"",null,null,null,null,null,null,null,null,null,0,0,0,0,null,31,"",0,0,{"$f":"SUM($U$13:U43)","v":0},0,0,{"$error":"#N/A"}]
["合計",null,null,null,null,null,null,null,null,null,null,null,{"$f":"SUM(M13:M43)","v":0},{"$f":"SUM(N13:N43)","v":0},{"$f":"SUM(O13:O43)","v":0},{"$f":"SUM(P13:P43)","v":0},null,null,null,null,null,null,null,null,{"$error":"#N/A"}]

{"sheet":"5","index":9,"n_rows":44,"n_cols":27,"rows_kept":44,"cut":false,"hidden":false,"merged":[[6,18,8,18],[43,0,43,11],[10,15,11,15],[10,16,11,16],[10,18,11,18],[6,0,6,3],[6,11,8,11],[6,12,8,16],[7,0,7,4],[7,5,7,7],[7,8,7,10],[8,0,8,4],[8,5,8,7],[8,8,8,10],[10,21,11,21],[10,22,11,22],[10,23,11,23],[10,0,10,2],[10,3,10,6],[10,7,10,11],[10,12,11,12],[10,13,11,13],[10,14,11,14],[3,1,3,4],[3,5,3,13],[4,0,5,3],[4,4,5,6],[4,7,5,8],[4,9,5,12],[4,13,4,16],[5,13,5,16]]}
[null,"№",5]
[]
[]
[null,{"$f":"EOMONTH(B13,0)","v":"1900-01-31"},null,null,null,"鎌ケ谷市日中一時支援サービス提供実績記録票"]
["登録番号",null,null,null,{"$f":"VLOOKUP($C$1,利用者情報!A:U,COLUMN(利用者情報!B3),FALSE)","v":0},null,null,"支給決定障がい者等氏名\n（児童氏名）",null,{"$f":"VLOOKUP($C$1,利用者情報!A:U,COLUMN(利用者情報!C3),FALSE)","v":0},null,null,null,"事業所登録番号"]
[null,null,null,null,null,null,null,null,null,null,null,null,null,{"$f":"請求事業者!B3","v":0},null,null,null,null,"コメント",null,null,null,null,null,null,{"$f":"VLOOKUP(H7,'データ '!F:G,2,FALSE)","v":{"$error":"#N/A"}}]
["サービス内容及び\n契約支給量",null,null,null,{"$f":"VLOOKUP($C$1,利用者情報!A:U,COLUMN(利用者情報!D3),FALSE)","v":0},"日/月","区分",{"$f":"VLOOKUP($C$1,利用者情報!A:U,COLUMN(利用者情報!E4),FALSE)","v":0},null,null,null,"事業所及びその事務所",{"$f":"請求事業者!B7","v":0},null,null,null,null,null,{"$f":"利用者情報!J4","v":""},null,null,null,null,null,null,"04:00:00","４時間未満/"]
["利用者負担の有無",null,null,null,null,"利用者の負担割合",null,null,"利用者負担上限額",null,null,null,null,null,null,null,null,null,null,null,null,null,null,null,"地区区分","08:00:00","４～８時間未満/"]
[{"$f":"VLOOKUP($C$1,利用者情報!A:U,COLUMN(利用者情報!F3),FALSE)","v":0},null,null,null,null,{"$f":"IF(A9=\"有\",\"1割\",\"0割\")","v":"0割"},null,null,{"$f":"VLOOKUP($C$1,利用者情報!A:U,COLUMN(利用者情報!G3),FALSE)","v":0},null,null,null,null,null,null,null,null,null,null,null,null,null,null,null,{"$f":"請求事業者!C9","v":{"$error":"#N/A"}},null,"８時間以上/"]
[null,null,null,null,null,null,null,null,null,null,null,null,null,null,null,null,null,null,null,null,null,null,null,null,"便宜上区分"]
["日付",null,null,"サービス計画",null,null,null,"サービス提供実績",null,null,null,null,"算定\n時間","算定額","利用者\n負担額","請求額","利用者\n確認印",null,"コメント",null,null,"利用者負担額\n累計","上限到達フラグ","上限達成時の利用者負担額",{"$f":"VLOOKUP(H7,'データ '!F:G,2,FALSE)","v":{"$error":"#N/A"}}]
["月","日","曜日","計画\n日数","食事\n提供","入浴","送迎","開始時間","終了\n時間","食事\n提供","入浴","送迎",null,null,null,null,null,null,null,"請求額","利用者\n負担額",null,null,null,"（9割）"]
[{"$f":"IF(B13=\"\",\"\",TEXT(B13,\"m\"))","v":""},null,{"$f":"IF(B13=\"\",\"\",B13)","v":""},null,null,null,null,null,null,null,null,null,{"$f":"I13-H13","v":0},{"$f":"IF($I13=0,0,INDEX(単価,MATCH(Y13,時間,0),MATCH($Y$9,地域区分,0)))","v":0},{"$f":"IF(W13=0,U13,X13)","v":0},{"$f":"N13-O13","v":0},null,1,{"$f":"IF(A13=\"\",\"\",IF($A$13<>A13,\"月が異なります！\",IF(R13>$E$7,\"決定日数を超過しています！\",\"\")))","v":""},{"$f":"IF(AND($I13=0),0,IF($A$9=\"有\",INDEX(単価,MATCH(Y13,時間,0),MATCH($Y$9&$Y$12,地域区分,0)),INDEX(単価,MATCH(Y13,時間,0),MATCH($Y$9,地域区分,0))))","v":0},{"$f":"N13-T13","v":0},{"$f":"SUM($U$13:U13)","v":0},null,null,{"$f":"IF(M13>=$Z$8,$AA$9,IF(AND(M13<$Z$8,M13>=$Z$7),$AA$8,IF(M13<$Z$7,$AA$7)))&$Y$11","v":{"$error":"#N/A"}}]
[{"$f":"IF(B14=\"\",\"\",TEXT(B14,\"m\"))","v":""},null,{"$f":"IF(B14=\"\",\"\",B14)","v":""},null,null,null,null,null,null,null,null,null,{"$f":"I14-H14","v":0},0,{"$f":"IF(W14=0,U14,X14)","v":0},{"$f":"N14-O14","v":0},null,2,{"$f":"IF(A14=\"\",\"\",IF($A$13<>A14,\"月が異なります！\",IF(R14>$E$7,\"決定日数を超過しています！\",\"\")))","v":""},0,{"$f":"N14-T14","v":0},{"$f":"SUM($U$13:U14)","v":0},{"$f":"IF(AND(V13<$I$9,V14>$I$9),1,IF(V14>$I$9,2,0))","v":0},{"$f":"IF(W14=1,$I$9-V13,0)","v":0},{"$f":"IF(M14>=$Z$8,$AA$9,IF(AND(M14<$Z$8,M14>=$Z$7),$AA$8,IF(M14<$Z$7,$AA$7)))&$Y$11","v":{"$error":"#N/A"}}]
["",null,"",null,null,null,null,null,null,null,null,null,0,0,0,0,null,3,"",0,0,{"$f":"SUM($U$13:U15)","v":0},{"$f":"IF(AND(V14<$I$9,V15>$I$9),1,IF(V15>$I$9,2,0))","v":0},{"$f":"IF(W15=1,$I$9-V14,0)","v":0},{"$error":"#N/A"}]
["",null,"",null,null,null,null,null,null,null,null,null,0,0,0,0,null,4,"",0,0,{"$f":"SUM($U$13:U16)","v":0},0,0,{"$error":"#N/A"}]
["",null,"",null,null,null,null,null,null,null,null,null,0,0,0,0,null,5,"",0,0,{"$f":"SUM($U$13:U17)","v":0},0,0,{"$error":"#N/A"}]
["",null,"",null,null,null,null,null,null,null,null,null,0,0,0,0,null,6,"",0,0,{"$f":"SUM($U$13:U18)","v":0},0,0,{"$error":"#N/A"}]
["",null,"",null,null,null,null,null,null,null,null,null,0,0,0,0,null,7,"",0,0,{"$f":"SUM($U$13:U19)","v":0},0,0,{"$error":"#N/A"}]
["",null,"",null,null,null,null,null,null,null,null,null,0,0,0,0,null,8,"",0,0,{"$f":"SUM($U$13:U20)","v":0},0,0,{"$error":"#N/A"}]
["",null,"",null,null,null,null,null,null,null,null,null,0,0,{"$f":"IF(W21=0,U21,X21)","v":0},0,null,9,"",0,0,{"$f":"SUM($U$13:U21)","v":0},0,0,{"$error":"#N/A"}]
["",null,"",null,null,null,null,null,null,null,null,null,0,0,{"$f":"IF(W22=0,U22,X22)","v":0},0,null,10,"",0,{"$f":"N22-T22","v":0},{"$f":"SUM($U$13:U22)","v":0},0,{"$f":"IF(W22=1,$I$9-V21,0)","v":0},{"$error":"#N/A"}]
["",null,"",null,null,null,null,null,null,null,null,null,0,0,0,0,null,11,"",0,0,{"$f":"SUM($U$13:U23)","v":0},0,0,{"$error":"#N/A"}]
["",null,"",null,null,null,null,null,null,null,null,null,0,0,0,0,null,12,"",0,0,{"$f":"SUM($U$13:U24)","v":0},0,0,{"$error":"#N/A"}]
["",null,"",null,null,null,null,null,null,null,null,null,0,0,0,0,null,13,"",0,0,{"$f":"SUM($U$13:U25)","v":0},0,0,{"$error":"#N/A"}]
["",null,"",null,null,null,null,null,null,null,null,null,0,0,0,0,null,14,"",0,0,{"$f":"SUM($U$13:U26)","v":0},0,0,{"$error":"#N/A"}]
["",null,"",null,null,null,null,null,null,null,null,null,0,0,0,0,null,15,"",0,0,{"$f":"SUM($U$13:U27)","v":0},0,0,{"$error":"#N/A"}]
["",null,"",null,null,null,null,null,null,null,null,null,0,0,0,0,null,16,"",0,0,{"$f":"SUM($U$13:U28)","v":0},0,0,{"$error":"#N/A"}]
["",null,"",null,null,null,null,null,null,null,null,null,0,0,0,0,null,17,"",0,0,{"$f":"SUM($U$13:U29)","v":0},0,0,{"$error":"#N/A"}]
["",null,"",null,null,null,null,null,null,null,null,null,0,0,0,0,null,18,"",0,0,{"$f":"SUM($U$13:U30)","v":0},0,0,{"$error":"#N/A"}]
["",null,"",null,null,null,null,null,null,null,null,null,0,0,0,0,null,19,"",0,0,{"$f":"SUM($U$13:U31)","v":0},0,0,{"$error":"#N/A"}]
["",null,"",null,null,null,null,null,null,null,null,null,0,0,0,0,null,20,"",0,0,{"$f":"SUM($U$13:U32)","v":0},0,0,{"$error":"#N/A"}]
["",null,"",null,null,null,null,null,null,null,null,null,0,0,0,0,null,21,"",0,0,{"$f":"SUM($U$13:U33)","v":0},0,0,{"$error":"#N/A"}]
["",null,"",null,null,null,null,null,null,null,null,null,0,0,0,0,null,22,"",0,0,{"$f":"SUM($U$13:U34)","v":0},0,0,{"$error":"#N/A"}]
["",null,"",null,null,null,null,null,null,null,null,null,0,0,0,0,null,23,"",0,0,{"$f":"SUM($U$13:U35)","v":0},0,0,{"$error":"#N/A"}]
["",null,"",null,null,null,null,null,null,null,null,null,0,0,0,0,null,24,"",0,0,{"$f":"SUM($U$13:U36)","v":0},0,0,{"$error":"#N/A"}]
["",null,"",null,null,null,null,null,null,null,null,null,0,0,0,0,null,25,"",0,0,{"$f":"SUM($U$13:U37)","v":0},0,0,{"$error":"#N/A"}]
["",null,"",null,null,null,null,null,null,null,null,null,0,0,0,0,null,26,"",0,0,{"$f":"SUM($U$13:U38)","v":0},0,0,{"$error":"#N/A"}]
["",null,"",null,null,null,null,null,null,null,null,null,0,0,0,0,null,27,"",0,0,{"$f":"SUM($U$13:U39)","v":0},0,0,{"$error":"#N/A"}]
["",null,"",null,null,null,null,null,null,null,null,null,0,0,0,0,null,28,"",0,0,{"$f":"SUM($U$13:U40)","v":0},0,0,{"$error":"#N/A"}]
["",null,"",null,null,null,null,null,null,null,null,null,0,0,0,0,null,29,"",0,0,{"$f":"SUM($U$13:U41)","v":0},0,0,{"$error":"#N/A"}]
["",null,"",null,null,null,null,null,null,null,null,null,0,0,0,0,null,30,"",0,0,{"$f":"SUM($U$13:U42)","v":0},0,0,{"$error":"#N/A"}]
["",null,"",null,null,null,null,null,null,null,null,null,0,0,0,0,null,31,"",0,0,{"$f":"SUM($U$13:U43)","v":0},0,0,{"$error":"#N/A"}]
["合計",null,null,null,null,null,null,null,null,null,null,null,{"$f":"SUM(M13:M43)","v":0},{"$f":"SUM(N13:N43)","v":0},{"$f":"SUM(O13:O43)","v":0},{"$f":"SUM(P13:P43)","v":0},null,null,null,null,null,null,null,null,{"$error":"#N/A"}]

{"sheet":"6","index":10,"n_rows":44,"n_cols":27,"rows_kept":44,"cut":false,"hidden":false,"merged":[[6,18,8,18],[43,0,43,11],[10,15,11,15],[10,16,11,16],[10,18,11,18],[6,0,6,3],[6,11,8,11],[6,12,8,16],[7,0,7,4],[7,5,7,7],[7,8,7,10],[8,0,8,4],[8,5,8,7],[8,8,8,10],[10,21,11,21],[10,22,11,22],[10,23,11,23],[10,0,10,2],[10,3,10,6],[10,7,10,11],[10,12,11,12],[10,13,11,13],[10,14,11,14],[3,1,3,4],[3,5,3,13],[4,0,5,3],[4,4,5,6],[4,7,5,8],[4,9,5,12],[4,13,4,16],[5,13,5,16]]}
[null,"№",6]
[]
[]
[null,{"$f":"EOMONTH(B13,0)","v":"1900-01-31"},null,null,null,"鎌ケ谷市日中一時支援サービス提供実績記録票"]
["登録番号",null,null,null,{"$f":"VLOOKUP($C$1,利用者情報!A:U,COLUMN(利用者情報!B3),FALSE)","v":0},null,null,"支給決定障がい者等氏名\n（児童氏名）",null,{"$f":"VLOOKUP($C$1,利用者情報!A:U,COLUMN(利用者情報!C3),FALSE)","v":0},null,null,null,"事業所登録番号"]
[null,null,null,null,null,null,null,null,null,null,null,null,null,{"$f":"請求事業者!B3","v":0},null,null,null,null,"コメント",null,null,null,null,null,null,{"$f":"VLOOKUP(H7,'データ '!F:G,2,FALSE)","v":{"$error":"#N/A"}}]
["サービス内容及び\n契約支給量",null,null,null,{"$f":"VLOOKUP($C$1,利用者情報!A:U,COLUMN(利用者情報!D3),FALSE)","v":0},"日/月","区分",{"$f":"VLOOKUP($C$1,利用者情報!A:U,COLUMN(利用者情報!E4),FALSE)","v":0},null,null,null,"事業所及びその事務所",{"$f":"請求事業者!B7","v":0},null,null,null,null,null,{"$f":"利用者情報!J4","v":""},null,null,null,null,null,null,"04:00:00","４時間未満/"]
["利用者負担の有無",null,null,null,null,"利用者の負担割合",null,null,"利用者負担上限額",null,null,null,null,null,null,null,null,null,null,null,null,null,null,null,"地区区分","08:00:00","４～８時間未満/"]
[{"$f":"VLOOKUP($C$1,利用者情報!A:U,COLUMN(利用者情報!F3),FALSE)","v":0},null,null,null,null,{"$f":"IF(A9=\"有\",\"1割\",\"0割\")","v":"0割"},null,null,{"$f":"VLOOKUP($C$1,利用者情報!A:U,COLUMN(利用者情報!G3),FALSE)","v":0},null,null,null,null,null,null,null,null,null,null,null,null,null,null,null,{"$f":"請求事業者!C9","v":{"$error":"#N/A"}},null,"８時間以上/"]
[null,null,null,null,null,null,null,null,null,null,null,null,null,null,null,null,null,null,null,null,null,null,null,null,"便宜上区分"]
["日付",null,null,"サービス計画",null,null,null,"サービス提供実績",null,null,null,null,"算定\n時間","算定額","利用者\n負担額","請求額","利用者\n確認印",null,"コメント",null,null,"利用者負担額\n累計","上限到達フラグ","上限達成時の利用者負担額",{"$f":"VLOOKUP(H7,'データ '!F:G,2,FALSE)","v":{"$error":"#N/A"}}]
["月","日","曜日","計画\n日数","食事\n提供","入浴","送迎","開始時間","終了\n時間","食事\n提供","入浴","送迎",null,null,null,null,null,null,null,"請求額","利用者\n負担額",null,null,null,"（9割）"]
[{"$f":"IF(B13=\"\",\"\",TEXT(B13,\"m\"))","v":""},null,{"$f":"IF(B13=\"\",\"\",B13)","v":""},null,null,null,null,null,null,null,null,null,{"$f":"I13-H13","v":0},{"$f":"IF($I13=0,0,INDEX(単価,MATCH(Y13,時間,0),MATCH($Y$9,地域区分,0)))","v":0},{"$f":"IF(W13=0,U13,X13)","v":0},{"$f":"N13-O13","v":0},null,1,{"$f":"IF(A13=\"\",\"\",IF($A$13<>A13,\"月が異なります！\",IF(R13>$E$7,\"決定日数を超過しています！\",\"\")))","v":""},{"$f":"IF(AND($I13=0),0,IF($A$9=\"有\",INDEX(単価,MATCH(Y13,時間,0),MATCH($Y$9&$Y$12,地域区分,0)),INDEX(単価,MATCH(Y13,時間,0),MATCH($Y$9,地域区分,0))))","v":0},{"$f":"N13-T13","v":0},{"$f":"SUM($U$13:U13)","v":0},null,null,{"$f":"IF(M13>=$Z$8,$AA$9,IF(AND(M13<$Z$8,M13>=$Z$7),$AA$8,IF(M13<$Z$7,$AA$7)))&$Y$11","v":{"$error":"#N/A"}}]
[{"$f":"IF(B14=\"\",\"\",TEXT(B14,\"m\"))","v":""},null,{"$f":"IF(B14=\"\",\"\",B14)","v":""},null,null,null,null,null,null,null,null,null,{"$f":"I14-H14","v":0},0,{"$f":"IF(W14=0,U14,X14)","v":0},{"$f":"N14-O14","v":0},null,2,{"$f":"IF(A14=\"\",\"\",IF($A$13<>A14,\"月が異なります！\",IF(R14>$E$7,\"決定日数を超過しています！\",\"\")))","v":""},0,{"$f":"N14-T14","v":0},{"$f":"SUM($U$13:U14)","v":0},{"$f":"IF(AND(V13<$I$9,V14>$I$9),1,IF(V14>$I$9,2,0))","v":0},{"$f":"IF(W14=1,$I$9-V13,0)","v":0},{"$f":"IF(M14>=$Z$8,$AA$9,IF(AND(M14<$Z$8,M14>=$Z$7),$AA$8,IF(M14<$Z$7,$AA$7)))&$Y$11","v":{"$error":"#N/A"}}]
["",null,"",null,null,null,null,null,null,null,null,null,0,0,0,0,null,3,"",0,0,{"$f":"SUM($U$13:U15)","v":0},{"$f":"IF(AND(V14<$I$9,V15>$I$9),1,IF(V15>$I$9,2,0))","v":0},{"$f":"IF(W15=1,$I$9-V14,0)","v":0},{"$error":"#N/A"}]
["",null,"",null,null,null,null,null,null,null,null,null,0,0,0,0,null,4,"",0,0,{"$f":"SUM($U$13:U16)","v":0},0,0,{"$error":"#N/A"}]
["",null,"",null,null,null,null,null,null,null,null,null,0,0,0,0,null,5,"",0,0,{"$f":"SUM($U$13:U17)","v":0},0,0,{"$error":"#N/A"}]
["",null,"",null,null,null,null,null,null,null,null,null,0,0,0,0,null,6,"",0,0,{"$f":"SUM($U$13:U18)","v":0},0,0,{"$error":"#N/A"}]
["",null,"",null,null,null,null,null,null,null,null,null,0,0,0,0,null,7,"",0,0,{"$f":"SUM($U$13:U19)","v":0},0,0,{"$error":"#N/A"}]
["",null,"",null,null,null,null,null,null,null,null,null,0,0,0,0,null,8,"",0,0,{"$f":"SUM($U$13:U20)","v":0},0,0,{"$error":"#N/A"}]
["",null,"",null,null,null,null,null,null,null,null,null,0,0,{"$f":"IF(W21=0,U21,X21)","v":0},0,null,9,"",0,0,{"$f":"SUM($U$13:U21)","v":0},0,0,{"$error":"#N/A"}]
["",null,"",null,null,null,null,null,null,null,null,null,0,0,{"$f":"IF(W22=0,U22,X22)","v":0},0,null,10,"",0,{"$f":"N22-T22","v":0},{"$f":"SUM($U$13:U22)","v":0},0,{"$f":"IF(W22=1,$I$9-V21,0)","v":0},{"$error":"#N/A"}]
["",null,"",null,null,null,null,null,null,null,null,null,0,0,0,0,null,11,"",0,0,{"$f":"SUM($U$13:U23)","v":0},0,0,{"$error":"#N/A"}]
["",null,"",null,null,null,null,null,null,null,null,null,0,0,0,0,null,12,"",0,0,{"$f":"SUM($U$13:U24)","v":0},0,0,{"$error":"#N/A"}]
["",null,"",null,null,null,null,null,null,null,null,null,0,0,0,0,null,13,"",0,0,{"$f":"SUM($U$13:U25)","v":0},0,0,{"$error":"#N/A"}]
["",null,"",null,null,null,null,null,null,null,null,null,0,0,0,0,null,14,"",0,0,{"$f":"SUM($U$13:U26)","v":0},0,0,{"$error":"#N/A"}]
["",null,"",null,null,null,null,null,null,null,null,null,0,0,0,0,null,15,"",0,0,{"$f":"SUM($U$13:U27)","v":0},0,0,{"$error":"#N/A"}]
["",null,"",null,null,null,null,null,null,null,null,null,0,0,0,0,null,16,"",0,0,{"$f":"SUM($U$13:U28)","v":0},0,0,{"$error":"#N/A"}]
["",null,"",null,null,null,null,null,null,null,null,null,0,0,0,0,null,17,"",0,0,{"$f":"SUM($U$13:U29)","v":0},0,0,{"$error":"#N/A"}]
["",null,"",null,null,null,null,null,null,null,null,null,0,0,0,0,null,18,"",0,0,{"$f":"SUM($U$13:U30)","v":0},0,0,{"$error":"#N/A"}]
["",null,"",null,null,null,null,null,null,null,null,null,0,0,0,0,null,19,"",0,0,{"$f":"SUM($U$13:U31)","v":0},0,0,{"$error":"#N/A"}]
["",null,"",null,null,null,null,null,null,null,null,null,0,0,0,0,null,20,"",0,0,{"$f":"SUM($U$13:U32)","v":0},0,0,{"$error":"#N/A"}]
["",null,"",null,null,null,null,null,null,null,null,null,0,0,0,0,null,21,"",0,0,{"$f":"SUM($U$13:U33)","v":0},0,0,{"$error":"#N/A"}]
["",null,"",null,null,null,null,null,null,null,null,null,0,0,0,0,null,22,"",0,0,{"$f":"SUM($U$13:U34)","v":0},0,0,{"$error":"#N/A"}]
["",null,"",null,null,null,null,null,null,null,null,null,0,0,0,0,null,23,"",0,0,{"$f":"SUM($U$13:U35)","v":0},0,0,{"$error":"#N/A"}]
["",null,"",null,null,null,null,null,null,null,null,null,0,0,0,0,null,24,"",0,0,{"$f":"SUM($U$13:U36)","v":0},0,0,{"$error":"#N/A"}]
["",null,"",null,null,null,null,null,null,null,null,null,0,0,0,0,null,25,"",0,0,{"$f":"SUM($U$13:U37)","v":0},0,0,{"$error":"#N/A"}]
["",null,"",null,null,null,null,null,null,null,null,null,0,0,0,0,null,26,"",0,0,{"$f":"SUM($U$13:U38)","v":0},0,0,{"$error":"#N/A"}]
["",null,"",null,null,null,null,null,null,null,null,null,0,0,0,0,null,27,"",0,0,{"$f":"SUM($U$13:U39)","v":0},0,0,{"$error":"#N/A"}]
["",null,"",null,null,null,null,null,null,null,null,null,0,0,0,0,null,28,"",0,0,{"$f":"SUM($U$13:U40)","v":0},0,0,{"$error":"#N/A"}]
["",null,"",null,null,null,null,null,null,null,null,null,0,0,0,0,null,29,"",0,0,{"$f":"SUM($U$13:U41)","v":0},0,0,{"$error":"#N/A"}]
["",null,"",null,null,null,null,null,null,null,null,null,0,0,0,0,null,30,"",0,0,{"$f":"SUM($U$13:U42)","v":0},0,0,{"$error":"#N/A"}]
["",null,"",null,null,null,null,null,null,null,null,null,0,0,0,0,null,31,"",0,0,{"$f":"SUM($U$13:U43)","v":0},0,0,{"$error":"#N/A"}]
["合計",null,null,null,null,null,null,null,null,null,null,null,{"$f":"SUM(M13:M43)","v":0},{"$f":"SUM(N13:N43)","v":0},{"$f":"SUM(O13:O43)","v":0},{"$f":"SUM(P13:P43)","v":0},null,null,null,null,null,null,null,null,{"$error":"#N/A"}]

{"sheet":"7","index":11,"n_rows":44,"n_cols":27,"rows_kept":44,"cut":false,"hidden":false,"merged":[[6,18,8,18],[43,0,43,11],[10,15,11,15],[10,16,11,16],[10,18,11,18],[6,0,6,3],[6,11,8,11],[6,12,8,16],[7,0,7,4],[7,5,7,7],[7,8,7,10],[8,0,8,4],[8,5,8,7],[8,8,8,10],[10,21,11,21],[10,22,11,22],[10,23,11,23],[10,0,10,2],[10,3,10,6],[10,7,10,11],[10,12,11,12],[10,13,11,13],[10,14,11,14],[3,1,3,4],[3,5,3,13],[4,0,5,3],[4,4,5,6],[4,7,5,8],[4,9,5,12],[4,13,4,16],[5,13,5,16]]}
[null,"№",7]
[]
[]
[null,{"$f":"EOMONTH(B13,0)","v":"1900-01-31"},null,null,null,"鎌ケ谷市日中一時支援サービス提供実績記録票"]
["登録番号",null,null,null,{"$f":"VLOOKUP($C$1,利用者情報!A:U,COLUMN(利用者情報!B3),FALSE)","v":0},null,null,"支給決定障がい者等氏名\n（児童氏名）",null,{"$f":"VLOOKUP($C$1,利用者情報!A:U,COLUMN(利用者情報!C3),FALSE)","v":0},null,null,null,"事業所登録番号"]
[null,null,null,null,null,null,null,null,null,null,null,null,null,{"$f":"請求事業者!B3","v":0},null,null,null,null,"コメント",null,null,null,null,null,null,{"$f":"VLOOKUP(H7,'データ '!F:G,2,FALSE)","v":{"$error":"#N/A"}}]
["サービス内容及び\n契約支給量",null,null,null,{"$f":"VLOOKUP($C$1,利用者情報!A:U,COLUMN(利用者情報!D3),FALSE)","v":0},"日/月","区分",{"$f":"VLOOKUP($C$1,利用者情報!A:U,COLUMN(利用者情報!E4),FALSE)","v":0},null,null,null,"事業所及びその事務所",{"$f":"請求事業者!B7","v":0},null,null,null,null,null,{"$f":"利用者情報!J4","v":""},null,null,null,null,null,null,"04:00:00","４時間未満/"]
["利用者負担の有無",null,null,null,null,"利用者の負担割合",null,null,"利用者負担上限額",null,null,null,null,null,null,null,null,null,null,null,null,null,null,null,"地区区分","08:00:00","４～８時間未満/"]
[{"$f":"VLOOKUP($C$1,利用者情報!A:U,COLUMN(利用者情報!F3),FALSE)","v":0},null,null,null,null,{"$f":"IF(A9=\"有\",\"1割\",\"0割\")","v":"0割"},null,null,{"$f":"VLOOKUP($C$1,利用者情報!A:U,COLUMN(利用者情報!G3),FALSE)","v":0},null,null,null,null,null,null,null,null,null,null,null,null,null,null,null,{"$f":"請求事業者!C9","v":{"$error":"#N/A"}},null,"８時間以上/"]
[null,null,null,null,null,null,null,null,null,null,null,null,null,null,null,null,null,null,null,null,null,null,null,null,"便宜上区分"]
["日付",null,null,"サービス計画",null,null,null,"サービス提供実績",null,null,null,null,"算定\n時間","算定額","利用者\n負担額","請求額","利用者\n確認印",null,"コメント",null,null,"利用者負担額\n累計","上限到達フラグ","上限達成時の利用者負担額",{"$f":"VLOOKUP(H7,'データ '!F:G,2,FALSE)","v":{"$error":"#N/A"}}]
["月","日","曜日","計画\n日数","食事\n提供","入浴","送迎","開始時間","終了\n時間","食事\n提供","入浴","送迎",null,null,null,null,null,null,null,"請求額","利用者\n負担額",null,null,null,"（9割）"]
[{"$f":"IF(B13=\"\",\"\",TEXT(B13,\"m\"))","v":""},null,{"$f":"IF(B13=\"\",\"\",B13)","v":""},null,null,null,null,null,null,null,null,null,{"$f":"I13-H13","v":0},{"$f":"IF($I13=0,0,INDEX(単価,MATCH(Y13,時間,0),MATCH($Y$9,地域区分,0)))","v":0},{"$f":"IF(W13=0,U13,X13)","v":0},{"$f":"N13-O13","v":0},null,1,{"$f":"IF(A13=\"\",\"\",IF($A$13<>A13,\"月が異なります！\",IF(R13>$E$7,\"決定日数を超過しています！\",\"\")))","v":""},{"$f":"IF(AND($I13=0),0,IF($A$9=\"有\",INDEX(単価,MATCH(Y13,時間,0),MATCH($Y$9&$Y$12,地域区分,0)),INDEX(単価,MATCH(Y13,時間,0),MATCH($Y$9,地域区分,0))))","v":0},{"$f":"N13-T13","v":0},{"$f":"SUM($U$13:U13)","v":0},null,null,{"$f":"IF(M13>=$Z$8,$AA$9,IF(AND(M13<$Z$8,M13>=$Z$7),$AA$8,IF(M13<$Z$7,$AA$7)))&$Y$11","v":{"$error":"#N/A"}}]
[{"$f":"IF(B14=\"\",\"\",TEXT(B14,\"m\"))","v":""},null,{"$f":"IF(B14=\"\",\"\",B14)","v":""},null,null,null,null,null,null,null,null,null,{"$f":"I14-H14","v":0},0,{"$f":"IF(W14=0,U14,X14)","v":0},{"$f":"N14-O14","v":0},null,2,{"$f":"IF(A14=\"\",\"\",IF($A$13<>A14,\"月が異なります！\",IF(R14>$E$7,\"決定日数を超過しています！\",\"\")))","v":""},0,{"$f":"N14-T14","v":0},{"$f":"SUM($U$13:U14)","v":0},{"$f":"IF(AND(V13<$I$9,V14>$I$9),1,IF(V14>$I$9,2,0))","v":0},{"$f":"IF(W14=1,$I$9-V13,0)","v":0},{"$f":"IF(M14>=$Z$8,$AA$9,IF(AND(M14<$Z$8,M14>=$Z$7),$AA$8,IF(M14<$Z$7,$AA$7)))&$Y$11","v":{"$error":"#N/A"}}]
["",null,"",null,null,null,null,null,null,null,null,null,0,0,0,0,null,3,"",0,0,{"$f":"SUM($U$13:U15)","v":0},{"$f":"IF(AND(V14<$I$9,V15>$I$9),1,IF(V15>$I$9,2,0))","v":0},{"$f":"IF(W15=1,$I$9-V14,0)","v":0},{"$error":"#N/A"}]
["",null,"",null,null,null,null,null,null,null,null,null,0,0,0,0,null,4,"",0,0,{"$f":"SUM($U$13:U16)","v":0},0,0,{"$error":"#N/A"}]
["",null,"",null,null,null,null,null,null,null,null,null,0,0,0,0,null,5,"",0,0,{"$f":"SUM($U$13:U17)","v":0},0,0,{"$error":"#N/A"}]
["",null,"",null,null,null,null,null,null,null,null,null,0,0,0,0,null,6,"",0,0,{"$f":"SUM($U$13:U18)","v":0},0,0,{"$error":"#N/A"}]
["",null,"",null,null,null,null,null,null,null,null,null,0,0,0,0,null,7,"",0,0,{"$f":"SUM($U$13:U19)","v":0},0,0,{"$error":"#N/A"}]
["",null,"",null,null,null,null,null,null,null,null,null,0,0,0,0,null,8,"",0,0,{"$f":"SUM($U$13:U20)","v":0},0,0,{"$error":"#N/A"}]
["",null,"",null,null,null,null,null,null,null,null,null,0,0,{"$f":"IF(W21=0,U21,X21)","v":0},0,null,9,"",0,0,{"$f":"SUM($U$13:U21)","v":0},0,0,{"$error":"#N/A"}]
["",null,"",null,null,null,null,null,null,null,null,null,0,0,{"$f":"IF(W22=0,U22,X22)","v":0},0,null,10,"",0,{"$f":"N22-T22","v":0},{"$f":"SUM($U$13:U22)","v":0},0,{"$f":"IF(W22=1,$I$9-V21,0)","v":0},{"$error":"#N/A"}]
["",null,"",null,null,null,null,null,null,null,null,null,0,0,0,0,null,11,"",0,0,{"$f":"SUM($U$13:U23)","v":0},0,0,{"$error":"#N/A"}]
["",null,"",null,null,null,null,null,null,null,null,null,0,0,0,0,null,12,"",0,0,{"$f":"SUM($U$13:U24)","v":0},0,0,{"$error":"#N/A"}]
["",null,"",null,null,null,null,null,null,null,null,null,0,0,0,0,null,13,"",0,0,{"$f":"SUM($U$13:U25)","v":0},0,0,{"$error":"#N/A"}]
["",null,"",null,null,null,null,null,null,null,null,null,0,0,0,0,null,14,"",0,0,{"$f":"SUM($U$13:U26)","v":0},0,0,{"$error":"#N/A"}]
["",null,"",null,null,null,null,null,null,null,null,null,0,0,0,0,null,15,"",0,0,{"$f":"SUM($U$13:U27)","v":0},0,0,{"$error":"#N/A"}]
["",null,"",null,null,null,null,null,null,null,null,null,0,0,0,0,null,16,"",0,0,{"$f":"SUM($U$13:U28)","v":0},0,0,{"$error":"#N/A"}]
["",null,"",null,null,null,null,null,null,null,null,null,0,0,0,0,null,17,"",0,0,{"$f":"SUM($U$13:U29)","v":0},0,0,{"$error":"#N/A"}]
["",null,"",null,null,null,null,null,null,null,null,null,0,0,0,0,null,18,"",0,0,{"$f":"SUM($U$13:U30)","v":0},0,0,{"$error":"#N/A"}]
["",null,"",null,null,null,null,null,null,null,null,null,0,0,0,0,null,19,"",0,0,{"$f":"SUM($U$13:U31)","v":0},0,0,{"$error":"#N/A"}]
["",null,"",null,null,null,null,null,null,null,null,null,0,0,0,0,null,20,"",0,0,{"$f":"SUM($U$13:U32)","v":0},0,0,{"$error":"#N/A"}]
["",null,"",null,null,null,null,null,null,null,null,null,0,0,0,0,null,21,"",0,0,{"$f":"SUM($U$13:U33)","v":0},0,0,{"$error":"#N/A"}]
["",null,"",null,null,null,null,null,null,null,null,null,0,0,0,0,null,22,"",0,0,{"$f":"SUM($U$13:U34)","v":0},0,0,{"$error":"#N/A"}]
["",null,"",null,null,null,null,null,null,null,null,null,0,0,0,0,null,23,"",0,0,{"$f":"SUM($U$13:U35)","v":0},0,0,{"$error":"#N/A"}]
["",null,"",null,null,null,null,null,null,null,null,null,0,0,0,0,null,24,"",0,0,{"$f":"SUM($U$13:U36)","v":0},0,0,{"$error":"#N/A"}]
["",null,"",null,null,null,null,null,null,null,null,null,0,0,0,0,null,25,"",0,0,{"$f":"SUM($U$13:U37)","v":0},0,0,{"$error":"#N/A"}]
["",null,"",null,null,null,null,null,null,null,null,null,0,0,0,0,null,26,"",0,0,{"$f":"SUM($U$13:U38)","v":0},0,0,{"$error":"#N/A"}]
["",null,"",null,null,null,null,null,null,null,null,null,0,0,0,0,null,27,"",0,0,{"$f":"SUM($U$13:U39)","v":0},0,0,{"$error":"#N/A"}]
["",null,"",null,null,null,null,null,null,null,null,null,0,0,0,0,null,28,"",0,0,{"$f":"SUM($U$13:U40)","v":0},0,0,{"$error":"#N/A"}]
["",null,"",null,null,null,null,null,null,null,null,null,0,0,0,0,null,29,"",0,0,{"$f":"SUM($U$13:U41)","v":0},0,0,{"$error":"#N/A"}]
["",null,"",null,null,null,null,null,null,null,null,null,0,0,0,0,null,30,"",0,0,{"$f":"SUM($U$13:U42)","v":0},0,0,{"$error":"#N/A"}]
["",null,"",null,null,null,null,null,null,null,null,null,0,0,0,0,null,31,"",0,0,{"$f":"SUM($U$13:U43)","v":0},0,0,{"$error":"#N/A"}]
["合計",null,null,null,null,null,null,null,null,null,null,null,{"$f":"SUM(M13:M43)","v":0},{"$f":"SUM(N13:N43)","v":0},{"$f":"SUM(O13:O43)","v":0},{"$f":"SUM(P13:P43)","v":0},null,null,null,null,null,null,null,null,{"$error":"#N/A"}]

{"sheet":"8","index":12,"n_rows":44,"n_cols":27,"rows_kept":44,"cut":false,"hidden":false,"merged":[[6,18,8,18],[43,0,43,11],[10,15,11,15],[10,16,11,16],[10,18,11,18],[6,0,6,3],[6,11,8,11],[6,12,8,16],[7,0,7,4],[7,5,7,7],[7,8,7,10],[8,0,8,4],[8,5,8,7],[8,8,8,10],[10,21,11,21],[10,22,11,22],[10,23,11,23],[10,0,10,2],[10,3,10,6],[10,7,10,11],[10,12,11,12],[10,13,11,13],[10,14,11,14],[3,1,3,4],[3,5,3,13],[4,0,5,3],[4,4,5,6],[4,7,5,8],[4,9,5,12],[4,13,4,16],[5,13,5,16]]}
[null,"№",8]
[]
[]
[null,{"$f":"EOMONTH(B13,0)","v":"1900-01-31"},null,null,null,"鎌ケ谷市日中一時支援サービス提供実績記録票"]
["登録番号",null,null,null,{"$f":"VLOOKUP($C$1,利用者情報!A:U,COLUMN(利用者情報!B3),FALSE)","v":0},null,null,"支給決定障がい者等氏名\n（児童氏名）",null,{"$f":"VLOOKUP($C$1,利用者情報!A:U,COLUMN(利用者情報!C3),FALSE)","v":0},null,null,null,"事業所登録番号"]
[null,null,null,null,null,null,null,null,null,null,null,null,null,{"$f":"請求事業者!B3","v":0},null,null,null,null,"コメント",null,null,null,null,null,null,{"$f":"VLOOKUP(H7,'データ '!F:G,2,FALSE)","v":{"$error":"#N/A"}}]
["サービス内容及び\n契約支給量",null,null,null,{"$f":"VLOOKUP($C$1,利用者情報!A:U,COLUMN(利用者情報!D3),FALSE)","v":0},"日/月","区分",{"$f":"VLOOKUP($C$1,利用者情報!A:U,COLUMN(利用者情報!E4),FALSE)","v":0},null,null,null,"事業所及びその事務所",{"$f":"請求事業者!B7","v":0},null,null,null,null,null,{"$f":"利用者情報!J4","v":""},null,null,null,null,null,null,"04:00:00","４時間未満/"]
["利用者負担の有無",null,null,null,null,"利用者の負担割合",null,null,"利用者負担上限額",null,null,null,null,null,null,null,null,null,null,null,null,null,null,null,"地区区分","08:00:00","４～８時間未満/"]
[{"$f":"VLOOKUP($C$1,利用者情報!A:U,COLUMN(利用者情報!F3),FALSE)","v":0},null,null,null,null,{"$f":"IF(A9=\"有\",\"1割\",\"0割\")","v":"0割"},null,null,{"$f":"VLOOKUP($C$1,利用者情報!A:U,COLUMN(利用者情報!G3),FALSE)","v":0},null,null,null,null,null,null,null,null,null,null,null,null,null,null,null,{"$f":"請求事業者!C9","v":{"$error":"#N/A"}},null,"８時間以上/"]
[null,null,null,null,null,null,null,null,null,null,null,null,null,null,null,null,null,null,null,null,null,null,null,null,"便宜上区分"]
["日付",null,null,"サービス計画",null,null,null,"サービス提供実績",null,null,null,null,"算定\n時間","算定額","利用者\n負担額","請求額","利用者\n確認印",null,"コメント",null,null,"利用者負担額\n累計","上限到達フラグ","上限達成時の利用者負担額",{"$f":"VLOOKUP(H7,'データ '!F:G,2,FALSE)","v":{"$error":"#N/A"}}]
["月","日","曜日","計画\n日数","食事\n提供","入浴","送迎","開始時間","終了\n時間","食事\n提供","入浴","送迎",null,null,null,null,null,null,null,"請求額","利用者\n負担額",null,null,null,"（9割）"]
[{"$f":"IF(B13=\"\",\"\",TEXT(B13,\"m\"))","v":""},null,{"$f":"IF(B13=\"\",\"\",B13)","v":""},null,null,null,null,null,null,null,null,null,{"$f":"I13-H13","v":0},{"$f":"IF($I13=0,0,INDEX(単価,MATCH(Y13,時間,0),MATCH($Y$9,地域区分,0)))","v":0},{"$f":"IF(W13=0,U13,X13)","v":0},{"$f":"N13-O13","v":0},null,1,{"$f":"IF(A13=\"\",\"\",IF($A$13<>A13,\"月が異なります！\",IF(R13>$E$7,\"決定日数を超過しています！\",\"\")))","v":""},{"$f":"IF(AND($I13=0),0,IF($A$9=\"有\",INDEX(単価,MATCH(Y13,時間,0),MATCH($Y$9&$Y$12,地域区分,0)),INDEX(単価,MATCH(Y13,時間,0),MATCH($Y$9,地域区分,0))))","v":0},{"$f":"N13-T13","v":0},{"$f":"SUM($U$13:U13)","v":0},null,null,{"$f":"IF(M13>=$Z$8,$AA$9,IF(AND(M13<$Z$8,M13>=$Z$7),$AA$8,IF(M13<$Z$7,$AA$7)))&$Y$11","v":{"$error":"#N/A"}}]
[{"$f":"IF(B14=\"\",\"\",TEXT(B14,\"m\"))","v":""},null,{"$f":"IF(B14=\"\",\"\",B14)","v":""},null,null,null,null,null,null,null,null,null,{"$f":"I14-H14","v":0},0,{"$f":"IF(W14=0,U14,X14)","v":0},{"$f":"N14-O14","v":0},null,2,{"$f":"IF(A14=\"\",\"\",IF($A$13<>A14,\"月が異なります！\",IF(R14>$E$7,\"決定日数を超過しています！\",\"\")))","v":""},0,{"$f":"N14-T14","v":0},{"$f":"SUM($U$13:U14)","v":0},{"$f":"IF(AND(V13<$I$9,V14>$I$9),1,IF(V14>$I$9,2,0))","v":0},{"$f":"IF(W14=1,$I$9-V13,0)","v":0},{"$f":"IF(M14>=$Z$8,$AA$9,IF(AND(M14<$Z$8,M14>=$Z$7),$AA$8,IF(M14<$Z$7,$AA$7)))&$Y$11","v":{"$error":"#N/A"}}]
["",null,"",null,null,null,null,null,null,null,null,null,0,0,0,0,null,3,"",0,0,{"$f":"SUM($U$13:U15)","v":0},{"$f":"IF(AND(V14<$I$9,V15>$I$9),1,IF(V15>$I$9,2,0))","v":0},{"$f":"IF(W15=1,$I$9-V14,0)","v":0},{"$error":"#N/A"}]
["",null,"",null,null,null,null,null,null,null,null,null,0,0,0,0,null,4,"",0,0,{"$f":"SUM($U$13:U16)","v":0},0,0,{"$error":"#N/A"}]
["",null,"",null,null,null,null,null,null,null,null,null,0,0,0,0,null,5,"",0,0,{"$f":"SUM($U$13:U17)","v":0},0,0,{"$error":"#N/A"}]
["",null,"",null,null,null,null,null,null,null,null,null,0,0,0,0,null,6,"",0,0,{"$f":"SUM($U$13:U18)","v":0},0,0,{"$error":"#N/A"}]
["",null,"",null,null,null,null,null,null,null,null,null,0,0,0,0,null,7,"",0,0,{"$f":"SUM($U$13:U19)","v":0},0,0,{"$error":"#N/A"}]
["",null,"",null,null,null,null,null,null,null,null,null,0,0,0,0,null,8,"",0,0,{"$f":"SUM($U$13:U20)","v":0},0,0,{"$error":"#N/A"}]
["",null,"",null,null,null,null,null,null,null,null,null,0,0,{"$f":"IF(W21=0,U21,X21)","v":0},0,null,9,"",0,0,{"$f":"SUM($U$13:U21)","v":0},0,0,{"$error":"#N/A"}]
["",null,"",null,null,null,null,null,null,null,null,null,0,0,{"$f":"IF(W22=0,U22,X22)","v":0},0,null,10,"",0,{"$f":"N22-T22","v":0},{"$f":"SUM($U$13:U22)","v":0},0,{"$f":"IF(W22=1,$I$9-V21,0)","v":0},{"$error":"#N/A"}]
["",null,"",null,null,null,null,null,null,null,null,null,0,0,0,0,null,11,"",0,0,{"$f":"SUM($U$13:U23)","v":0},0,0,{"$error":"#N/A"}]
["",null,"",null,null,null,null,null,null,null,null,null,0,0,0,0,null,12,"",0,0,{"$f":"SUM($U$13:U24)","v":0},0,0,{"$error":"#N/A"}]
["",null,"",null,null,null,null,null,null,null,null,null,0,0,0,0,null,13,"",0,0,{"$f":"SUM($U$13:U25)","v":0},0,0,{"$error":"#N/A"}]
["",null,"",null,null,null,null,null,null,null,null,null,0,0,0,0,null,14,"",0,0,{"$f":"SUM($U$13:U26)","v":0},0,0,{"$error":"#N/A"}]
["",null,"",null,null,null,null,null,null,null,null,null,0,0,0,0,null,15,"",0,0,{"$f":"SUM($U$13:U27)","v":0},0,0,{"$error":"#N/A"}]
["",null,"",null,null,null,null,null,null,null,null,null,0,0,0,0,null,16,"",0,0,{"$f":"SUM($U$13:U28)","v":0},0,0,{"$error":"#N/A"}]
["",null,"",null,null,null,null,null,null,null,null,null,0,0,0,0,null,17,"",0,0,{"$f":"SUM($U$13:U29)","v":0},0,0,{"$error":"#N/A"}]
["",null,"",null,null,null,null,null,null,null,null,null,0,0,0,0,null,18,"",0,0,{"$f":"SUM($U$13:U30)","v":0},0,0,{"$error":"#N/A"}]
["",null,"",null,null,null,null,null,null,null,null,null,0,0,0,0,null,19,"",0,0,{"$f":"SUM($U$13:U31)","v":0},0,0,{"$error":"#N/A"}]
["",null,"",null,null,null,null,null,null,null,null,null,0,0,0,0,null,20,"",0,0,{"$f":"SUM($U$13:U32)","v":0},0,0,{"$error":"#N/A"}]
["",null,"",null,null,null,null,null,null,null,null,null,0,0,0,0,null,21,"",0,0,{"$f":"SUM($U$13:U33)","v":0},0,0,{"$error":"#N/A"}]
["",null,"",null,null,null,null,null,null,null,null,null,0,0,0,0,null,22,"",0,0,{"$f":"SUM($U$13:U34)","v":0},0,0,{"$error":"#N/A"}]
["",null,"",null,null,null,null,null,null,null,null,null,0,0,0,0,null,23,"",0,0,{"$f":"SUM($U$13:U35)","v":0},0,0,{"$error":"#N/A"}]
["",null,"",null,null,null,null,null,null,null,null,null,0,0,0,0,null,24,"",0,0,{"$f":"SUM($U$13:U36)","v":0},0,0,{"$error":"#N/A"}]
["",null,"",null,null,null,null,null,null,null,null,null,0,0,0,0,null,25,"",0,0,{"$f":"SUM($U$13:U37)","v":0},0,0,{"$error":"#N/A"}]
["",null,"",null,null,null,null,null,null,null,null,null,0,0,0,0,null,26,"",0,0,{"$f":"SUM($U$13:U38)","v":0},0,0,{"$error":"#N/A"}]
["",null,"",null,null,null,null,null,null,null,null,null,0,0,0,0,null,27,"",0,0,{"$f":"SUM($U$13:U39)","v":0},0,0,{"$error":"#N/A"}]
["",null,"",null,null,null,null,null,null,null,null,null,0,0,0,0,null,28,"",0,0,{"$f":"SUM($U$13:U40)","v":0},0,0,{"$error":"#N/A"}]
["",null,"",null,null,null,null,null,null,null,null,null,0,0,0,0,null,29,"",0,0,{"$f":"SUM($U$13:U41)","v":0},0,0,{"$error":"#N/A"}]
["",null,"",null,null,null,null,null,null,null,null,null,0,0,0,0,null,30,"",0,0,{"$f":"SUM($U$13:U42)","v":0},0,0,{"$error":"#N/A"}]
["",null,"",null,null,null,null,null,null,null,null,null,0,0,0,0,null,31,"",0,0,{"$f":"SUM($U$13:U43)","v":0},0,0,{"$error":"#N/A"}]
["合計",null,null,null,null,null,null,null,null,null,null,null,{"$f":"SUM(M13:M43)","v":0},{"$f":"SUM(N13:N43)","v":0},{"$f":"SUM(O13:O43)","v":0},{"$f":"SUM(P13:P43)","v":0},null,null,null,null,null,null,null,null,{"$error":"#N/A"}]

{"sheet":"9","index":13,"n_rows":44,"n_cols":27,"rows_kept":44,"cut":false,"hidden":false,"merged":[[6,18,8,18],[43,0,43,11],[10,15,11,15],[10,16,11,16],[10,18,11,18],[6,0,6,3],[6,11,8,11],[6,12,8,16],[7,0,7,4],[7,5,7,7],[7,8,7,10],[8,0,8,4],[8,5,8,7],[8,8,8,10],[10,21,11,21],[10,22,11,22],[10,23,11,23],[10,0,10,2],[10,3,10,6],[10,7,10,11],[10,12,11,12],[10,13,11,13],[10,14,11,14],[3,1,3,4],[3,5,3,13],[4,0,5,3],[4,4,5,6],[4,7,5,8],[4,9,5,12],[4,13,4,16],[5,13,5,16]]}
[null,"№",9]
[]
[]
[null,{"$f":"EOMONTH(B13,0)","v":"1900-01-31"},null,null,null,"鎌ケ谷市日中一時支援サービス提供実績記録票"]
["登録番号",null,null,null,{"$f":"VLOOKUP($C$1,利用者情報!A:U,COLUMN(利用者情報!B3),FALSE)","v":0},null,null,"支給決定障がい者等氏名\n（児童氏名）",null,{"$f":"VLOOKUP($C$1,利用者情報!A:U,COLUMN(利用者情報!C3),FALSE)","v":0},null,null,null,"事業所登録番号"]
[null,null,null,null,null,null,null,null,null,null,null,null,null,{"$f":"請求事業者!B3","v":0},null,null,null,null,"コメント",null,null,null,null,null,null,{"$f":"VLOOKUP(H7,'データ '!F:G,2,FALSE)","v":{"$error":"#N/A"}}]
["サービス内容及び\n契約支給量",null,null,null,{"$f":"VLOOKUP($C$1,利用者情報!A:U,COLUMN(利用者情報!D3),FALSE)","v":0},"日/月","区分",{"$f":"VLOOKUP($C$1,利用者情報!A:U,COLUMN(利用者情報!E4),FALSE)","v":0},null,null,null,"事業所及びその事務所",{"$f":"請求事業者!B7","v":0},null,null,null,null,null,{"$f":"利用者情報!J4","v":""},null,null,null,null,null,null,"04:00:00","４時間未満/"]
["利用者負担の有無",null,null,null,null,"利用者の負担割合",null,null,"利用者負担上限額",null,null,null,null,null,null,null,null,null,null,null,null,null,null,null,"地区区分","08:00:00","４～８時間未満/"]
[{"$f":"VLOOKUP($C$1,利用者情報!A:U,COLUMN(利用者情報!F3),FALSE)","v":0},null,null,null,null,{"$f":"IF(A9=\"有\",\"1割\",\"0割\")","v":"0割"},null,null,{"$f":"VLOOKUP($C$1,利用者情報!A:U,COLUMN(利用者情報!G3),FALSE)","v":0},null,null,null,null,null,null,null,null,null,null,null,null,null,null,null,{"$f":"請求事業者!C9","v":{"$error":"#N/A"}},null,"８時間以上/"]
[null,null,null,null,null,null,null,null,null,null,null,null,null,null,null,null,null,null,null,null,null,null,null,null,"便宜上区分"]
["日付",null,null,"サービス計画",null,null,null,"サービス提供実績",null,null,null,null,"算定\n時間","算定額","利用者\n負担額","請求額","利用者\n確認印",null,"コメント",null,null,"利用者負担額\n累計","上限到達フラグ","上限達成時の利用者負担額",{"$f":"VLOOKUP(H7,'データ '!F:G,2,FALSE)","v":{"$error":"#N/A"}}]
["月","日","曜日","計画\n日数","食事\n提供","入浴","送迎","開始時間","終了\n時間","食事\n提供","入浴","送迎",null,null,null,null,null,null,null,"請求額","利用者\n負担額",null,null,null,"（9割）"]
[{"$f":"IF(B13=\"\",\"\",TEXT(B13,\"m\"))","v":""},null,{"$f":"IF(B13=\"\",\"\",B13)","v":""},null,null,null,null,null,null,null,null,null,{"$f":"I13-H13","v":0},{"$f":"IF($I13=0,0,INDEX(単価,MATCH(Y13,時間,0),MATCH($Y$9,地域区分,0)))","v":0},{"$f":"IF(W13=0,U13,X13)","v":0},{"$f":"N13-O13","v":0},null,1,{"$f":"IF(A13=\"\",\"\",IF($A$13<>A13,\"月が異なります！\",IF(R13>$E$7,\"決定日数を超過しています！\",\"\")))","v":""},{"$f":"IF(AND($I13=0),0,IF($A$9=\"有\",INDEX(単価,MATCH(Y13,時間,0),MATCH($Y$9&$Y$12,地域区分,0)),INDEX(単価,MATCH(Y13,時間,0),MATCH($Y$9,地域区分,0))))","v":0},{"$f":"N13-T13","v":0},{"$f":"SUM($U$13:U13)","v":0},null,null,{"$f":"IF(M13>=$Z$8,$AA$9,IF(AND(M13<$Z$8,M13>=$Z$7),$AA$8,IF(M13<$Z$7,$AA$7)))&$Y$11","v":{"$error":"#N/A"}}]
[{"$f":"IF(B14=\"\",\"\",TEXT(B14,\"m\"))","v":""},null,{"$f":"IF(B14=\"\",\"\",B14)","v":""},null,null,null,null,null,null,null,null,null,{"$f":"I14-H14","v":0},0,{"$f":"IF(W14=0,U14,X14)","v":0},{"$f":"N14-O14","v":0},null,2,{"$f":"IF(A14=\"\",\"\",IF($A$13<>A14,\"月が異なります！\",IF(R14>$E$7,\"決定日数を超過しています！\",\"\")))","v":""},0,{"$f":"N14-T14","v":0},{"$f":"SUM($U$13:U14)","v":0},{"$f":"IF(AND(V13<$I$9,V14>$I$9),1,IF(V14>$I$9,2,0))","v":0},{"$f":"IF(W14=1,$I$9-V13,0)","v":0},{"$f":"IF(M14>=$Z$8,$AA$9,IF(AND(M14<$Z$8,M14>=$Z$7),$AA$8,IF(M14<$Z$7,$AA$7)))&$Y$11","v":{"$error":"#N/A"}}]
["",null,"",null,null,null,null,null,null,null,null,null,0,0,0,0,null,3,"",0,0,{"$f":"SUM($U$13:U15)","v":0},{"$f":"IF(AND(V14<$I$9,V15>$I$9),1,IF(V15>$I$9,2,0))","v":0},{"$f":"IF(W15=1,$I$9-V14,0)","v":0},{"$error":"#N/A"}]
["",null,"",null,null,null,null,null,null,null,null,null,0,0,0,0,null,4,"",0,0,{"$f":"SUM($U$13:U16)","v":0},0,0,{"$error":"#N/A"}]
["",null,"",null,null,null,null,null,null,null,null,null,0,0,0,0,null,5,"",0,0,{"$f":"SUM($U$13:U17)","v":0},0,0,{"$error":"#N/A"}]
["",null,"",null,null,null,null,null,null,null,null,null,0,0,0,0,null,6,"",0,0,{"$f":"SUM($U$13:U18)","v":0},0,0,{"$error":"#N/A"}]
["",null,"",null,null,null,null,null,null,null,null,null,0,0,0,0,null,7,"",0,0,{"$f":"SUM($U$13:U19)","v":0},0,0,{"$error":"#N/A"}]
["",null,"",null,null,null,null,null,null,null,null,null,0,0,0,0,null,8,"",0,0,{"$f":"SUM($U$13:U20)","v":0},0,0,{"$error":"#N/A"}]
["",null,"",null,null,null,null,null,null,null,null,null,0,0,{"$f":"IF(W21=0,U21,X21)","v":0},0,null,9,"",0,0,{"$f":"SUM($U$13:U21)","v":0},0,0,{"$error":"#N/A"}]
["",null,"",null,null,null,null,null,null,null,null,null,0,0,{"$f":"IF(W22=0,U22,X22)","v":0},0,null,10,"",0,{"$f":"N22-T22","v":0},{"$f":"SUM($U$13:U22)","v":0},0,{"$f":"IF(W22=1,$I$9-V21,0)","v":0},{"$error":"#N/A"}]
["",null,"",null,null,null,null,null,null,null,null,null,0,0,0,0,null,11,"",0,0,{"$f":"SUM($U$13:U23)","v":0},0,0,{"$error":"#N/A"}]
["",null,"",null,null,null,null,null,null,null,null,null,0,0,0,0,null,12,"",0,0,{"$f":"SUM($U$13:U24)","v":0},0,0,{"$error":"#N/A"}]
["",null,"",null,null,null,null,null,null,null,null,null,0,0,0,0,null,13,"",0,0,{"$f":"SUM($U$13:U25)","v":0},0,0,{"$error":"#N/A"}]
["",null,"",null,null,null,null,null,null,null,null,null,0,0,0,0,null,14,"",0,0,{"$f":"SUM($U$13:U26)","v":0},0,0,{"$error":"#N/A"}]
["",null,"",null,null,null,null,null,null,null,null,null,0,0,0,0,null,15,"",0,0,{"$f":"SUM($U$13:U27)","v":0},0,0,{"$error":"#N/A"}]
["",null,"",null,null,null,null,null,null,null,null,null,0,0,0,0,null,16,"",0,0,{"$f":"SUM($U$13:U28)","v":0},0,0,{"$error":"#N/A"}]
["",null,"",null,null,null,null,null,null,null,null,null,0,0,0,0,null,17,"",0,0,{"$f":"SUM($U$13:U29)","v":0},0,0,{"$error":"#N/A"}]
["",null,"",null,null,null,null,null,null,null,null,null,0,0,0,0,null,18,"",0,0,{"$f":"SUM($U$13:U30)","v":0},0,0,{"$error":"#N/A"}]
["",null,"",null,null,null,null,null,null,null,null,null,0,0,0,0,null,19,"",0,0,{"$f":"SUM($U$13:U31)","v":0},0,0,{"$error":"#N/A"}]
["",null,"",null,null,null,null,null,null,null,null,null,0,0,0,0,null,20,"",0,0,{"$f":"SUM($U$13:U32)","v":0},0,0,{"$error":"#N/A"}]
["",null,"",null,null,null,null,null,null,null,null,null,0,0,0,0,null,21,"",0,0,{"$f":"SUM($U$13:U33)","v":0},0,0,{"$error":"#N/A"}]
["",null,"",null,null,null,null,null,null,null,null,null,0,0,0,0,null,22,"",0,0,{"$f":"SUM($U$13:U34)","v":0},0,0,{"$error":"#N/A"}]
["",null,"",null,null,null,null,null,null,null,null,null,0,0,0,0,null,23,"",0,0,{"$f":"SUM($U$13:U35)","v":0},0,0,{"$error":"#N/A"}]
["",null,"",null,null,null,null,null,null,null,null,null,0,0,0,0,null,24,"",0,0,{"$f":"SUM($U$13:U36)","v":0},0,0,{"$error":"#N/A"}]
["",null,"",null,null,null,null,null,null,null,null,null,0,0,0,0,null,25,"",0,0,{"$f":"SUM($U$13:U37)","v":0},0,0,{"$error":"#N/A"}]
["",null,"",null,null,null,null,null,null,null,null,null,0,0,0,0,null,26,"",0,0,{"$f":"SUM($U$13:U38)","v":0},0,0,{"$error":"#N/A"}]
["",null,"",null,null,null,null,null,null,null,null,null,0,0,0,0,null,27,"",0,0,{"$f":"SUM($U$13:U39)","v":0},0,0,{"$error":"#N/A"}]
["",null,"",null,null,null,null,null,null,null,null,null,0,0,0,0,null,28,"",0,0,{"$f":"SUM($U$13:U40)","v":0},0,0,{"$error":"#N/A"}]
["",null,"",null,null,null,null,null,null,null,null,null,0,0,0,0,null,29,"",0,0,{"$f":"SUM($U$13:U41)","v":0},0,0,{"$error":"#N/A"}]
["",null,"",null,null,null,null,null,null,null,null,null,0,0,0,0,null,30,"",0,0,{"$f":"SUM($U$13:U42)","v":0},0,0,{"$error":"#N/A"}]
["",null,"",null,null,null,null,null,null,null,null,null,0,0,0,0,null,31,"",0,0,{"$f":"SUM($U$13:U43)","v":0},0,0,{"$error":"#N/A"}]
["合計",null,null,null,null,null,null,null,null,null,null,null,{"$f":"SUM(M13:M43)","v":0},{"$f":"SUM(N13:N43)","v":0},{"$f":"SUM(O13:O43)","v":0},{"$f":"SUM(P13:P43)","v":0},null,null,null,null,null,null,null,null,{"$error":"#N/A"}]

{"sheet":"10","index":14,"n_rows":44,"n_cols":27,"rows_kept":44,"cut":false,"hidden":false,"merged":[[6,18,8,18],[43,0,43,11],[10,15,11,15],[10,16,11,16],[10,18,11,18],[6,0,6,3],[6,11,8,11],[6,12,8,16],[7,0,7,4],[7,5,7,7],[7,8,7,10],[8,0,8,4],[8,5,8,7],[8,8,8,10],[10,21,11,21],[10,22,11,22],[10,23,11,23],[10,0,10,2],[10,3,10,6],[10,7,10,11],[10,12,11,12],[10,13,11,13],[10,14,11,14],[3,1,3,4],[3,5,3,13],[4,0,5,3],[4,4,5,6],[4,7,5,8],[4,9,5,12],[4,13,4,16],[5,13,5,16]]}
[null,"№",10]
[]
[]
[null,{"$f":"EOMONTH(B13,0)","v":"1900-01-31"},null,null,null,"鎌ケ谷市日中一時支援サービス提供実績記録票"]
["登録番号",null,null,null,{"$f":"VLOOKUP($C$1,利用者情報!A:U,COLUMN(利用者情報!B3),FALSE)","v":0},null,null,"支給決定障がい者等氏名\n（児童氏名）",null,{"$f":"VLOOKUP($C$1,利用者情報!A:U,COLUMN(利用者情報!C3),FALSE)","v":0},null,null,null,"事業所登録番号"]
[null,null,null,null,null,null,null,null,null,null,null,null,null,{"$f":"請求事業者!B3","v":0},null,null,null,null,"コメント",null,null,null,null,null,null,{"$f":"VLOOKUP(H7,'データ '!F:G,2,FALSE)","v":{"$error":"#N/A"}}]
["サービス内容及び\n契約支給量",null,null,null,{"$f":"VLOOKUP($C$1,利用者情報!A:U,COLUMN(利用者情報!D3),FALSE)","v":0},"日/月","区分",{"$f":"VLOOKUP($C$1,利用者情報!A:U,COLUMN(利用者情報!E4),FALSE)","v":0},null,null,null,"事業所及びその事務所",{"$f":"請求事業者!B7","v":0},null,null,null,null,null,{"$f":"利用者情報!J4","v":""},null,null,null,null,null,null,"04:00:00","４時間未満/"]
["利用者負担の有無",null,null,null,null,"利用者の負担割合",null,null,"利用者負担上限額",null,null,null,null,null,null,null,null,null,null,null,null,null,null,null,"地区区分","08:00:00","４～８時間未満/"]
[{"$f":"VLOOKUP($C$1,利用者情報!A:U,COLUMN(利用者情報!F3),FALSE)","v":0},null,null,null,null,{"$f":"IF(A9=\"有\",\"1割\",\"0割\")","v":"0割"},null,null,{"$f":"VLOOKUP($C$1,利用者情報!A:U,COLUMN(利用者情報!G3),FALSE)","v":0},null,null,null,null,null,null,null,null,null,null,null,null,null,null,null,{"$f":"請求事業者!C9","v":{"$error":"#N/A"}},null,"８時間以上/"]
[null,null,null,null,null,null,null,null,null,null,null,null,null,null,null,null,null,null,null,null,null,null,null,null,"便宜上区分"]
["日付",null,null,"サービス計画",null,null,null,"サービス提供実績",null,null,null,null,"算定\n時間","算定額","利用者\n負担額","請求額","利用者\n確認印",null,"コメント",null,null,"利用者負担額\n累計","上限到達フラグ","上限達成時の利用者負担額",{"$f":"VLOOKUP(H7,'データ '!F:G,2,FALSE)","v":{"$error":"#N/A"}}]
["月","日","曜日","計画\n日数","食事\n提供","入浴","送迎","開始時間","終了\n時間","食事\n提供","入浴","送迎",null,null,null,null,null,null,null,"請求額","利用者\n負担額",null,null,null,"（9割）"]
[{"$f":"IF(B13=\"\",\"\",TEXT(B13,\"m\"))","v":""},null,{"$f":"IF(B13=\"\",\"\",B13)","v":""},null,null,null,null,null,null,null,null,null,{"$f":"I13-H13","v":0},{"$f":"IF($I13=0,0,INDEX(単価,MATCH(Y13,時間,0),MATCH($Y$9,地域区分,0)))","v":0},{"$f":"IF(W13=0,U13,X13)","v":0},{"$f":"N13-O13","v":0},null,1,{"$f":"IF(A13=\"\",\"\",IF($A$13<>A13,\"月が異なります！\",IF(R13>$E$7,\"決定日数を超過しています！\",\"\")))","v":""},{"$f":"IF(AND($I13=0),0,IF($A$9=\"有\",INDEX(単価,MATCH(Y13,時間,0),MATCH($Y$9&$Y$12,地域区分,0)),INDEX(単価,MATCH(Y13,時間,0),MATCH($Y$9,地域区分,0))))","v":0},{"$f":"N13-T13","v":0},{"$f":"SUM($U$13:U13)","v":0},null,null,{"$f":"IF(M13>=$Z$8,$AA$9,IF(AND(M13<$Z$8,M13>=$Z$7),$AA$8,IF(M13<$Z$7,$AA$7)))&$Y$11","v":{"$error":"#N/A"}}]
[{"$f":"IF(B14=\"\",\"\",TEXT(B14,\"m\"))","v":""},null,{"$f":"IF(B14=\"\",\"\",B14)","v":""},null,null,null,null,null,null,null,null,null,{"$f":"I14-H14","v":0},0,{"$f":"IF(W14=0,U14,X14)","v":0},{"$f":"N14-O14","v":0},null,2,{"$f":"IF(A14=\"\",\"\",IF($A$13<>A14,\"月が異なります！\",IF(R14>$E$7,\"決定日数を超過しています！\",\"\")))","v":""},0,{"$f":"N14-T14","v":0},{"$f":"SUM($U$13:U14)","v":0},{"$f":"IF(AND(V13<$I$9,V14>$I$9),1,IF(V14>$I$9,2,0))","v":0},{"$f":"IF(W14=1,$I$9-V13,0)","v":0},{"$f":"IF(M14>=$Z$8,$AA$9,IF(AND(M14<$Z$8,M14>=$Z$7),$AA$8,IF(M14<$Z$7,$AA$7)))&$Y$11","v":{"$error":"#N/A"}}]
["",null,"",null,null,null,null,null,null,null,null,null,0,0,0,0,null,3,"",0,0,{"$f":"SUM($U$13:U15)","v":0},{"$f":"IF(AND(V14<$I$9,V15>$I$9),1,IF(V15>$I$9,2,0))","v":0},{"$f":"IF(W15=1,$I$9-V14,0)","v":0},{"$error":"#N/A"}]
["",null,"",null,null,null,null,null,null,null,null,null,0,0,0,0,null,4,"",0,0,{"$f":"SUM($U$13:U16)","v":0},0,0,{"$error":"#N/A"}]
["",null,"",null,null,null,null,null,null,null,null,null,0,0,0,0,null,5,"",0,0,{"$f":"SUM($U$13:U17)","v":0},0,0,{"$error":"#N/A"}]
["",null,"",null,null,null,null,null,null,null,null,null,0,0,0,0,null,6,"",0,0,{"$f":"SUM($U$13:U18)","v":0},0,0,{"$error":"#N/A"}]
["",null,"",null,null,null,null,null,null,null,null,null,0,0,0,0,null,7,"",0,0,{"$f":"SUM($U$13:U19)","v":0},0,0,{"$error":"#N/A"}]
["",null,"",null,null,null,null,null,null,null,null,null,0,0,0,0,null,8,"",0,0,{"$f":"SUM($U$13:U20)","v":0},0,0,{"$error":"#N/A"}]
["",null,"",null,null,null,null,null,null,null,null,null,0,0,{"$f":"IF(W21=0,U21,X21)","v":0},0,null,9,"",0,0,{"$f":"SUM($U$13:U21)","v":0},0,0,{"$error":"#N/A"}]
["",null,"",null,null,null,null,null,null,null,null,null,0,0,{"$f":"IF(W22=0,U22,X22)","v":0},0,null,10,"",0,{"$f":"N22-T22","v":0},{"$f":"SUM($U$13:U22)","v":0},0,{"$f":"IF(W22=1,$I$9-V21,0)","v":0},{"$error":"#N/A"}]
["",null,"",null,null,null,null,null,null,null,null,null,0,0,0,0,null,11,"",0,0,{"$f":"SUM($U$13:U23)","v":0},0,0,{"$error":"#N/A"}]
["",null,"",null,null,null,null,null,null,null,null,null,0,0,0,0,null,12,"",0,0,{"$f":"SUM($U$13:U24)","v":0},0,0,{"$error":"#N/A"}]
["",null,"",null,null,null,null,null,null,null,null,null,0,0,0,0,null,13,"",0,0,{"$f":"SUM($U$13:U25)","v":0},0,0,{"$error":"#N/A"}]
["",null,"",null,null,null,null,null,null,null,null,null,0,0,0,0,null,14,"",0,0,{"$f":"SUM($U$13:U26)","v":0},0,0,{"$error":"#N/A"}]
["",null,"",null,null,null,null,null,null,null,null,null,0,0,0,0,null,15,"",0,0,{"$f":"SUM($U$13:U27)","v":0},0,0,{"$error":"#N/A"}]
["",null,"",null,null,null,null,null,null,null,null,null,0,0,0,0,null,16,"",0,0,{"$f":"SUM($U$13:U28)","v":0},0,0,{"$error":"#N/A"}]
["",null,"",null,null,null,null,null,null,null,null,null,0,0,0,0,null,17,"",0,0,{"$f":"SUM($U$13:U29)","v":0},0,0,{"$error":"#N/A"}]
["",null,"",null,null,null,null,null,null,null,null,null,0,0,0,0,null,18,"",0,0,{"$f":"SUM($U$13:U30)","v":0},0,0,{"$error":"#N/A"}]
["",null,"",null,null,null,null,null,null,null,null,null,0,0,0,0,null,19,"",0,0,{"$f":"SUM($U$13:U31)","v":0},0,0,{"$error":"#N/A"}]
["",null,"",null,null,null,null,null,null,null,null,null,0,0,0,0,null,20,"",0,0,{"$f":"SUM($U$13:U32)","v":0},0,0,{"$error":"#N/A"}]
["",null,"",null,null,null,null,null,null,null,null,null,0,0,0,0,null,21,"",0,0,{"$f":"SUM($U$13:U33)","v":0},0,0,{"$error":"#N/A"}]
["",null,"",null,null,null,null,null,null,null,null,null,0,0,0,0,null,22,"",0,0,{"$f":"SUM($U$13:U34)","v":0},0,0,{"$error":"#N/A"}]
["",null,"",null,null,null,null,null,null,null,null,null,0,0,0,0,null,23,"",0,0,{"$f":"SUM($U$13:U35)","v":0},0,0,{"$error":"#N/A"}]
["",null,"",null,null,null,null,null,null,null,null,null,0,0,0,0,null,24,"",0,0,{"$f":"SUM($U$13:U36)","v":0},0,0,{"$error":"#N/A"}]
["",null,"",null,null,null,null,null,null,null,null,null,0,0,0,0,null,25,"",0,0,{"$f":"SUM($U$13:U37)","v":0},0,0,{"$error":"#N/A"}]
["",null,"",null,null,null,null,null,null,null,null,null,0,0,0,0,null,26,"",0,0,{"$f":"SUM($U$13:U38)","v":0},0,0,{"$error":"#N/A"}]
["",null,"",null,null,null,null,null,null,null,null,null,0,0,0,0,null,27,"",0,0,{"$f":"SUM($U$13:U39)","v":0},0,0,{"$error":"#N/A"}]
["",null,"",null,null,null,null,null,null,null,null,null,0,0,0,0,null,28,"",0,0,{"$f":"SUM($U$13:U40)","v":0},0,0,{"$error":"#N/A"}]
["",null,"",null,null,null,null,null,null,null,null,null,0,0,0,0,null,29,"",0,0,{"$f":"SUM($U$13:U41)","v":0},0,0,{"$error":"#N/A"}]
["",null,"",null,null,null,null,null,null,null,null,null,0,0,0,0,null,30,"",0,0,{"$f":"SUM($U$13:U42)","v":0},0,0,{"$error":"#N/A"}]
["",null,"",null,null,null,null,null,null,null,null,null,0,0,0,0,null,31,"",0,0,{"$f":"SUM($U$13:U43)","v":0},0,0,{"$error":"#N/A"}]
["合計",null,null,null,null,null,null,null,null,null,null,null,{"$f":"SUM(M13:M43)","v":0},{"$f":"SUM(N13:N43)","v":0},{"$f":"SUM(O13:O43)","v":0},{"$f":"SUM(P13:P43)","v":0},null,null,null,null,null,null,null,null,{"$error":"#N/A"}]

{"sheet":"11","index":15,"n_rows":44,"n_cols":27,"rows_kept":44,"cut":false,"hidden":false,"merged":[[6,18,8,18],[43,0,43,11],[10,15,11,15],[10,16,11,16],[10,18,11,18],[6,0,6,3],[6,11,8,11],[6,12,8,16],[7,0,7,4],[7,5,7,7],[7,8,7,10],[8,0,8,4],[8,5,8,7],[8,8,8,10],[10,21,11,21],[10,22,11,22],[10,23,11,23],[10,0,10,2],[10,3,10,6],[10,7,10,11],[10,12,11,12],[10,13,11,13],[10,14,11,14],[3,1,3,4],[3,5,3,13],[4,0,5,3],[4,4,5,6],[4,7,5,8],[4,9,5,12],[4,13,4,16],[5,13,5,16]]}
[null,"№",11]
[]
[]
[null,{"$f":"EOMONTH(B13,0)","v":"1900-01-31"},null,null,null,"鎌ケ谷市日中一時支援サービス提供実績記録票"]
["登録番号",null,null,null,{"$f":"VLOOKUP($C$1,利用者情報!A:U,COLUMN(利用者情報!B3),FALSE)","v":0},null,null,"支給決定障がい者等氏名\n（児童氏名）",null,{"$f":"VLOOKUP($C$1,利用者情報!A:U,COLUMN(利用者情報!C3),FALSE)","v":0},null,null,null,"事業所登録番号"]
[null,null,null,null,null,null,null,null,null,null,null,null,null,{"$f":"請求事業者!B3","v":0},null,null,null,null,"コメント",null,null,null,null,null,null,{"$f":"VLOOKUP(H7,'データ '!F:G,2,FALSE)","v":{"$error":"#N/A"}}]
["サービス内容及び\n契約支給量",null,null,null,{"$f":"VLOOKUP($C$1,利用者情報!A:U,COLUMN(利用者情報!D3),FALSE)","v":0},"日/月","区分",{"$f":"VLOOKUP($C$1,利用者情報!A:U,COLUMN(利用者情報!E4),FALSE)","v":0},null,null,null,"事業所及びその事務所",{"$f":"請求事業者!B7","v":0},null,null,null,null,null,{"$f":"利用者情報!J4","v":""},null,null,null,null,null,null,"04:00:00","４時間未満/"]
["利用者負担の有無",null,null,null,null,"利用者の負担割合",null,null,"利用者負担上限額",null,null,null,null,null,null,null,null,null,null,null,null,null,null,null,"地区区分","08:00:00","４～８時間未満/"]
[{"$f":"VLOOKUP($C$1,利用者情報!A:U,COLUMN(利用者情報!F3),FALSE)","v":0},null,null,null,null,{"$f":"IF(A9=\"有\",\"1割\",\"0割\")","v":"0割"},null,null,{"$f":"VLOOKUP($C$1,利用者情報!A:U,COLUMN(利用者情報!G3),FALSE)","v":0},null,null,null,null,null,null,null,null,null,null,null,null,null,null,null,{"$f":"請求事業者!C9","v":{"$error":"#N/A"}},null,"８時間以上/"]
[null,null,null,null,null,null,null,null,null,null,null,null,null,null,null,null,null,null,null,null,null,null,null,null,"便宜上区分"]
["日付",null,null,"サービス計画",null,null,null,"サービス提供実績",null,null,null,null,"算定\n時間","算定額","利用者\n負担額","請求額","利用者\n確認印",null,"コメント",null,null,"利用者負担額\n累計","上限到達フラグ","上限達成時の利用者負担額",{"$f":"VLOOKUP(H7,'データ '!F:G,2,FALSE)","v":{"$error":"#N/A"}}]
["月","日","曜日","計画\n日数","食事\n提供","入浴","送迎","開始時間","終了\n時間","食事\n提供","入浴","送迎",null,null,null,null,null,null,null,"請求額","利用者\n負担額",null,null,null,"（9割）"]
[{"$f":"IF(B13=\"\",\"\",TEXT(B13,\"m\"))","v":""},null,{"$f":"IF(B13=\"\",\"\",B13)","v":""},null,null,null,null,null,null,null,null,null,{"$f":"I13-H13","v":0},{"$f":"IF($I13=0,0,INDEX(単価,MATCH(Y13,時間,0),MATCH($Y$9,地域区分,0)))","v":0},{"$f":"IF(W13=0,U13,X13)","v":0},{"$f":"N13-O13","v":0},null,1,{"$f":"IF(A13=\"\",\"\",IF($A$13<>A13,\"月が異なります！\",IF(R13>$E$7,\"決定日数を超過しています！\",\"\")))","v":""},{"$f":"IF(AND($I13=0),0,IF($A$9=\"有\",INDEX(単価,MATCH(Y13,時間,0),MATCH($Y$9&$Y$12,地域区分,0)),INDEX(単価,MATCH(Y13,時間,0),MATCH($Y$9,地域区分,0))))","v":0},{"$f":"N13-T13","v":0},{"$f":"SUM($U$13:U13)","v":0},null,null,{"$f":"IF(M13>=$Z$8,$AA$9,IF(AND(M13<$Z$8,M13>=$Z$7),$AA$8,IF(M13<$Z$7,$AA$7)))&$Y$11","v":{"$error":"#N/A"}}]
[{"$f":"IF(B14=\"\",\"\",TEXT(B14,\"m\"))","v":""},null,{"$f":"IF(B14=\"\",\"\",B14)","v":""},null,null,null,null,null,null,null,null,null,{"$f":"I14-H14","v":0},0,{"$f":"IF(W14=0,U14,X14)","v":0},{"$f":"N14-O14","v":0},null,2,{"$f":"IF(A14=\"\",\"\",IF($A$13<>A14,\"月が異なります！\",IF(R14>$E$7,\"決定日数を超過しています！\",\"\")))","v":""},0,{"$f":"N14-T14","v":0},{"$f":"SUM($U$13:U14)","v":0},{"$f":"IF(AND(V13<$I$9,V14>$I$9),1,IF(V14>$I$9,2,0))","v":0},{"$f":"IF(W14=1,$I$9-V13,0)","v":0},{"$f":"IF(M14>=$Z$8,$AA$9,IF(AND(M14<$Z$8,M14>=$Z$7),$AA$8,IF(M14<$Z$7,$AA$7)))&$Y$11","v":{"$error":"#N/A"}}]
["",null,"",null,null,null,null,null,null,null,null,null,0,0,0,0,null,3,"",0,0,{"$f":"SUM($U$13:U15)","v":0},{"$f":"IF(AND(V14<$I$9,V15>$I$9),1,IF(V15>$I$9,2,0))","v":0},{"$f":"IF(W15=1,$I$9-V14,0)","v":0},{"$error":"#N/A"}]
["",null,"",null,null,null,null,null,null,null,null,null,0,0,0,0,null,4,"",0,0,{"$f":"SUM($U$13:U16)","v":0},0,0,{"$error":"#N/A"}]
["",null,"",null,null,null,null,null,null,null,null,null,0,0,0,0,null,5,"",0,0,{"$f":"SUM($U$13:U17)","v":0},0,0,{"$error":"#N/A"}]
["",null,"",null,null,null,null,null,null,null,null,null,0,0,0,0,null,6,"",0,0,{"$f":"SUM($U$13:U18)","v":0},0,0,{"$error":"#N/A"}]
["",null,"",null,null,null,null,null,null,null,null,null,0,0,0,0,null,7,"",0,0,{"$f":"SUM($U$13:U19)","v":0},0,0,{"$error":"#N/A"}]
["",null,"",null,null,null,null,null,null,null,null,null,0,0,0,0,null,8,"",0,0,{"$f":"SUM($U$13:U20)","v":0},0,0,{"$error":"#N/A"}]
["",null,"",null,null,null,null,null,null,null,null,null,0,0,{"$f":"IF(W21=0,U21,X21)","v":0},0,null,9,"",0,0,{"$f":"SUM($U$13:U21)","v":0},0,0,{"$error":"#N/A"}]
["",null,"",null,null,null,null,null,null,null,null,null,0,0,{"$f":"IF(W22=0,U22,X22)","v":0},0,null,10,"",0,{"$f":"N22-T22","v":0},{"$f":"SUM($U$13:U22)","v":0},0,{"$f":"IF(W22=1,$I$9-V21,0)","v":0},{"$error":"#N/A"}]
["",null,"",null,null,null,null,null,null,null,null,null,0,0,0,0,null,11,"",0,0,{"$f":"SUM($U$13:U23)","v":0},0,0,{"$error":"#N/A"}]
["",null,"",null,null,null,null,null,null,null,null,null,0,0,0,0,null,12,"",0,0,{"$f":"SUM($U$13:U24)","v":0},0,0,{"$error":"#N/A"}]
["",null,"",null,null,null,null,null,null,null,null,null,0,0,0,0,null,13,"",0,0,{"$f":"SUM($U$13:U25)","v":0},0,0,{"$error":"#N/A"}]
["",null,"",null,null,null,null,null,null,null,null,null,0,0,0,0,null,14,"",0,0,{"$f":"SUM($U$13:U26)","v":0},0,0,{"$error":"#N/A"}]
["",null,"",null,null,null,null,null,null,null,null,null,0,0,0,0,null,15,"",0,0,{"$f":"SUM($U$13:U27)","v":0},0,0,{"$error":"#N/A"}]
["",null,"",null,null,null,null,null,null,null,null,null,0,0,0,0,null,16,"",0,0,{"$f":"SUM($U$13:U28)","v":0},0,0,{"$error":"#N/A"}]
["",null,"",null,null,null,null,null,null,null,null,null,0,0,0,0,null,17,"",0,0,{"$f":"SUM($U$13:U29)","v":0},0,0,{"$error":"#N/A"}]
["",null,"",null,null,null,null,null,null,null,null,null,0,0,0,0,null,18,"",0,0,{"$f":"SUM($U$13:U30)","v":0},0,0,{"$error":"#N/A"}]
["",null,"",null,null,null,null,null,null,null,null,null,0,0,0,0,null,19,"",0,0,{"$f":"SUM($U$13:U31)","v":0},0,0,{"$error":"#N/A"}]
["",null,"",null,null,null,null,null,null,null,null,null,0,0,0,0,null,20,"",0,0,{"$f":"SUM($U$13:U32)","v":0},0,0,{"$error":"#N/A"}]
["",null,"",null,null,null,null,null,null,null,null,null,0,0,0,0,null,21,"",0,0,{"$f":"SUM($U$13:U33)","v":0},0,0,{"$error":"#N/A"}]
["",null,"",null,null,null,null,null,null,null,null,null,0,0,0,0,null,22,"",0,0,{"$f":"SUM($U$13:U34)","v":0},0,0,{"$error":"#N/A"}]
["",null,"",null,null,null,null,null,null,null,null,null,0,0,0,0,null,23,"",0,0,{"$f":"SUM($U$13:U35)","v":0},0,0,{"$error":"#N/A"}]
["",null,"",null,null,null,null,null,null,null,null,null,0,0,0,0,null,24,"",0,0,{"$f":"SUM($U$13:U36)","v":0},0,0,{"$error":"#N/A"}]
["",null,"",null,null,null,null,null,null,null,null,null,0,0,0,0,null,25,"",0,0,{"$f":"SUM($U$13:U37)","v":0},0,0,{"$error":"#N/A"}]
["",null,"",null,null,null,null,null,null,null,null,null,0,0,0,0,null,26,"",0,0,{"$f":"SUM($U$13:U38)","v":0},0,0,{"$error":"#N/A"}]
["",null,"",null,null,null,null,null,null,null,null,null,0,0,0,0,null,27,"",0,0,{"$f":"SUM($U$13:U39)","v":0},0,0,{"$error":"#N/A"}]
["",null,"",null,null,null,null,null,null,null,null,null,0,0,0,0,null,28,"",0,0,{"$f":"SUM($U$13:U40)","v":0},0,0,{"$error":"#N/A"}]
["",null,"",null,null,null,null,null,null,null,null,null,0,0,0,0,null,29,"",0,0,{"$f":"SUM($U$13:U41)","v":0},0,0,{"$error":"#N/A"}]
["",null,"",null,null,null,null,null,null,null,null,null,0,0,0,0,null,30,"",0,0,{"$f":"SUM($U$13:U42)","v":0},0,0,{"$error":"#N/A"}]
["",null,"",null,null,null,null,null,null,null,null,null,0,0,0,0,null,31,"",0,0,{"$f":"SUM($U$13:U43)","v":0},0,0,{"$error":"#N/A"}]
["合計",null,null,null,null,null,null,null,null,null,null,null,{"$f":"SUM(M13:M43)","v":0},{"$f":"SUM(N13:N43)","v":0},{"$f":"SUM(O13:O43)","v":0},{"$f":"SUM(P13:P43)","v":0},null,null,null,null,null,null,null,null,{"$error":"#N/A"}]

{"sheet":"12","index":16,"n_rows":44,"n_cols":27,"rows_kept":44,"cut":false,"hidden":false,"merged":[[6,18,8,18],[43,0,43,11],[10,15,11,15],[10,16,11,16],[10,18,11,18],[6,0,6,3],[6,11,8,11],[6,12,8,16],[7,0,7,4],[7,5,7,7],[7,8,7,10],[8,0,8,4],[8,5,8,7],[8,8,8,10],[10,21,11,21],[10,22,11,22],[10,23,11,23],[10,0,10,2],[10,3,10,6],[10,7,10,11],[10,12,11,12],[10,13,11,13],[10,14,11,14],[3,1,3,4],[3,5,3,13],[4,0,5,3],[4,4,5,6],[4,7,5,8],[4,9,5,12],[4,13,4,16],[5,13,5,16]]}
[null,"№",12]
[]
[]
[null,{"$f":"EOMONTH(B13,0)","v":"1900-01-31"},null,null,null,"鎌ケ谷市日中一時支援サービス提供実績記録票"]
["登録番号",null,null,null,{"$f":"VLOOKUP($C$1,利用者情報!A:U,COLUMN(利用者情報!B3),FALSE)","v":0},null,null,"支給決定障がい者等氏名\n（児童氏名）",null,{"$f":"VLOOKUP($C$1,利用者情報!A:U,COLUMN(利用者情報!C3),FALSE)","v":0},null,null,null,"事業所登録番号"]
[null,null,null,null,null,null,null,null,null,null,null,null,null,{"$f":"請求事業者!B3","v":0},null,null,null,null,"コメント",null,null,null,null,null,null,{"$f":"VLOOKUP(H7,'データ '!F:G,2,FALSE)","v":{"$error":"#N/A"}}]
["サービス内容及び\n契約支給量",null,null,null,{"$f":"VLOOKUP($C$1,利用者情報!A:U,COLUMN(利用者情報!D3),FALSE)","v":0},"日/月","区分",{"$f":"VLOOKUP($C$1,利用者情報!A:U,COLUMN(利用者情報!E4),FALSE)","v":0},null,null,null,"事業所及びその事務所",{"$f":"請求事業者!B7","v":0},null,null,null,null,null,{"$f":"利用者情報!J4","v":""},null,null,null,null,null,null,"04:00:00","４時間未満/"]
["利用者負担の有無",null,null,null,null,"利用者の負担割合",null,null,"利用者負担上限額",null,null,null,null,null,null,null,null,null,null,null,null,null,null,null,"地区区分","08:00:00","４～８時間未満/"]
[{"$f":"VLOOKUP($C$1,利用者情報!A:U,COLUMN(利用者情報!F3),FALSE)","v":0},null,null,null,null,{"$f":"IF(A9=\"有\",\"1割\",\"0割\")","v":"0割"},null,null,{"$f":"VLOOKUP($C$1,利用者情報!A:U,COLUMN(利用者情報!G3),FALSE)","v":0},null,null,null,null,null,null,null,null,null,null,null,null,null,null,null,{"$f":"請求事業者!C9","v":{"$error":"#N/A"}},null,"８時間以上/"]
[null,null,null,null,null,null,null,null,null,null,null,null,null,null,null,null,null,null,null,null,null,null,null,null,"便宜上区分"]
["日付",null,null,"サービス計画",null,null,null,"サービス提供実績",null,null,null,null,"算定\n時間","算定額","利用者\n負担額","請求額","利用者\n確認印",null,"コメント",null,null,"利用者負担額\n累計","上限到達フラグ","上限達成時の利用者負担額",{"$f":"VLOOKUP(H7,'データ '!F:G,2,FALSE)","v":{"$error":"#N/A"}}]
["月","日","曜日","計画\n日数","食事\n提供","入浴","送迎","開始時間","終了\n時間","食事\n提供","入浴","送迎",null,null,null,null,null,null,null,"請求額","利用者\n負担額",null,null,null,"（9割）"]
[{"$f":"IF(B13=\"\",\"\",TEXT(B13,\"m\"))","v":""},null,{"$f":"IF(B13=\"\",\"\",B13)","v":""},null,null,null,null,null,null,null,null,null,{"$f":"I13-H13","v":0},{"$f":"IF($I13=0,0,INDEX(単価,MATCH(Y13,時間,0),MATCH($Y$9,地域区分,0)))","v":0},{"$f":"IF(W13=0,U13,X13)","v":0},{"$f":"N13-O13","v":0},null,1,{"$f":"IF(A13=\"\",\"\",IF($A$13<>A13,\"月が異なります！\",IF(R13>$E$7,\"決定日数を超過しています！\",\"\")))","v":""},{"$f":"IF(AND($I13=0),0,IF($A$9=\"有\",INDEX(単価,MATCH(Y13,時間,0),MATCH($Y$9&$Y$12,地域区分,0)),INDEX(単価,MATCH(Y13,時間,0),MATCH($Y$9,地域区分,0))))","v":0},{"$f":"N13-T13","v":0},{"$f":"SUM($U$13:U13)","v":0},null,null,{"$f":"IF(M13>=$Z$8,$AA$9,IF(AND(M13<$Z$8,M13>=$Z$7),$AA$8,IF(M13<$Z$7,$AA$7)))&$Y$11","v":{"$error":"#N/A"}}]
[{"$f":"IF(B14=\"\",\"\",TEXT(B14,\"m\"))","v":""},null,{"$f":"IF(B14=\"\",\"\",B14)","v":""},null,null,null,null,null,null,null,null,null,{"$f":"I14-H14","v":0},0,{"$f":"IF(W14=0,U14,X14)","v":0},{"$f":"N14-O14","v":0},null,2,{"$f":"IF(A14=\"\",\"\",IF($A$13<>A14,\"月が異なります！\",IF(R14>$E$7,\"決定日数を超過しています！\",\"\")))","v":""},0,{"$f":"N14-T14","v":0},{"$f":"SUM($U$13:U14)","v":0},{"$f":"IF(AND(V13<$I$9,V14>$I$9),1,IF(V14>$I$9,2,0))","v":0},{"$f":"IF(W14=1,$I$9-V13,0)","v":0},{"$f":"IF(M14>=$Z$8,$AA$9,IF(AND(M14<$Z$8,M14>=$Z$7),$AA$8,IF(M14<$Z$7,$AA$7)))&$Y$11","v":{"$error":"#N/A"}}]
["",null,"",null,null,null,null,null,null,null,null,null,0,0,0,0,null,3,"",0,0,{"$f":"SUM($U$13:U15)","v":0},{"$f":"IF(AND(V14<$I$9,V15>$I$9),1,IF(V15>$I$9,2,0))","v":0},{"$f":"IF(W15=1,$I$9-V14,0)","v":0},{"$error":"#N/A"}]
["",null,"",null,null,null,null,null,null,null,null,null,0,0,0,0,null,4,"",0,0,{"$f":"SUM($U$13:U16)","v":0},0,0,{"$error":"#N/A"}]
["",null,"",null,null,null,null,null,null,null,null,null,0,0,0,0,null,5,"",0,0,{"$f":"SUM($U$13:U17)","v":0},0,0,{"$error":"#N/A"}]
["",null,"",null,null,null,null,null,null,null,null,null,0,0,0,0,null,6,"",0,0,{"$f":"SUM($U$13:U18)","v":0},0,0,{"$error":"#N/A"}]
["",null,"",null,null,null,null,null,null,null,null,null,0,0,0,0,null,7,"",0,0,{"$f":"SUM($U$13:U19)","v":0},0,0,{"$error":"#N/A"}]
["",null,"",null,null,null,null,null,null,null,null,null,0,0,0,0,null,8,"",0,0,{"$f":"SUM($U$13:U20)","v":0},0,0,{"$error":"#N/A"}]
["",null,"",null,null,null,null,null,null,null,null,null,0,0,{"$f":"IF(W21=0,U21,X21)","v":0},0,null,9,"",0,0,{"$f":"SUM($U$13:U21)","v":0},0,0,{"$error":"#N/A"}]
["",null,"",null,null,null,null,null,null,null,null,null,0,0,{"$f":"IF(W22=0,U22,X22)","v":0},0,null,10,"",0,{"$f":"N22-T22","v":0},{"$f":"SUM($U$13:U22)","v":0},0,{"$f":"IF(W22=1,$I$9-V21,0)","v":0},{"$error":"#N/A"}]
["",null,"",null,null,null,null,null,null,null,null,null,0,0,0,0,null,11,"",0,0,{"$f":"SUM($U$13:U23)","v":0},0,0,{"$error":"#N/A"}]
["",null,"",null,null,null,null,null,null,null,null,null,0,0,0,0,null,12,"",0,0,{"$f":"SUM($U$13:U24)","v":0},0,0,{"$error":"#N/A"}]
["",null,"",null,null,null,null,null,null,null,null,null,0,0,0,0,null,13,"",0,0,{"$f":"SUM($U$13:U25)","v":0},0,0,{"$error":"#N/A"}]
["",null,"",null,null,null,null,null,null,null,null,null,0,0,0,0,null,14,"",0,0,{"$f":"SUM($U$13:U26)","v":0},0,0,{"$error":"#N/A"}]
["",null,"",null,null,null,null,null,null,null,null,null,0,0,0,0,null,15,"",0,0,{"$f":"SUM($U$13:U27)","v":0},0,0,{"$error":"#N/A"}]
["",null,"",null,null,null,null,null,null,null,null,null,0,0,0,0,null,16,"",0,0,{"$f":"SUM($U$13:U28)","v":0},0,0,{"$error":"#N/A"}]
["",null,"",null,null,null,null,null,null,null,null,null,0,0,0,0,null,17,"",0,0,{"$f":"SUM($U$13:U29)","v":0},0,0,{"$error":"#N/A"}]
["",null,"",null,null,null,null,null,null,null,null,null,0,0,0,0,null,18,"",0,0,{"$f":"SUM($U$13:U30)","v":0},0,0,{"$error":"#N/A"}]
["",null,"",null,null,null,null,null,null,null,null,null,0,0,0,0,null,19,"",0,0,{"$f":"SUM($U$13:U31)","v":0},0,0,{"$error":"#N/A"}]
["",null,"",null,null,null,null,null,null,null,null,null,0,0,0,0,null,20,"",0,0,{"$f":"SUM($U$13:U32)","v":0},0,0,{"$error":"#N/A"}]
["",null,"",null,null,null,null,null,null,null,null,null,0,0,0,0,null,21,"",0,0,{"$f":"SUM($U$13:U33)","v":0},0,0,{"$error":"#N/A"}]
["",null,"",null,null,null,null,null,null,null,null,null,0,0,0,0,null,22,"",0,0,{"$f":"SUM($U$13:U34)","v":0},0,0,{"$error":"#N/A"}]
["",null,"",null,null,null,null,null,null,null,null,null,0,0,0,0,null,23,"",0,0,{"$f":"SUM($U$13:U35)","v":0},0,0,{"$error":"#N/A"}]
["",null,"",null,null,null,null,null,null,null,null,null,0,0,0,0,null,24,"",0,0,{"$f":"SUM($U$13:U36)","v":0},0,0,{"$error":"#N/A"}]
["",null,"",null,null,null,null,null,null,null,null,null,0,0,0,0,null,25,"",0,0,{"$f":"SUM($U$13:U37)","v":0},0,0,{"$error":"#N/A"}]
["",null,"",null,null,null,null,null,null,null,null,null,0,0,0,0,null,26,"",0,0,{"$f":"SUM($U$13:U38)","v":0},0,0,{"$error":"#N/A"}]
["",null,"",null,null,null,null,null,null,null,null,null,0,0,0,0,null,27,"",0,0,{"$f":"SUM($U$13:U39)","v":0},0,0,{"$error":"#N/A"}]
["",null,"",null,null,null,null,null,null,null,null,null,0,0,0,0,null,28,"",0,0,{"$f":"SUM($U$13:U40)","v":0},0,0,{"$error":"#N/A"}]
["",null,"",null,null,null,null,null,null,null,null,null,0,0,0,0,null,29,"",0,0,{"$f":"SUM($U$13:U41)","v":0},0,0,{"$error":"#N/A"}]
["",null,"",null,null,null,null,null,null,null,null,null,0,0,0,0,null,30,"",0,0,{"$f":"SUM($U$13:U42)","v":0},0,0,{"$error":"#N/A"}]
["",null,"",null,null,null,null,null,null,null,null,null,0,0,0,0,null,31,"",0,0,{"$f":"SUM($U$13:U43)","v":0},0,0,{"$error":"#N/A"}]
["合計",null,null,null,null,null,null,null,null,null,null,null,{"$f":"SUM(M13:M43)","v":0},{"$f":"SUM(N13:N43)","v":0},{"$f":"SUM(O13:O43)","v":0},{"$f":"SUM(P13:P43)","v":0},null,null,null,null,null,null,null,null,{"$error":"#N/A"}]

{"sheet":"13","index":17,"n_rows":44,"n_cols":27,"rows_kept":44,"cut":false,"hidden":false,"merged":[[6,18,8,18],[43,0,43,11],[10,15,11,15],[10,16,11,16],[10,18,11,18],[6,0,6,3],[6,11,8,11],[6,12,8,16],[7,0,7,4],[7,5,7,7],[7,8,7,10],[8,0,8,4],[8,5,8,7],[8,8,8,10],[10,21,11,21],[10,22,11,22],[10,23,11,23],[10,0,10,2],[10,3,10,6],[10,7,10,11],[10,12,11,12],[10,13,11,13],[10,14,11,14],[3,1,3,4],[3,5,3,13],[4,0,5,3],[4,4,5,6],[4,7,5,8],[4,9,5,12],[4,13,4,16],[5,13,5,16]]}
[null,"№",13]
[]
[]
[null,{"$f":"EOMONTH(B13,0)","v":"1900-01-31"},null,null,null,"鎌ケ谷市日中一時支援サービス提供実績記録票"]
["登録番号",null,null,null,{"$f":"VLOOKUP($C$1,利用者情報!A:U,COLUMN(利用者情報!B3),FALSE)","v":0},null,null,"支給決定障がい者等氏名\n（児童氏名）",null,{"$f":"VLOOKUP($C$1,利用者情報!A:U,COLUMN(利用者情報!C3),FALSE)","v":0},null,null,null,"事業所登録番号"]
[null,null,null,null,null,null,null,null,null,null,null,null,null,{"$f":"請求事業者!B3","v":0},null,null,null,null,"コメント",null,null,null,null,null,null,{"$f":"VLOOKUP(H7,'データ '!F:G,2,FALSE)","v":{"$error":"#N/A"}}]
["サービス内容及び\n契約支給量",null,null,null,{"$f":"VLOOKUP($C$1,利用者情報!A:U,COLUMN(利用者情報!D3),FALSE)","v":0},"日/月","区分",{"$f":"VLOOKUP($C$1,利用者情報!A:U,COLUMN(利用者情報!E4),FALSE)","v":0},null,null,null,"事業所及びその事務所",{"$f":"請求事業者!B7","v":0},null,null,null,null,null,{"$f":"利用者情報!J4","v":""},null,null,null,null,null,null,"04:00:00","４時間未満/"]
["利用者負担の有無",null,null,null,null,"利用者の負担割合",null,null,"利用者負担上限額",null,null,null,null,null,null,null,null,null,null,null,null,null,null,null,"地区区分","08:00:00","４～８時間未満/"]
[{"$f":"VLOOKUP($C$1,利用者情報!A:U,COLUMN(利用者情報!F3),FALSE)","v":0},null,null,null,null,{"$f":"IF(A9=\"有\",\"1割\",\"0割\")","v":"0割"},null,null,{"$f":"VLOOKUP($C$1,利用者情報!A:U,COLUMN(利用者情報!G3),FALSE)","v":0},null,null,null,null,null,null,null,null,null,null,null,null,null,null,null,{"$f":"請求事業者!C9","v":{"$error":"#N/A"}},null,"８時間以上/"]
[null,null,null,null,null,null,null,null,null,null,null,null,null,null,null,null,null,null,null,null,null,null,null,null,"便宜上区分"]
["日付",null,null,"サービス計画",null,null,null,"サービス提供実績",null,null,null,null,"算定\n時間","算定額","利用者\n負担額","請求額","利用者\n確認印",null,"コメント",null,null,"利用者負担額\n累計","上限到達フラグ","上限達成時の利用者負担額",{"$f":"VLOOKUP(H7,'データ '!F:G,2,FALSE)","v":{"$error":"#N/A"}}]
["月","日","曜日","計画\n日数","食事\n提供","入浴","送迎","開始時間","終了\n時間","食事\n提供","入浴","送迎",null,null,null,null,null,null,null,"請求額","利用者\n負担額",null,null,null,"（9割）"]
[{"$f":"IF(B13=\"\",\"\",TEXT(B13,\"m\"))","v":""},null,{"$f":"IF(B13=\"\",\"\",B13)","v":""},null,null,null,null,null,null,null,null,null,{"$f":"I13-H13","v":0},{"$f":"IF($I13=0,0,INDEX(単価,MATCH(Y13,時間,0),MATCH($Y$9,地域区分,0)))","v":0},{"$f":"IF(W13=0,U13,X13)","v":0},{"$f":"N13-O13","v":0},null,1,{"$f":"IF(A13=\"\",\"\",IF($A$13<>A13,\"月が異なります！\",IF(R13>$E$7,\"決定日数を超過しています！\",\"\")))","v":""},{"$f":"IF(AND($I13=0),0,IF($A$9=\"有\",INDEX(単価,MATCH(Y13,時間,0),MATCH($Y$9&$Y$12,地域区分,0)),INDEX(単価,MATCH(Y13,時間,0),MATCH($Y$9,地域区分,0))))","v":0},{"$f":"N13-T13","v":0},{"$f":"SUM($U$13:U13)","v":0},null,null,{"$f":"IF(M13>=$Z$8,$AA$9,IF(AND(M13<$Z$8,M13>=$Z$7),$AA$8,IF(M13<$Z$7,$AA$7)))&$Y$11","v":{"$error":"#N/A"}}]
[{"$f":"IF(B14=\"\",\"\",TEXT(B14,\"m\"))","v":""},null,{"$f":"IF(B14=\"\",\"\",B14)","v":""},null,null,null,null,null,null,null,null,null,{"$f":"I14-H14","v":0},0,{"$f":"IF(W14=0,U14,X14)","v":0},{"$f":"N14-O14","v":0},null,2,{"$f":"IF(A14=\"\",\"\",IF($A$13<>A14,\"月が異なります！\",IF(R14>$E$7,\"決定日数を超過しています！\",\"\")))","v":""},0,{"$f":"N14-T14","v":0},{"$f":"SUM($U$13:U14)","v":0},{"$f":"IF(AND(V13<$I$9,V14>$I$9),1,IF(V14>$I$9,2,0))","v":0},{"$f":"IF(W14=1,$I$9-V13,0)","v":0},{"$f":"IF(M14>=$Z$8,$AA$9,IF(AND(M14<$Z$8,M14>=$Z$7),$AA$8,IF(M14<$Z$7,$AA$7)))&$Y$11","v":{"$error":"#N/A"}}]
["",null,"",null,null,null,null,null,null,null,null,null,0,0,0,0,null,3,"",0,0,{"$f":"SUM($U$13:U15)","v":0},{"$f":"IF(AND(V14<$I$9,V15>$I$9),1,IF(V15>$I$9,2,0))","v":0},{"$f":"IF(W15=1,$I$9-V14,0)","v":0},{"$error":"#N/A"}]
["",null,"",null,null,null,null,null,null,null,null,null,0,0,0,0,null,4,"",0,0,{"$f":"SUM($U$13:U16)","v":0},0,0,{"$error":"#N/A"}]
["",null,"",null,null,null,null,null,null,null,null,null,0,0,0,0,null,5,"",0,0,{"$f":"SUM($U$13:U17)","v":0},0,0,{"$error":"#N/A"}]
["",null,"",null,null,null,null,null,null,null,null,null,0,0,0,0,null,6,"",0,0,{"$f":"SUM($U$13:U18)","v":0},0,0,{"$error":"#N/A"}]
["",null,"",null,null,null,null,null,null,null,null,null,0,0,0,0,null,7,"",0,0,{"$f":"SUM($U$13:U19)","v":0},0,0,{"$error":"#N/A"}]
["",null,"",null,null,null,null,null,null,null,null,null,0,0,0,0,null,8,"",0,0,{"$f":"SUM($U$13:U20)","v":0},0,0,{"$error":"#N/A"}]
["",null,"",null,null,null,null,null,null,null,null,null,0,0,{"$f":"IF(W21=0,U21,X21)","v":0},0,null,9,"",0,0,{"$f":"SUM($U$13:U21)","v":0},0,0,{"$error":"#N/A"}]
["",null,"",null,null,null,null,null,null,null,null,null,0,0,{"$f":"IF(W22=0,U22,X22)","v":0},0,null,10,"",0,{"$f":"N22-T22","v":0},{"$f":"SUM($U$13:U22)","v":0},0,{"$f":"IF(W22=1,$I$9-V21,0)","v":0},{"$error":"#N/A"}]
["",null,"",null,null,null,null,null,null,null,null,null,0,0,0,0,null,11,"",0,0,{"$f":"SUM($U$13:U23)","v":0},0,0,{"$error":"#N/A"}]
["",null,"",null,null,null,null,null,null,null,null,null,0,0,0,0,null,12,"",0,0,{"$f":"SUM($U$13:U24)","v":0},0,0,{"$error":"#N/A"}]
["",null,"",null,null,null,null,null,null,null,null,null,0,0,0,0,null,13,"",0,0,{"$f":"SUM($U$13:U25)","v":0},0,0,{"$error":"#N/A"}]
["",null,"",null,null,null,null,null,null,null,null,null,0,0,0,0,null,14,"",0,0,{"$f":"SUM($U$13:U26)","v":0},0,0,{"$error":"#N/A"}]
["",null,"",null,null,null,null,null,null,null,null,null,0,0,0,0,null,15,"",0,0,{"$f":"SUM($U$13:U27)","v":0},0,0,{"$error":"#N/A"}]
["",null,"",null,null,null,null,null,null,null,null,null,0,0,0,0,null,16,"",0,0,{"$f":"SUM($U$13:U28)","v":0},0,0,{"$error":"#N/A"}]
["",null,"",null,null,null,null,null,null,null,null,null,0,0,0,0,null,17,"",0,0,{"$f":"SUM($U$13:U29)","v":0},0,0,{"$error":"#N/A"}]
["",null,"",null,null,null,null,null,null,null,null,null,0,0,0,0,null,18,"",0,0,{"$f":"SUM($U$13:U30)","v":0},0,0,{"$error":"#N/A"}]
["",null,"",null,null,null,null,null,null,null,null,null,0,0,0,0,null,19,"",0,0,{"$f":"SUM($U$13:U31)","v":0},0,0,{"$error":"#N/A"}]
["",null,"",null,null,null,null,null,null,null,null,null,0,0,0,0,null,20,"",0,0,{"$f":"SUM($U$13:U32)","v":0},0,0,{"$error":"#N/A"}]
["",null,"",null,null,null,null,null,null,null,null,null,0,0,0,0,null,21,"",0,0,{"$f":"SUM($U$13:U33)","v":0},0,0,{"$error":"#N/A"}]
["",null,"",null,null,null,null,null,null,null,null,null,0,0,0,0,null,22,"",0,0,{"$f":"SUM($U$13:U34)","v":0},0,0,{"$error":"#N/A"}]
["",null,"",null,null,null,null,null,null,null,null,null,0,0,0,0,null,23,"",0,0,{"$f":"SUM($U$13:U35)","v":0},0,0,{"$error":"#N/A"}]
["",null,"",null,null,null,null,null,null,null,null,null,0,0,0,0,null,24,"",0,0,{"$f":"SUM($U$13:U36)","v":0},0,0,{"$error":"#N/A"}]
["",null,"",null,null,null,null,null,null,null,null,null,0,0,0,0,null,25,"",0,0,{"$f":"SUM($U$13:U37)","v":0},0,0,{"$error":"#N/A"}]
["",null,"",null,null,null,null,null,null,null,null,null,0,0,0,0,null,26,"",0,0,{"$f":"SUM($U$13:U38)","v":0},0,0,{"$error":"#N/A"}]
["",null,"",null,null,null,null,null,null,null,null,null,0,0,0,0,null,27,"",0,0,{"$f":"SUM($U$13:U39)","v":0},0,0,{"$error":"#N/A"}]
["",null,"",null,null,null,null,null,null,null,null,null,0,0,0,0,null,28,"",0,0,{"$f":"SUM($U$13:U40)","v":0},0,0,{"$error":"#N/A"}]
["",null,"",null,null,null,null,null,null,null,null,null,0,0,0,0,null,29,"",0,0,{"$f":"SUM($U$13:U41)","v":0},0,0,{"$error":"#N/A"}]
["",null,"",null,null,null,null,null,null,null,null,null,0,0,0,0,null,30,"",0,0,{"$f":"SUM($U$13:U42)","v":0},0,0,{"$error":"#N/A"}]
["",null,"",null,null,null,null,null,null,null,null,null,0,0,0,0,null,31,"",0,0,{"$f":"SUM($U$13:U43)","v":0},0,0,{"$error":"#N/A"}]
["合計",null,null,null,null,null,null,null,null,null,null,null,{"$f":"SUM(M13:M43)","v":0},{"$f":"SUM(N13:N43)","v":0},{"$f":"SUM(O13:O43)","v":0},{"$f":"SUM(P13:P43)","v":0},null,null,null,null,null,null,null,null,{"$error":"#N/A"}]

{"sheet":"14","index":18,"n_rows":44,"n_cols":27,"rows_kept":44,"cut":false,"hidden":false,"merged":[[6,18,8,18],[43,0,43,11],[10,15,11,15],[10,16,11,16],[10,18,11,18],[6,0,6,3],[6,11,8,11],[6,12,8,16],[7,0,7,4],[7,5,7,7],[7,8,7,10],[8,0,8,4],[8,5,8,7],[8,8,8,10],[10,21,11,21],[10,22,11,22],[10,23,11,23],[10,0,10,2],[10,3,10,6],[10,7,10,11],[10,12,11,12],[10,13,11,13],[10,14,11,14],[3,1,3,4],[3,5,3,13],[4,0,5,3],[4,4,5,6],[4,7,5,8],[4,9,5,12],[4,13,4,16],[5,13,5,16]]}
[null,"№",14]
[]
[]
[null,{"$f":"EOMONTH(B13,0)","v":"1900-01-31"},null,null,null,"鎌ケ谷市日中一時支援サービス提供実績記録票"]
["登録番号",null,null,null,{"$f":"VLOOKUP($C$1,利用者情報!A:U,COLUMN(利用者情報!B3),FALSE)","v":0},null,null,"支給決定障がい者等氏名\n（児童氏名）",null,{"$f":"VLOOKUP($C$1,利用者情報!A:U,COLUMN(利用者情報!C3),FALSE)","v":0},null,null,null,"事業所登録番号"]
[null,null,null,null,null,null,null,null,null,null,null,null,null,{"$f":"請求事業者!B3","v":0},null,null,null,null,"コメント",null,null,null,null,null,null,{"$f":"VLOOKUP(H7,'データ '!F:G,2,FALSE)","v":{"$error":"#N/A"}}]
["サービス内容及び\n契約支給量",null,null,null,{"$f":"VLOOKUP($C$1,利用者情報!A:U,COLUMN(利用者情報!D3),FALSE)","v":0},"日/月","区分",{"$f":"VLOOKUP($C$1,利用者情報!A:U,COLUMN(利用者情報!E4),FALSE)","v":0},null,null,null,"事業所及びその事務所",{"$f":"請求事業者!B7","v":0},null,null,null,null,null,{"$f":"利用者情報!J4","v":""},null,null,null,null,null,null,"04:00:00","４時間未満/"]
["利用者負担の有無",null,null,null,null,"利用者の負担割合",null,null,"利用者負担上限額",null,null,null,null,null,null,null,null,null,null,null,null,null,null,null,"地区区分","08:00:00","４～８時間未満/"]
[{"$f":"VLOOKUP($C$1,利用者情報!A:U,COLUMN(利用者情報!F3),FALSE)","v":0},null,null,null,null,{"$f":"IF(A9=\"有\",\"1割\",\"0割\")","v":"0割"},null,null,{"$f":"VLOOKUP($C$1,利用者情報!A:U,COLUMN(利用者情報!G3),FALSE)","v":0},null,null,null,null,null,null,null,null,null,null,null,null,null,null,null,{"$f":"請求事業者!C9","v":{"$error":"#N/A"}},null,"８時間以上/"]
[null,null,null,null,null,null,null,null,null,null,null,null,null,null,null,null,null,null,null,null,null,null,null,null,"便宜上区分"]
["日付",null,null,"サービス計画",null,null,null,"サービス提供実績",null,null,null,null,"算定\n時間","算定額","利用者\n負担額","請求額","利用者\n確認印",null,"コメント",null,null,"利用者負担額\n累計","上限到達フラグ","上限達成時の利用者負担額",{"$f":"VLOOKUP(H7,'データ '!F:G,2,FALSE)","v":{"$error":"#N/A"}}]
["月","日","曜日","計画\n日数","食事\n提供","入浴","送迎","開始時間","終了\n時間","食事\n提供","入浴","送迎",null,null,null,null,null,null,null,"請求額","利用者\n負担額",null,null,null,"（9割）"]
[{"$f":"IF(B13=\"\",\"\",TEXT(B13,\"m\"))","v":""},null,{"$f":"IF(B13=\"\",\"\",B13)","v":""},null,null,null,null,null,null,null,null,null,{"$f":"I13-H13","v":0},{"$f":"IF($I13=0,0,INDEX(単価,MATCH(Y13,時間,0),MATCH($Y$9,地域区分,0)))","v":0},{"$f":"IF(W13=0,U13,X13)","v":0},{"$f":"N13-O13","v":0},null,1,{"$f":"IF(A13=\"\",\"\",IF($A$13<>A13,\"月が異なります！\",IF(R13>$E$7,\"決定日数を超過しています！\",\"\")))","v":""},{"$f":"IF(AND($I13=0),0,IF($A$9=\"有\",INDEX(単価,MATCH(Y13,時間,0),MATCH($Y$9&$Y$12,地域区分,0)),INDEX(単価,MATCH(Y13,時間,0),MATCH($Y$9,地域区分,0))))","v":0},{"$f":"N13-T13","v":0},{"$f":"SUM($U$13:U13)","v":0},null,null,{"$f":"IF(M13>=$Z$8,$AA$9,IF(AND(M13<$Z$8,M13>=$Z$7),$AA$8,IF(M13<$Z$7,$AA$7)))&$Y$11","v":{"$error":"#N/A"}}]
[{"$f":"IF(B14=\"\",\"\",TEXT(B14,\"m\"))","v":""},null,{"$f":"IF(B14=\"\",\"\",B14)","v":""},null,null,null,null,null,null,null,null,null,{"$f":"I14-H14","v":0},0,{"$f":"IF(W14=0,U14,X14)","v":0},{"$f":"N14-O14","v":0},null,2,{"$f":"IF(A14=\"\",\"\",IF($A$13<>A14,\"月が異なります！\",IF(R14>$E$7,\"決定日数を超過しています！\",\"\")))","v":""},0,{"$f":"N14-T14","v":0},{"$f":"SUM($U$13:U14)","v":0},{"$f":"IF(AND(V13<$I$9,V14>$I$9),1,IF(V14>$I$9,2,0))","v":0},{"$f":"IF(W14=1,$I$9-V13,0)","v":0},{"$f":"IF(M14>=$Z$8,$AA$9,IF(AND(M14<$Z$8,M14>=$Z$7),$AA$8,IF(M14<$Z$7,$AA$7)))&$Y$11","v":{"$error":"#N/A"}}]
["",null,"",null,null,null,null,null,null,null,null,null,0,0,0,0,null,3,"",0,0,{"$f":"SUM($U$13:U15)","v":0},{"$f":"IF(AND(V14<$I$9,V15>$I$9),1,IF(V15>$I$9,2,0))","v":0},{"$f":"IF(W15=1,$I$9-V14,0)","v":0},{"$error":"#N/A"}]
["",null,"",null,null,null,null,null,null,null,null,null,0,0,0,0,null,4,"",0,0,{"$f":"SUM($U$13:U16)","v":0},0,0,{"$error":"#N/A"}]
["",null,"",null,null,null,null,null,null,null,null,null,0,0,0,0,null,5,"",0,0,{"$f":"SUM($U$13:U17)","v":0},0,0,{"$error":"#N/A"}]
["",null,"",null,null,null,null,null,null,null,null,null,0,0,0,0,null,6,"",0,0,{"$f":"SUM($U$13:U18)","v":0},0,0,{"$error":"#N/A"}]
["",null,"",null,null,null,null,null,null,null,null,null,0,0,0,0,null,7,"",0,0,{"$f":"SUM($U$13:U19)","v":0},0,0,{"$error":"#N/A"}]
["",null,"",null,null,null,null,null,null,null,null,null,0,0,0,0,null,8,"",0,0,{"$f":"SUM($U$13:U20)","v":0},0,0,{"$error":"#N/A"}]
["",null,"",null,null,null,null,null,null,null,null,null,0,0,{"$f":"IF(W21=0,U21,X21)","v":0},0,null,9,"",0,0,{"$f":"SUM($U$13:U21)","v":0},0,0,{"$error":"#N/A"}]
["",null,"",null,null,null,null,null,null,null,null,null,0,0,{"$f":"IF(W22=0,U22,X22)","v":0},0,null,10,"",0,{"$f":"N22-T22","v":0},{"$f":"SUM($U$13:U22)","v":0},0,{"$f":"IF(W22=1,$I$9-V21,0)","v":0},{"$error":"#N/A"}]
["",null,"",null,null,null,null,null,null,null,null,null,0,0,0,0,null,11,"",0,0,{"$f":"SUM($U$13:U23)","v":0},0,0,{"$error":"#N/A"}]
["",null,"",null,null,null,null,null,null,null,null,null,0,0,0,0,null,12,"",0,0,{"$f":"SUM($U$13:U24)","v":0},0,0,{"$error":"#N/A"}]
["",null,"",null,null,null,null,null,null,null,null,null,0,0,0,0,null,13,"",0,0,{"$f":"SUM($U$13:U25)","v":0},0,0,{"$error":"#N/A"}]
["",null,"",null,null,null,null,null,null,null,null,null,0,0,0,0,null,14,"",0,0,{"$f":"SUM($U$13:U26)","v":0},0,0,{"$error":"#N/A"}]
["",null,"",null,null,null,null,null,null,null,null,null,0,0,0,0,null,15,"",0,0,{"$f":"SUM($U$13:U27)","v":0},0,0,{"$error":"#N/A"}]
["",null,"",null,null,null,null,null,null,null,null,null,0,0,0,0,null,16,"",0,0,{"$f":"SUM($U$13:U28)","v":0},0,0,{"$error":"#N/A"}]
["",null,"",null,null,null,null,null,null,null,null,null,0,0,0,0,null,17,"",0,0,{"$f":"SUM($U$13:U29)","v":0},0,0,{"$error":"#N/A"}]
["",null,"",null,null,null,null,null,null,null,null,null,0,0,0,0,null,18,"",0,0,{"$f":"SUM($U$13:U30)","v":0},0,0,{"$error":"#N/A"}]
["",null,"",null,null,null,null,null,null,null,null,null,0,0,0,0,null,19,"",0,0,{"$f":"SUM($U$13:U31)","v":0},0,0,{"$error":"#N/A"}]
["",null,"",null,null,null,null,null,null,null,null,null,0,0,0,0,null,20,"",0,0,{"$f":"SUM($U$13:U32)","v":0},0,0,{"$error":"#N/A"}]
["",null,"",null,null,null,null,null,null,null,null,null,0,0,0,0,null,21,"",0,0,{"$f":"SUM($U$13:U33)","v":0},0,0,{"$error":"#N/A"}]
["",null,"",null,null,null,null,null,null,null,null,null,0,0,0,0,null,22,"",0,0,{"$f":"SUM($U$13:U34)","v":0},0,0,{"$error":"#N/A"}]
["",null,"",null,null,null,null,null,null,null,null,null,0,0,0,0,null,23,"",0,0,{"$f":"SUM($U$13:U35)","v":0},0,0,{"$error":"#N/A"}]
["",null,"",null,null,null,null,null,null,null,null,null,0,0,0,0,null,24,"",0,0,{"$f":"SUM($U$13:U36)","v":0},0,0,{"$error":"#N/A"}]
["",null,"",null,null,null,null,null,null,null,null,null,0,0,0,0,null,25,"",0,0,{"$f":"SUM($U$13:U37)","v":0},0,0,{"$error":"#N/A"}]
["",null,"",null,null,null,null,null,null,null,null,null,0,0,0,0,null,26,"",0,0,{"$f":"SUM($U$13:U38)","v":0},0,0,{"$error":"#N/A"}]
["",null,"",null,null,null,null,null,null,null,null,null,0,0,0,0,null,27,"",0,0,{"$f":"SUM($U$13:U39)","v":0},0,0,{"$error":"#N/A"}]
["",null,"",null,null,null,null,null,null,null,null,null,0,0,0,0,null,28,"",0,0,{"$f":"SUM($U$13:U40)","v":0},0,0,{"$error":"#N/A"}]
["",null,"",null,null,null,null,null,null,null,null,null,0,0,0,0,null,29,"",0,0,{"$f":"SUM($U$13:U41)","v":0},0,0,{"$error":"#N/A"}]
["",null,"",null,null,null,null,null,null,null,null,null,0,0,0,0,null,30,"",0,0,{"$f":"SUM($U$13:U42)","v":0},0,0,{"$error":"#N/A"}]
["",null,"",null,null,null,null,null,null,null,null,null,0,0,0,0,null,31,"",0,0,{"$f":"SUM($U$13:U43)","v":0},0,0,{"$error":"#N/A"}]
["合計",null,null,null,null,null,null,null,null,null,null,null,{"$f":"SUM(M13:M43)","v":0},{"$f":"SUM(N13:N43)","v":0},{"$f":"SUM(O13:O43)","v":0},{"$f":"SUM(P13:P43)","v":0},null,null,null,null,null,null,null,null,{"$error":"#N/A"}]

{"sheet":"15","index":19,"n_rows":44,"n_cols":27,"rows_kept":44,"cut":false,"hidden":false,"merged":[[6,18,8,18],[43,0,43,11],[10,15,11,15],[10,16,11,16],[10,18,11,18],[6,0,6,3],[6,11,8,11],[6,12,8,16],[7,0,7,4],[7,5,7,7],[7,8,7,10],[8,0,8,4],[8,5,8,7],[8,8,8,10],[10,21,11,21],[10,22,11,22],[10,23,11,23],[10,0,10,2],[10,3,10,6],[10,7,10,11],[10,12,11,12],[10,13,11,13],[10,14,11,14],[3,1,3,4],[3,5,3,13],[4,0,5,3],[4,4,5,6],[4,7,5,8],[4,9,5,12],[4,13,4,16],[5,13,5,16]]}
[null,"№",15]
[]
[]
[null,{"$f":"EOMONTH(B13,0)","v":"1900-01-31"},null,null,null,"鎌ケ谷市日中一時支援サービス提供実績記録票"]
["登録番号",null,null,null,{"$f":"VLOOKUP($C$1,利用者情報!A:U,COLUMN(利用者情報!B3),FALSE)","v":0},null,null,"支給決定障がい者等氏名\n（児童氏名）",null,{"$f":"VLOOKUP($C$1,利用者情報!A:U,COLUMN(利用者情報!C3),FALSE)","v":0},null,null,null,"事業所登録番号"]
[null,null,null,null,null,null,null,null,null,null,null,null,null,{"$f":"請求事業者!B3","v":0},null,null,null,null,"コメント",null,null,null,null,null,null,{"$f":"VLOOKUP(H7,'データ '!F:G,2,FALSE)","v":{"$error":"#N/A"}}]
["サービス内容及び\n契約支給量",null,null,null,{"$f":"VLOOKUP($C$1,利用者情報!A:U,COLUMN(利用者情報!D3),FALSE)","v":0},"日/月","区分",{"$f":"VLOOKUP($C$1,利用者情報!A:U,COLUMN(利用者情報!E4),FALSE)","v":0},null,null,null,"事業所及びその事務所",{"$f":"請求事業者!B7","v":0},null,null,null,null,null,{"$f":"利用者情報!J4","v":""},null,null,null,null,null,null,"04:00:00","４時間未満/"]
["利用者負担の有無",null,null,null,null,"利用者の負担割合",null,null,"利用者負担上限額",null,null,null,null,null,null,null,null,null,null,null,null,null,null,null,"地区区分","08:00:00","４～８時間未満/"]
[{"$f":"VLOOKUP($C$1,利用者情報!A:U,COLUMN(利用者情報!F3),FALSE)","v":0},null,null,null,null,{"$f":"IF(A9=\"有\",\"1割\",\"0割\")","v":"0割"},null,null,{"$f":"VLOOKUP($C$1,利用者情報!A:U,COLUMN(利用者情報!G3),FALSE)","v":0},null,null,null,null,null,null,null,null,null,null,null,null,null,null,null,{"$f":"請求事業者!C9","v":{"$error":"#N/A"}},null,"８時間以上/"]
[null,null,null,null,null,null,null,null,null,null,null,null,null,null,null,null,null,null,null,null,null,null,null,null,"便宜上区分"]
["日付",null,null,"サービス計画",null,null,null,"サービス提供実績",null,null,null,null,"算定\n時間","算定額","利用者\n負担額","請求額","利用者\n確認印",null,"コメント",null,null,"利用者負担額\n累計","上限到達フラグ","上限達成時の利用者負担額",{"$f":"VLOOKUP(H7,'データ '!F:G,2,FALSE)","v":{"$error":"#N/A"}}]
["月","日","曜日","計画\n日数","食事\n提供","入浴","送迎","開始時間","終了\n時間","食事\n提供","入浴","送迎",null,null,null,null,null,null,null,"請求額","利用者\n負担額",null,null,null,"（9割）"]
[{"$f":"IF(B13=\"\",\"\",TEXT(B13,\"m\"))","v":""},null,{"$f":"IF(B13=\"\",\"\",B13)","v":""},null,null,null,null,null,null,null,null,null,{"$f":"I13-H13","v":0},{"$f":"IF($I13=0,0,INDEX(単価,MATCH(Y13,時間,0),MATCH($Y$9,地域区分,0)))","v":0},{"$f":"IF(W13=0,U13,X13)","v":0},{"$f":"N13-O13","v":0},null,1,{"$f":"IF(A13=\"\",\"\",IF($A$13<>A13,\"月が異なります！\",IF(R13>$E$7,\"決定日数を超過しています！\",\"\")))","v":""},{"$f":"IF(AND($I13=0),0,IF($A$9=\"有\",INDEX(単価,MATCH(Y13,時間,0),MATCH($Y$9&$Y$12,地域区分,0)),INDEX(単価,MATCH(Y13,時間,0),MATCH($Y$9,地域区分,0))))","v":0},{"$f":"N13-T13","v":0},{"$f":"SUM($U$13:U13)","v":0},null,null,{"$f":"IF(M13>=$Z$8,$AA$9,IF(AND(M13<$Z$8,M13>=$Z$7),$AA$8,IF(M13<$Z$7,$AA$7)))&$Y$11","v":{"$error":"#N/A"}}]
[{"$f":"IF(B14=\"\",\"\",TEXT(B14,\"m\"))","v":""},null,{"$f":"IF(B14=\"\",\"\",B14)","v":""},null,null,null,null,null,null,null,null,null,{"$f":"I14-H14","v":0},0,{"$f":"IF(W14=0,U14,X14)","v":0},{"$f":"N14-O14","v":0},null,2,{"$f":"IF(A14=\"\",\"\",IF($A$13<>A14,\"月が異なります！\",IF(R14>$E$7,\"決定日数を超過しています！\",\"\")))","v":""},0,{"$f":"N14-T14","v":0},{"$f":"SUM($U$13:U14)","v":0},{"$f":"IF(AND(V13<$I$9,V14>$I$9),1,IF(V14>$I$9,2,0))","v":0},{"$f":"IF(W14=1,$I$9-V13,0)","v":0},{"$f":"IF(M14>=$Z$8,$AA$9,IF(AND(M14<$Z$8,M14>=$Z$7),$AA$8,IF(M14<$Z$7,$AA$7)))&$Y$11","v":{"$error":"#N/A"}}]
["",null,"",null,null,null,null,null,null,null,null,null,0,0,0,0,null,3,"",0,0,{"$f":"SUM($U$13:U15)","v":0},{"$f":"IF(AND(V14<$I$9,V15>$I$9),1,IF(V15>$I$9,2,0))","v":0},{"$f":"IF(W15=1,$I$9-V14,0)","v":0},{"$error":"#N/A"}]
["",null,"",null,null,null,null,null,null,null,null,null,0,0,0,0,null,4,"",0,0,{"$f":"SUM($U$13:U16)","v":0},0,0,{"$error":"#N/A"}]
["",null,"",null,null,null,null,null,null,null,null,null,0,0,0,0,null,5,"",0,0,{"$f":"SUM($U$13:U17)","v":0},0,0,{"$error":"#N/A"}]
["",null,"",null,null,null,null,null,null,null,null,null,0,0,0,0,null,6,"",0,0,{"$f":"SUM($U$13:U18)","v":0},0,0,{"$error":"#N/A"}]
["",null,"",null,null,null,null,null,null,null,null,null,0,0,0,0,null,7,"",0,0,{"$f":"SUM($U$13:U19)","v":0},0,0,{"$error":"#N/A"}]
["",null,"",null,null,null,null,null,null,null,null,null,0,0,0,0,null,8,"",0,0,{"$f":"SUM($U$13:U20)","v":0},0,0,{"$error":"#N/A"}]
["",null,"",null,null,null,null,null,null,null,null,null,0,0,{"$f":"IF(W21=0,U21,X21)","v":0},0,null,9,"",0,0,{"$f":"SUM($U$13:U21)","v":0},0,0,{"$error":"#N/A"}]
["",null,"",null,null,null,null,null,null,null,null,null,0,0,{"$f":"IF(W22=0,U22,X22)","v":0},0,null,10,"",0,{"$f":"N22-T22","v":0},{"$f":"SUM($U$13:U22)","v":0},0,{"$f":"IF(W22=1,$I$9-V21,0)","v":0},{"$error":"#N/A"}]
["",null,"",null,null,null,null,null,null,null,null,null,0,0,0,0,null,11,"",0,0,{"$f":"SUM($U$13:U23)","v":0},0,0,{"$error":"#N/A"}]
["",null,"",null,null,null,null,null,null,null,null,null,0,0,0,0,null,12,"",0,0,{"$f":"SUM($U$13:U24)","v":0},0,0,{"$error":"#N/A"}]
["",null,"",null,null,null,null,null,null,null,null,null,0,0,0,0,null,13,"",0,0,{"$f":"SUM($U$13:U25)","v":0},0,0,{"$error":"#N/A"}]
["",null,"",null,null,null,null,null,null,null,null,null,0,0,0,0,null,14,"",0,0,{"$f":"SUM($U$13:U26)","v":0},0,0,{"$error":"#N/A"}]
["",null,"",null,null,null,null,null,null,null,null,null,0,0,0,0,null,15,"",0,0,{"$f":"SUM($U$13:U27)","v":0},0,0,{"$error":"#N/A"}]
["",null,"",null,null,null,null,null,null,null,null,null,0,0,0,0,null,16,"",0,0,{"$f":"SUM($U$13:U28)","v":0},0,0,{"$error":"#N/A"}]
["",null,"",null,null,null,null,null,null,null,null,null,0,0,0,0,null,17,"",0,0,{"$f":"SUM($U$13:U29)","v":0},0,0,{"$error":"#N/A"}]
["",null,"",null,null,null,null,null,null,null,null,null,0,0,0,0,null,18,"",0,0,{"$f":"SUM($U$13:U30)","v":0},0,0,{"$error":"#N/A"}]
["",null,"",null,null,null,null,null,null,null,null,null,0,0,0,0,null,19,"",0,0,{"$f":"SUM($U$13:U31)","v":0},0,0,{"$error":"#N/A"}]
["",null,"",null,null,null,null,null,null,null,null,null,0,0,0,0,null,20,"",0,0,{"$f":"SUM($U$13:U32)","v":0},0,0,{"$error":"#N/A"}]
["",null,"",null,null,null,null,null,null,null,null,null,0,0,0,0,null,21,"",0,0,{"$f":"SUM($U$13:U33)","v":0},0,0,{"$error":"#N/A"}]
["",null,"",null,null,null,null,null,null,null,null,null,0,0,0,0,null,22,"",0,0,{"$f":"SUM($U$13:U34)","v":0},0,0,{"$error":"#N/A"}]
["",null,"",null,null,null,null,null,null,null,null,null,0,0,0,0,null,23,"",0,0,{"$f":"SUM($U$13:U35)","v":0},0,0,{"$error":"#N/A"}]
["",null,"",null,null,null,null,null,null,null,null,null,0,0,0,0,null,24,"",0,0,{"$f":"SUM($U$13:U36)","v":0},0,0,{"$error":"#N/A"}]
["",null,"",null,null,null,null,null,null,null,null,null,0,0,0,0,null,25,"",0,0,{"$f":"SUM($U$13:U37)","v":0},0,0,{"$error":"#N/A"}]
["",null,"",null,null,null,null,null,null,null,null,null,0,0,0,0,null,26,"",0,0,{"$f":"SUM($U$13:U38)","v":0},0,0,{"$error":"#N/A"}]
["",null,"",null,null,null,null,null,null,null,null,null,0,0,0,0,null,27,"",0,0,{"$f":"SUM($U$13:U39)","v":0},0,0,{"$error":"#N/A"}]
["",null,"",null,null,null,null,null,null,null,null,null,0,0,0,0,null,28,"",0,0,{"$f":"SUM($U$13:U40)","v":0},0,0,{"$error":"#N/A"}]
["",null,"",null,null,null,null,null,null,null,null,null,0,0,0,0,null,29,"",0,0,{"$f":"SUM($U$13:U41)","v":0},0,0,{"$error":"#N/A"}]
["",null,"",null,null,null,null,null,null,null,null,null,0,0,0,0,null,30,"",0,0,{"$f":"SUM($U$13:U42)","v":0},0,0,{"$error":"#N/A"}]
["",null,"",null,null,null,null,null,null,null,null,null,0,0,0,0,null,31,"",0,0,{"$f":"SUM($U$13:U43)","v":0},0,0,{"$error":"#N/A"}]
["合計",null,null,null,null,null,null,null,null,null,null,null,{"$f":"SUM(M13:M43)","v":0},{"$f":"SUM(N13:N43)","v":0},{"$f":"SUM(O13:O43)","v":0},{"$f":"SUM(P13:P43)","v":0},null,null,null,null,null,null,null,null,{"$error":"#N/A"}]

{"sheet":"16","index":20,"n_rows":44,"n_cols":27,"rows_kept":44,"cut":false,"hidden":false,"merged":[[6,18,8,18],[43,0,43,11],[10,15,11,15],[10,16,11,16],[10,18,11,18],[6,0,6,3],[6,11,8,11],[6,12,8,16],[7,0,7,4],[7,5,7,7],[7,8,7,10],[8,0,8,4],[8,5,8,7],[8,8,8,10],[10,21,11,21],[10,22,11,22],[10,23,11,23],[10,0,10,2],[10,3,10,6],[10,7,10,11],[10,12,11,12],[10,13,11,13],[10,14,11,14],[3,1,3,4],[3,5,3,13],[4,0,5,3],[4,4,5,6],[4,7,5,8],[4,9,5,12],[4,13,4,16],[5,13,5,16]]}
[null,"№",16]
[]
[]
[null,{"$f":"EOMONTH(B13,0)","v":"1900-01-31"},null,null,null,"鎌ケ谷市日中一時支援サービス提供実績記録票"]
["登録番号",null,null,null,{"$f":"VLOOKUP($C$1,利用者情報!A:U,COLUMN(利用者情報!B3),FALSE)","v":0},null,null,"支給決定障がい者等氏名\n（児童氏名）",null,{"$f":"VLOOKUP($C$1,利用者情報!A:U,COLUMN(利用者情報!C3),FALSE)","v":0},null,null,null,"事業所登録番号"]
[null,null,null,null,null,null,null,null,null,null,null,null,null,{"$f":"請求事業者!B3","v":0},null,null,null,null,"コメント",null,null,null,null,null,null,{"$f":"VLOOKUP(H7,'データ '!F:G,2,FALSE)","v":{"$error":"#N/A"}}]
["サービス内容及び\n契約支給量",null,null,null,{"$f":"VLOOKUP($C$1,利用者情報!A:U,COLUMN(利用者情報!D3),FALSE)","v":0},"日/月","区分",{"$f":"VLOOKUP($C$1,利用者情報!A:U,COLUMN(利用者情報!E4),FALSE)","v":0},null,null,null,"事業所及びその事務所",{"$f":"請求事業者!B7","v":0},null,null,null,null,null,{"$f":"利用者情報!J4","v":""},null,null,null,null,null,null,"04:00:00","４時間未満/"]
["利用者負担の有無",null,null,null,null,"利用者の負担割合",null,null,"利用者負担上限額",null,null,null,null,null,null,null,null,null,null,null,null,null,null,null,"地区区分","08:00:00","４～８時間未満/"]
[{"$f":"VLOOKUP($C$1,利用者情報!A:U,COLUMN(利用者情報!F3),FALSE)","v":0},null,null,null,null,{"$f":"IF(A9=\"有\",\"1割\",\"0割\")","v":"0割"},null,null,{"$f":"VLOOKUP($C$1,利用者情報!A:U,COLUMN(利用者情報!G3),FALSE)","v":0},null,null,null,null,null,null,null,null,null,null,null,null,null,null,null,{"$f":"請求事業者!C9","v":{"$error":"#N/A"}},null,"８時間以上/"]
[null,null,null,null,null,null,null,null,null,null,null,null,null,null,null,null,null,null,null,null,null,null,null,null,"便宜上区分"]
["日付",null,null,"サービス計画",null,null,null,"サービス提供実績",null,null,null,null,"算定\n時間","算定額","利用者\n負担額","請求額","利用者\n確認印",null,"コメント",null,null,"利用者負担額\n累計","上限到達フラグ","上限達成時の利用者負担額",{"$f":"VLOOKUP(H7,'データ '!F:G,2,FALSE)","v":{"$error":"#N/A"}}]
["月","日","曜日","計画\n日数","食事\n提供","入浴","送迎","開始時間","終了\n時間","食事\n提供","入浴","送迎",null,null,null,null,null,null,null,"請求額","利用者\n負担額",null,null,null,"（9割）"]
[{"$f":"IF(B13=\"\",\"\",TEXT(B13,\"m\"))","v":""},null,{"$f":"IF(B13=\"\",\"\",B13)","v":""},null,null,null,null,null,null,null,null,null,{"$f":"I13-H13","v":0},{"$f":"IF($I13=0,0,INDEX(単価,MATCH(Y13,時間,0),MATCH($Y$9,地域区分,0)))","v":0},{"$f":"IF(W13=0,U13,X13)","v":0},{"$f":"N13-O13","v":0},null,1,{"$f":"IF(A13=\"\",\"\",IF($A$13<>A13,\"月が異なります！\",IF(R13>$E$7,\"決定日数を超過しています！\",\"\")))","v":""},{"$f":"IF(AND($I13=0),0,IF($A$9=\"有\",INDEX(単価,MATCH(Y13,時間,0),MATCH($Y$9&$Y$12,地域区分,0)),INDEX(単価,MATCH(Y13,時間,0),MATCH($Y$9,地域区分,0))))","v":0},{"$f":"N13-T13","v":0},{"$f":"SUM($U$13:U13)","v":0},null,null,{"$f":"IF(M13>=$Z$8,$AA$9,IF(AND(M13<$Z$8,M13>=$Z$7),$AA$8,IF(M13<$Z$7,$AA$7)))&$Y$11","v":{"$error":"#N/A"}}]
[{"$f":"IF(B14=\"\",\"\",TEXT(B14,\"m\"))","v":""},null,{"$f":"IF(B14=\"\",\"\",B14)","v":""},null,null,null,null,null,null,null,null,null,{"$f":"I14-H14","v":0},0,{"$f":"IF(W14=0,U14,X14)","v":0},{"$f":"N14-O14","v":0},null,2,{"$f":"IF(A14=\"\",\"\",IF($A$13<>A14,\"月が異なります！\",IF(R14>$E$7,\"決定日数を超過しています！\",\"\")))","v":""},0,{"$f":"N14-T14","v":0},{"$f":"SUM($U$13:U14)","v":0},{"$f":"IF(AND(V13<$I$9,V14>$I$9),1,IF(V14>$I$9,2,0))","v":0},{"$f":"IF(W14=1,$I$9-V13,0)","v":0},{"$f":"IF(M14>=$Z$8,$AA$9,IF(AND(M14<$Z$8,M14>=$Z$7),$AA$8,IF(M14<$Z$7,$AA$7)))&$Y$11","v":{"$error":"#N/A"}}]
["",null,"",null,null,null,null,null,null,null,null,null,0,0,0,0,null,3,"",0,0,{"$f":"SUM($U$13:U15)","v":0},{"$f":"IF(AND(V14<$I$9,V15>$I$9),1,IF(V15>$I$9,2,0))","v":0},{"$f":"IF(W15=1,$I$9-V14,0)","v":0},{"$error":"#N/A"}]
["",null,"",null,null,null,null,null,null,null,null,null,0,0,0,0,null,4,"",0,0,{"$f":"SUM($U$13:U16)","v":0},0,0,{"$error":"#N/A"}]
["",null,"",null,null,null,null,null,null,null,null,null,0,0,0,0,null,5,"",0,0,{"$f":"SUM($U$13:U17)","v":0},0,0,{"$error":"#N/A"}]
["",null,"",null,null,null,null,null,null,null,null,null,0,0,0,0,null,6,"",0,0,{"$f":"SUM($U$13:U18)","v":0},0,0,{"$error":"#N/A"}]
["",null,"",null,null,null,null,null,null,null,null,null,0,0,0,0,null,7,"",0,0,{"$f":"SUM($U$13:U19)","v":0},0,0,{"$error":"#N/A"}]
["",null,"",null,null,null,null,null,null,null,null,null,0,0,0,0,null,8,"",0,0,{"$f":"SUM($U$13:U20)","v":0},0,0,{"$error":"#N/A"}]
["",null,"",null,null,null,null,null,null,null,null,null,0,0,{"$f":"IF(W21=0,U21,X21)","v":0},0,null,9,"",0,0,{"$f":"SUM($U$13:U21)","v":0},0,0,{"$error":"#N/A"}]
["",null,"",null,null,null,null,null,null,null,null,null,0,0,{"$f":"IF(W22=0,U22,X22)","v":0},0,null,10,"",0,{"$f":"N22-T22","v":0},{"$f":"SUM($U$13:U22)","v":0},0,{"$f":"IF(W22=1,$I$9-V21,0)","v":0},{"$error":"#N/A"}]
["",null,"",null,null,null,null,null,null,null,null,null,0,0,0,0,null,11,"",0,0,{"$f":"SUM($U$13:U23)","v":0},0,0,{"$error":"#N/A"}]
["",null,"",null,null,null,null,null,null,null,null,null,0,0,0,0,null,12,"",0,0,{"$f":"SUM($U$13:U24)","v":0},0,0,{"$error":"#N/A"}]
["",null,"",null,null,null,null,null,null,null,null,null,0,0,0,0,null,13,"",0,0,{"$f":"SUM($U$13:U25)","v":0},0,0,{"$error":"#N/A"}]
["",null,"",null,null,null,null,null,null,null,null,null,0,0,0,0,null,14,"",0,0,{"$f":"SUM($U$13:U26)","v":0},0,0,{"$error":"#N/A"}]
["",null,"",null,null,null,null,null,null,null,null,null,0,0,0,0,null,15,"",0,0,{"$f":"SUM($U$13:U27)","v":0},0,0,{"$error":"#N/A"}]
["",null,"",null,null,null,null,null,null,null,null,null,0,0,0,0,null,16,"",0,0,{"$f":"SUM($U$13:U28)","v":0},0,0,{"$error":"#N/A"}]
["",null,"",null,null,null,null,null,null,null,null,null,0,0,0,0,null,17,"",0,0,{"$f":"SUM($U$13:U29)","v":0},0,0,{"$error":"#N/A"}]
["",null,"",null,null,null,null,null,null,null,null,null,0,0,0,0,null,18,"",0,0,{"$f":"SUM($U$13:U30)","v":0},0,0,{"$error":"#N/A"}]
["",null,"",null,null,null,null,null,null,null,null,null,0,0,0,0,null,19,"",0,0,{"$f":"SUM($U$13:U31)","v":0},0,0,{"$error":"#N/A"}]
["",null,"",null,null,null,null,null,null,null,null,null,0,0,0,0,null,20,"",0,0,{"$f":"SUM($U$13:U32)","v":0},0,0,{"$error":"#N/A"}]
["",null,"",null,null,null,null,null,null,null,null,null,0,0,0,0,null,21,"",0,0,{"$f":"SUM($U$13:U33)","v":0},0,0,{"$error":"#N/A"}]
["",null,"",null,null,null,null,null,null,null,null,null,0,0,0,0,null,22,"",0,0,{"$f":"SUM($U$13:U34)","v":0},0,0,{"$error":"#N/A"}]
["",null,"",null,null,null,null,null,null,null,null,null,0,0,0,0,null,23,"",0,0,{"$f":"SUM($U$13:U35)","v":0},0,0,{"$error":"#N/A"}]
["",null,"",null,null,null,null,null,null,null,null,null,0,0,0,0,null,24,"",0,0,{"$f":"SUM($U$13:U36)","v":0},0,0,{"$error":"#N/A"}]
["",null,"",null,null,null,null,null,null,null,null,null,0,0,0,0,null,25,"",0,0,{"$f":"SUM($U$13:U37)","v":0},0,0,{"$error":"#N/A"}]
["",null,"",null,null,null,null,null,null,null,null,null,0,0,0,0,null,26,"",0,0,{"$f":"SUM($U$13:U38)","v":0},0,0,{"$error":"#N/A"}]
["",null,"",null,null,null,null,null,null,null,null,null,0,0,0,0,null,27,"",0,0,{"$f":"SUM($U$13:U39)","v":0},0,0,{"$error":"#N/A"}]
["",null,"",null,null,null,null,null,null,null,null,null,0,0,0,0,null,28,"",0,0,{"$f":"SUM($U$13:U40)","v":0},0,0,{"$error":"#N/A"}]
["",null,"",null,null,null,null,null,null,null,null,null,0,0,0,0,null,29,"",0,0,{"$f":"SUM($U$13:U41)","v":0},0,0,{"$error":"#N/A"}]
["",null,"",null,null,null,null,null,null,null,null,null,0,0,0,0,null,30,"",0,0,{"$f":"SUM($U$13:U42)","v":0},0,0,{"$error":"#N/A"}]
["",null,"",null,null,null,null,null,null,null,null,null,0,0,0,0,null,31,"",0,0,{"$f":"SUM($U$13:U43)","v":0},0,0,{"$error":"#N/A"}]
["合計",null,null,null,null,null,null,null,null,null,null,null,{"$f":"SUM(M13:M43)","v":0},{"$f":"SUM(N13:N43)","v":0},{"$f":"SUM(O13:O43)","v":0},{"$f":"SUM(P13:P43)","v":0},null,null,null,null,null,null,null,null,{"$error":"#N/A"}]

{"sheet":"17","index":21,"n_rows":44,"n_cols":27,"rows_kept":44,"cut":false,"hidden":false,"merged":[[6,18,8,18],[43,0,43,11],[10,15,11,15],[10,16,11,16],[10,18,11,18],[6,0,6,3],[6,11,8,11],[6,12,8,16],[7,0,7,4],[7,5,7,7],[7,8,7,10],[8,0,8,4],[8,5,8,7],[8,8,8,10],[10,21,11,21],[10,22,11,22],[10,23,11,23],[10,0,10,2],[10,3,10,6],[10,7,10,11],[10,12,11,12],[10,13,11,13],[10,14,11,14],[3,1,3,4],[3,5,3,13],[4,0,5,3],[4,4,5,6],[4,7,5,8],[4,9,5,12],[4,13,4,16],[5,13,5,16]]}
[null,"№",17]
[]
[]
[null,{"$f":"EOMONTH(B13,0)","v":"1900-01-31"},null,null,null,"鎌ケ谷市日中一時支援サービス提供実績記録票"]
["登録番号",null,null,null,{"$f":"VLOOKUP($C$1,利用者情報!A:U,COLUMN(利用者情報!B3),FALSE)","v":0},null,null,"支給決定障がい者等氏名\n（児童氏名）",null,{"$f":"VLOOKUP($C$1,利用者情報!A:U,COLUMN(利用者情報!C3),FALSE)","v":0},null,null,null,"事業所登録番号"]
[null,null,null,null,null,null,null,null,null,null,null,null,null,{"$f":"請求事業者!B3","v":0},null,null,null,null,"コメント",null,null,null,null,null,null,{"$f":"VLOOKUP(H7,'データ '!F:G,2,FALSE)","v":{"$error":"#N/A"}}]
["サービス内容及び\n契約支給量",null,null,null,{"$f":"VLOOKUP($C$1,利用者情報!A:U,COLUMN(利用者情報!D3),FALSE)","v":0},"日/月","区分",{"$f":"VLOOKUP($C$1,利用者情報!A:U,COLUMN(利用者情報!E4),FALSE)","v":0},null,null,null,"事業所及びその事務所",{"$f":"請求事業者!B7","v":0},null,null,null,null,null,{"$f":"利用者情報!J4","v":""},null,null,null,null,null,null,"04:00:00","４時間未満/"]
["利用者負担の有無",null,null,null,null,"利用者の負担割合",null,null,"利用者負担上限額",null,null,null,null,null,null,null,null,null,null,null,null,null,null,null,"地区区分","08:00:00","４～８時間未満/"]
[{"$f":"VLOOKUP($C$1,利用者情報!A:U,COLUMN(利用者情報!F3),FALSE)","v":0},null,null,null,null,{"$f":"IF(A9=\"有\",\"1割\",\"0割\")","v":"0割"},null,null,{"$f":"VLOOKUP($C$1,利用者情報!A:U,COLUMN(利用者情報!G3),FALSE)","v":0},null,null,null,null,null,null,null,null,null,null,null,null,null,null,null,{"$f":"請求事業者!C9","v":{"$error":"#N/A"}},null,"８時間以上/"]
[null,null,null,null,null,null,null,null,null,null,null,null,null,null,null,null,null,null,null,null,null,null,null,null,"便宜上区分"]
["日付",null,null,"サービス計画",null,null,null,"サービス提供実績",null,null,null,null,"算定\n時間","算定額","利用者\n負担額","請求額","利用者\n確認印",null,"コメント",null,null,"利用者負担額\n累計","上限到達フラグ","上限達成時の利用者負担額",{"$f":"VLOOKUP(H7,'データ '!F:G,2,FALSE)","v":{"$error":"#N/A"}}]
["月","日","曜日","計画\n日数","食事\n提供","入浴","送迎","開始時間","終了\n時間","食事\n提供","入浴","送迎",null,null,null,null,null,null,null,"請求額","利用者\n負担額",null,null,null,"（9割）"]
[{"$f":"IF(B13=\"\",\"\",TEXT(B13,\"m\"))","v":""},null,{"$f":"IF(B13=\"\",\"\",B13)","v":""},null,null,null,null,null,null,null,null,null,{"$f":"I13-H13","v":0},{"$f":"IF($I13=0,0,INDEX(単価,MATCH(Y13,時間,0),MATCH($Y$9,地域区分,0)))","v":0},{"$f":"IF(W13=0,U13,X13)","v":0},{"$f":"N13-O13","v":0},null,1,{"$f":"IF(A13=\"\",\"\",IF($A$13<>A13,\"月が異なります！\",IF(R13>$E$7,\"決定日数を超過しています！\",\"\")))","v":""},{"$f":"IF(AND($I13=0),0,IF($A$9=\"有\",INDEX(単価,MATCH(Y13,時間,0),MATCH($Y$9&$Y$12,地域区分,0)),INDEX(単価,MATCH(Y13,時間,0),MATCH($Y$9,地域区分,0))))","v":0},{"$f":"N13-T13","v":0},{"$f":"SUM($U$13:U13)","v":0},null,null,{"$f":"IF(M13>=$Z$8,$AA$9,IF(AND(M13<$Z$8,M13>=$Z$7),$AA$8,IF(M13<$Z$7,$AA$7)))&$Y$11","v":{"$error":"#N/A"}}]
[{"$f":"IF(B14=\"\",\"\",TEXT(B14,\"m\"))","v":""},null,{"$f":"IF(B14=\"\",\"\",B14)","v":""},null,null,null,null,null,null,null,null,null,{"$f":"I14-H14","v":0},0,{"$f":"IF(W14=0,U14,X14)","v":0},{"$f":"N14-O14","v":0},null,2,{"$f":"IF(A14=\"\",\"\",IF($A$13<>A14,\"月が異なります！\",IF(R14>$E$7,\"決定日数を超過しています！\",\"\")))","v":""},0,{"$f":"N14-T14","v":0},{"$f":"SUM($U$13:U14)","v":0},{"$f":"IF(AND(V13<$I$9,V14>$I$9),1,IF(V14>$I$9,2,0))","v":0},{"$f":"IF(W14=1,$I$9-V13,0)","v":0},{"$f":"IF(M14>=$Z$8,$AA$9,IF(AND(M14<$Z$8,M14>=$Z$7),$AA$8,IF(M14<$Z$7,$AA$7)))&$Y$11","v":{"$error":"#N/A"}}]
["",null,"",null,null,null,null,null,null,null,null,null,0,0,0,0,null,3,"",0,0,{"$f":"SUM($U$13:U15)","v":0},{"$f":"IF(AND(V14<$I$9,V15>$I$9),1,IF(V15>$I$9,2,0))","v":0},{"$f":"IF(W15=1,$I$9-V14,0)","v":0},{"$error":"#N/A"}]
["",null,"",null,null,null,null,null,null,null,null,null,0,0,0,0,null,4,"",0,0,{"$f":"SUM($U$13:U16)","v":0},0,0,{"$error":"#N/A"}]
["",null,"",null,null,null,null,null,null,null,null,null,0,0,0,0,null,5,"",0,0,{"$f":"SUM($U$13:U17)","v":0},0,0,{"$error":"#N/A"}]
["",null,"",null,null,null,null,null,null,null,null,null,0,0,0,0,null,6,"",0,0,{"$f":"SUM($U$13:U18)","v":0},0,0,{"$error":"#N/A"}]
["",null,"",null,null,null,null,null,null,null,null,null,0,0,0,0,null,7,"",0,0,{"$f":"SUM($U$13:U19)","v":0},0,0,{"$error":"#N/A"}]
["",null,"",null,null,null,null,null,null,null,null,null,0,0,0,0,null,8,"",0,0,{"$f":"SUM($U$13:U20)","v":0},0,0,{"$error":"#N/A"}]
["",null,"",null,null,null,null,null,null,null,null,null,0,0,{"$f":"IF(W21=0,U21,X21)","v":0},0,null,9,"",0,0,{"$f":"SUM($U$13:U21)","v":0},0,0,{"$error":"#N/A"}]
["",null,"",null,null,null,null,null,null,null,null,null,0,0,{"$f":"IF(W22=0,U22,X22)","v":0},0,null,10,"",0,{"$f":"N22-T22","v":0},{"$f":"SUM($U$13:U22)","v":0},0,{"$f":"IF(W22=1,$I$9-V21,0)","v":0},{"$error":"#N/A"}]
["",null,"",null,null,null,null,null,null,null,null,null,0,0,0,0,null,11,"",0,0,{"$f":"SUM($U$13:U23)","v":0},0,0,{"$error":"#N/A"}]
["",null,"",null,null,null,null,null,null,null,null,null,0,0,0,0,null,12,"",0,0,{"$f":"SUM($U$13:U24)","v":0},0,0,{"$error":"#N/A"}]
["",null,"",null,null,null,null,null,null,null,null,null,0,0,0,0,null,13,"",0,0,{"$f":"SUM($U$13:U25)","v":0},0,0,{"$error":"#N/A"}]
["",null,"",null,null,null,null,null,null,null,null,null,0,0,0,0,null,14,"",0,0,{"$f":"SUM($U$13:U26)","v":0},0,0,{"$error":"#N/A"}]
["",null,"",null,null,null,null,null,null,null,null,null,0,0,0,0,null,15,"",0,0,{"$f":"SUM($U$13:U27)","v":0},0,0,{"$error":"#N/A"}]
["",null,"",null,null,null,null,null,null,null,null,null,0,0,0,0,null,16,"",0,0,{"$f":"SUM($U$13:U28)","v":0},0,0,{"$error":"#N/A"}]
["",null,"",null,null,null,null,null,null,null,null,null,0,0,0,0,null,17,"",0,0,{"$f":"SUM($U$13:U29)","v":0},0,0,{"$error":"#N/A"}]
["",null,"",null,null,null,null,null,null,null,null,null,0,0,0,0,null,18,"",0,0,{"$f":"SUM($U$13:U30)","v":0},0,0,{"$error":"#N/A"}]
["",null,"",null,null,null,null,null,null,null,null,null,0,0,0,0,null,19,"",0,0,{"$f":"SUM($U$13:U31)","v":0},0,0,{"$error":"#N/A"}]
["",null,"",null,null,null,null,null,null,null,null,null,0,0,0,0,null,20,"",0,0,{"$f":"SUM($U$13:U32)","v":0},0,0,{"$error":"#N/A"}]
["",null,"",null,null,null,null,null,null,null,null,null,0,0,0,0,null,21,"",0,0,{"$f":"SUM($U$13:U33)","v":0},0,0,{"$error":"#N/A"}]
["",null,"",null,null,null,null,null,null,null,null,null,0,0,0,0,null,22,"",0,0,{"$f":"SUM($U$13:U34)","v":0},0,0,{"$error":"#N/A"}]
["",null,"",null,null,null,null,null,null,null,null,null,0,0,0,0,null,23,"",0,0,{"$f":"SUM($U$13:U35)","v":0},0,0,{"$error":"#N/A"}]
["",null,"",null,null,null,null,null,null,null,null,null,0,0,0,0,null,24,"",0,0,{"$f":"SUM($U$13:U36)","v":0},0,0,{"$error":"#N/A"}]
["",null,"",null,null,null,null,null,null,null,null,null,0,0,0,0,null,25,"",0,0,{"$f":"SUM($U$13:U37)","v":0},0,0,{"$error":"#N/A"}]
["",null,"",null,null,null,null,null,null,null,null,null,0,0,0,0,null,26,"",0,0,{"$f":"SUM($U$13:U38)","v":0},0,0,{"$error":"#N/A"}]
["",null,"",null,null,null,null,null,null,null,null,null,0,0,0,0,null,27,"",0,0,{"$f":"SUM($U$13:U39)","v":0},0,0,{"$error":"#N/A"}]
["",null,"",null,null,null,null,null,null,null,null,null,0,0,0,0,null,28,"",0,0,{"$f":"SUM($U$13:U40)","v":0},0,0,{"$error":"#N/A"}]
["",null,"",null,null,null,null,null,null,null,null,null,0,0,0,0,null,29,"",0,0,{"$f":"SUM($U$13:U41)","v":0},0,0,{"$error":"#N/A"}]
["",null,"",null,null,null,null,null,null,null,null,null,0,0,0,0,null,30,"",0,0,{"$f":"SUM($U$13:U42)","v":0},0,0,{"$error":"#N/A"}]
["",null,"",null,null,null,null,null,null,null,null,null,0,0,0,0,null,31,"",0,0,{"$f":"SUM($U$13:U43)","v":0},0,0,{"$error":"#N/A"}]
["合計",null,null,null,null,null,null,null,null,null,null,null,{"$f":"SUM(M13:M43)","v":0},{"$f":"SUM(N13:N43)","v":0},{"$f":"SUM(O13:O43)","v":0},{"$f":"SUM(P13:P43)","v":0},null,null,null,null,null,null,null,null,{"$error":"#N/A"}]

{"sheet":"18","index":22,"n_rows":44,"n_cols":27,"rows_kept":44,"cut":false,"hidden":false,"merged":[[6,18,8,18],[43,0,43,11],[10,15,11,15],[10,16,11,16],[10,18,11,18],[6,0,6,3],[6,11,8,11],[6,12,8,16],[7,0,7,4],[7,5,7,7],[7,8,7,10],[8,0,8,4],[8,5,8,7],[8,8,8,10],[10,21,11,21],[10,22,11,22],[10,23,11,23],[10,0,10,2],[10,3,10,6],[10,7,10,11],[10,12,11,12],[10,13,11,13],[10,14,11,14],[3,1,3,4],[3,5,3,13],[4,0,5,3],[4,4,5,6],[4,7,5,8],[4,9,5,12],[4,13,4,16],[5,13,5,16]]}
[null,"№",18]
[]
[]
[null,{"$f":"EOMONTH(B13,0)","v":"1900-01-31"},null,null,null,"鎌ケ谷市日中一時支援サービス提供実績記録票"]
["登録番号",null,null,null,{"$f":"VLOOKUP($C$1,利用者情報!A:U,COLUMN(利用者情報!B3),FALSE)","v":0},null,null,"支給決定障がい者等氏名\n（児童氏名）",null,{"$f":"VLOOKUP($C$1,利用者情報!A:U,COLUMN(利用者情報!C3),FALSE)","v":0},null,null,null,"事業所登録番号"]
[null,null,null,null,null,null,null,null,null,null,null,null,null,{"$f":"請求事業者!B3","v":0},null,null,null,null,"コメント",null,null,null,null,null,null,{"$f":"VLOOKUP(H7,'データ '!F:G,2,FALSE)","v":{"$error":"#N/A"}}]
["サービス内容及び\n契約支給量",null,null,null,{"$f":"VLOOKUP($C$1,利用者情報!A:U,COLUMN(利用者情報!D3),FALSE)","v":0},"日/月","区分",{"$f":"VLOOKUP($C$1,利用者情報!A:U,COLUMN(利用者情報!E4),FALSE)","v":0},null,null,null,"事業所及びその事務所",{"$f":"請求事業者!B7","v":0},null,null,null,null,null,{"$f":"利用者情報!J4","v":""},null,null,null,null,null,null,"04:00:00","４時間未満/"]
["利用者負担の有無",null,null,null,null,"利用者の負担割合",null,null,"利用者負担上限額",null,null,null,null,null,null,null,null,null,null,null,null,null,null,null,"地区区分","08:00:00","４～８時間未満/"]
[{"$f":"VLOOKUP($C$1,利用者情報!A:U,COLUMN(利用者情報!F3),FALSE)","v":0},null,null,null,null,{"$f":"IF(A9=\"有\",\"1割\",\"0割\")","v":"0割"},null,null,{"$f":"VLOOKUP($C$1,利用者情報!A:U,COLUMN(利用者情報!G3),FALSE)","v":0},null,null,null,null,null,null,null,null,null,null,null,null,null,null,null,{"$f":"請求事業者!C9","v":{"$error":"#N/A"}},null,"８時間以上/"]
[null,null,null,null,null,null,null,null,null,null,null,null,null,null,null,null,null,null,null,null,null,null,null,null,"便宜上区分"]
["日付",null,null,"サービス計画",null,null,null,"サービス提供実績",null,null,null,null,"算定\n時間","算定額","利用者\n負担額","請求額","利用者\n確認印",null,"コメント",null,null,"利用者負担額\n累計","上限到達フラグ","上限達成時の利用者負担額",{"$f":"VLOOKUP(H7,'データ '!F:G,2,FALSE)","v":{"$error":"#N/A"}}]
["月","日","曜日","計画\n日数","食事\n提供","入浴","送迎","開始時間","終了\n時間","食事\n提供","入浴","送迎",null,null,null,null,null,null,null,"請求額","利用者\n負担額",null,null,null,"（9割）"]
[{"$f":"IF(B13=\"\",\"\",TEXT(B13,\"m\"))","v":""},null,{"$f":"IF(B13=\"\",\"\",B13)","v":""},null,null,null,null,null,null,null,null,null,{"$f":"I13-H13","v":0},{"$f":"IF($I13=0,0,INDEX(単価,MATCH(Y13,時間,0),MATCH($Y$9,地域区分,0)))","v":0},{"$f":"IF(W13=0,U13,X13)","v":0},{"$f":"N13-O13","v":0},null,1,{"$f":"IF(A13=\"\",\"\",IF($A$13<>A13,\"月が異なります！\",IF(R13>$E$7,\"決定日数を超過しています！\",\"\")))","v":""},{"$f":"IF(AND($I13=0),0,IF($A$9=\"有\",INDEX(単価,MATCH(Y13,時間,0),MATCH($Y$9&$Y$12,地域区分,0)),INDEX(単価,MATCH(Y13,時間,0),MATCH($Y$9,地域区分,0))))","v":0},{"$f":"N13-T13","v":0},{"$f":"SUM($U$13:U13)","v":0},null,null,{"$f":"IF(M13>=$Z$8,$AA$9,IF(AND(M13<$Z$8,M13>=$Z$7),$AA$8,IF(M13<$Z$7,$AA$7)))&$Y$11","v":{"$error":"#N/A"}}]
[{"$f":"IF(B14=\"\",\"\",TEXT(B14,\"m\"))","v":""},null,{"$f":"IF(B14=\"\",\"\",B14)","v":""},null,null,null,null,null,null,null,null,null,{"$f":"I14-H14","v":0},0,{"$f":"IF(W14=0,U14,X14)","v":0},{"$f":"N14-O14","v":0},null,2,{"$f":"IF(A14=\"\",\"\",IF($A$13<>A14,\"月が異なります！\",IF(R14>$E$7,\"決定日数を超過しています！\",\"\")))","v":""},0,{"$f":"N14-T14","v":0},{"$f":"SUM($U$13:U14)","v":0},{"$f":"IF(AND(V13<$I$9,V14>$I$9),1,IF(V14>$I$9,2,0))","v":0},{"$f":"IF(W14=1,$I$9-V13,0)","v":0},{"$f":"IF(M14>=$Z$8,$AA$9,IF(AND(M14<$Z$8,M14>=$Z$7),$AA$8,IF(M14<$Z$7,$AA$7)))&$Y$11","v":{"$error":"#N/A"}}]
["",null,"",null,null,null,null,null,null,null,null,null,0,0,0,0,null,3,"",0,0,{"$f":"SUM($U$13:U15)","v":0},{"$f":"IF(AND(V14<$I$9,V15>$I$9),1,IF(V15>$I$9,2,0))","v":0},{"$f":"IF(W15=1,$I$9-V14,0)","v":0},{"$error":"#N/A"}]
["",null,"",null,null,null,null,null,null,null,null,null,0,0,0,0,null,4,"",0,0,{"$f":"SUM($U$13:U16)","v":0},0,0,{"$error":"#N/A"}]
["",null,"",null,null,null,null,null,null,null,null,null,0,0,0,0,null,5,"",0,0,{"$f":"SUM($U$13:U17)","v":0},0,0,{"$error":"#N/A"}]
["",null,"",null,null,null,null,null,null,null,null,null,0,0,0,0,null,6,"",0,0,{"$f":"SUM($U$13:U18)","v":0},0,0,{"$error":"#N/A"}]
["",null,"",null,null,null,null,null,null,null,null,null,0,0,0,0,null,7,"",0,0,{"$f":"SUM($U$13:U19)","v":0},0,0,{"$error":"#N/A"}]
["",null,"",null,null,null,null,null,null,null,null,null,0,0,0,0,null,8,"",0,0,{"$f":"SUM($U$13:U20)","v":0},0,0,{"$error":"#N/A"}]
["",null,"",null,null,null,null,null,null,null,null,null,0,0,{"$f":"IF(W21=0,U21,X21)","v":0},0,null,9,"",0,0,{"$f":"SUM($U$13:U21)","v":0},0,0,{"$error":"#N/A"}]
["",null,"",null,null,null,null,null,null,null,null,null,0,0,{"$f":"IF(W22=0,U22,X22)","v":0},0,null,10,"",0,{"$f":"N22-T22","v":0},{"$f":"SUM($U$13:U22)","v":0},0,{"$f":"IF(W22=1,$I$9-V21,0)","v":0},{"$error":"#N/A"}]
["",null,"",null,null,null,null,null,null,null,null,null,0,0,0,0,null,11,"",0,0,{"$f":"SUM($U$13:U23)","v":0},0,0,{"$error":"#N/A"}]
["",null,"",null,null,null,null,null,null,null,null,null,0,0,0,0,null,12,"",0,0,{"$f":"SUM($U$13:U24)","v":0},0,0,{"$error":"#N/A"}]
["",null,"",null,null,null,null,null,null,null,null,null,0,0,0,0,null,13,"",0,0,{"$f":"SUM($U$13:U25)","v":0},0,0,{"$error":"#N/A"}]
["",null,"",null,null,null,null,null,null,null,null,null,0,0,0,0,null,14,"",0,0,{"$f":"SUM($U$13:U26)","v":0},0,0,{"$error":"#N/A"}]
["",null,"",null,null,null,null,null,null,null,null,null,0,0,0,0,null,15,"",0,0,{"$f":"SUM($U$13:U27)","v":0},0,0,{"$error":"#N/A"}]
["",null,"",null,null,null,null,null,null,null,null,null,0,0,0,0,null,16,"",0,0,{"$f":"SUM($U$13:U28)","v":0},0,0,{"$error":"#N/A"}]
["",null,"",null,null,null,null,null,null,null,null,null,0,0,0,0,null,17,"",0,0,{"$f":"SUM($U$13:U29)","v":0},0,0,{"$error":"#N/A"}]
["",null,"",null,null,null,null,null,null,null,null,null,0,0,0,0,null,18,"",0,0,{"$f":"SUM($U$13:U30)","v":0},0,0,{"$error":"#N/A"}]
["",null,"",null,null,null,null,null,null,null,null,null,0,0,0,0,null,19,"",0,0,{"$f":"SUM($U$13:U31)","v":0},0,0,{"$error":"#N/A"}]
["",null,"",null,null,null,null,null,null,null,null,null,0,0,0,0,null,20,"",0,0,{"$f":"SUM($U$13:U32)","v":0},0,0,{"$error":"#N/A"}]
["",null,"",null,null,null,null,null,null,null,null,null,0,0,0,0,null,21,"",0,0,{"$f":"SUM($U$13:U33)","v":0},0,0,{"$error":"#N/A"}]
["",null,"",null,null,null,null,null,null,null,null,null,0,0,0,0,null,22,"",0,0,{"$f":"SUM($U$13:U34)","v":0},0,0,{"$error":"#N/A"}]
["",null,"",null,null,null,null,null,null,null,null,null,0,0,0,0,null,23,"",0,0,{"$f":"SUM($U$13:U35)","v":0},0,0,{"$error":"#N/A"}]
["",null,"",null,null,null,null,null,null,null,null,null,0,0,0,0,null,24,"",0,0,{"$f":"SUM($U$13:U36)","v":0},0,0,{"$error":"#N/A"}]
["",null,"",null,null,null,null,null,null,null,null,null,0,0,0,0,null,25,"",0,0,{"$f":"SUM($U$13:U37)","v":0},0,0,{"$error":"#N/A"}]
["",null,"",null,null,null,null,null,null,null,null,null,0,0,0,0,null,26,"",0,0,{"$f":"SUM($U$13:U38)","v":0},0,0,{"$error":"#N/A"}]
["",null,"",null,null,null,null,null,null,null,null,null,0,0,0,0,null,27,"",0,0,{"$f":"SUM($U$13:U39)","v":0},0,0,{"$error":"#N/A"}]
["",null,"",null,null,null,null,null,null,null,null,null,0,0,0,0,null,28,"",0,0,{"$f":"SUM($U$13:U40)","v":0},0,0,{"$error":"#N/A"}]
["",null,"",null,null,null,null,null,null,null,null,null,0,0,0,0,null,29,"",0,0,{"$f":"SUM($U$13:U41)","v":0},0,0,{"$error":"#N/A"}]
["",null,"",null,null,null,null,null,null,null,null,null,0,0,0,0,null,30,"",0,0,{"$f":"SUM($U$13:U42)","v":0},0,0,{"$error":"#N/A"}]
["",null,"",null,null,null,null,null,null,null,null,null,0,0,0,0,null,31,"",0,0,{"$f":"SUM($U$13:U43)","v":0},0,0,{"$error":"#N/A"}]
["合計",null,null,null,null,null,null,null,null,null,null,null,{"$f":"SUM(M13:M43)","v":0},{"$f":"SUM(N13:N43)","v":0},{"$f":"SUM(O13:O43)","v":0},{"$f":"SUM(P13:P43)","v":0},null,null,null,null,null,null,null,null,{"$error":"#N/A"}]

{"sheet":"19","index":23,"n_rows":44,"n_cols":27,"rows_kept":44,"cut":false,"hidden":false,"merged":[[6,18,8,18],[43,0,43,11],[10,15,11,15],[10,16,11,16],[10,18,11,18],[6,0,6,3],[6,11,8,11],[6,12,8,16],[7,0,7,4],[7,5,7,7],[7,8,7,10],[8,0,8,4],[8,5,8,7],[8,8,8,10],[10,21,11,21],[10,22,11,22],[10,23,11,23],[10,0,10,2],[10,3,10,6],[10,7,10,11],[10,12,11,12],[10,13,11,13],[10,14,11,14],[3,1,3,4],[3,5,3,13],[4,0,5,3],[4,4,5,6],[4,7,5,8],[4,9,5,12],[4,13,4,16],[5,13,5,16]]}
[null,"№",19]
[]
[]
[null,{"$f":"EOMONTH(B13,0)","v":"1900-01-31"},null,null,null,"鎌ケ谷市日中一時支援サービス提供実績記録票"]
["登録番号",null,null,null,{"$f":"VLOOKUP($C$1,利用者情報!A:U,COLUMN(利用者情報!B3),FALSE)","v":0},null,null,"支給決定障がい者等氏名\n（児童氏名）",null,{"$f":"VLOOKUP($C$1,利用者情報!A:U,COLUMN(利用者情報!C3),FALSE)","v":0},null,null,null,"事業所登録番号"]
[null,null,null,null,null,null,null,null,null,null,null,null,null,{"$f":"請求事業者!B3","v":0},null,null,null,null,"コメント",null,null,null,null,null,null,{"$f":"VLOOKUP(H7,'データ '!F:G,2,FALSE)","v":{"$error":"#N/A"}}]
["サービス内容及び\n契約支給量",null,null,null,{"$f":"VLOOKUP($C$1,利用者情報!A:U,COLUMN(利用者情報!D3),FALSE)","v":0},"日/月","区分",{"$f":"VLOOKUP($C$1,利用者情報!A:U,COLUMN(利用者情報!E4),FALSE)","v":0},null,null,null,"事業所及びその事務所",{"$f":"請求事業者!B7","v":0},null,null,null,null,null,{"$f":"利用者情報!J4","v":""},null,null,null,null,null,null,"04:00:00","４時間未満/"]
["利用者負担の有無",null,null,null,null,"利用者の負担割合",null,null,"利用者負担上限額",null,null,null,null,null,null,null,null,null,null,null,null,null,null,null,"地区区分","08:00:00","４～８時間未満/"]
[{"$f":"VLOOKUP($C$1,利用者情報!A:U,COLUMN(利用者情報!F3),FALSE)","v":0},null,null,null,null,{"$f":"IF(A9=\"有\",\"1割\",\"0割\")","v":"0割"},null,null,{"$f":"VLOOKUP($C$1,利用者情報!A:U,COLUMN(利用者情報!G3),FALSE)","v":0},null,null,null,null,null,null,null,null,null,null,null,null,null,null,null,{"$f":"請求事業者!C9","v":{"$error":"#N/A"}},null,"８時間以上/"]
[null,null,null,null,null,null,null,null,null,null,null,null,null,null,null,null,null,null,null,null,null,null,null,null,"便宜上区分"]
["日付",null,null,"サービス計画",null,null,null,"サービス提供実績",null,null,null,null,"算定\n時間","算定額","利用者\n負担額","請求額","利用者\n確認印",null,"コメント",null,null,"利用者負担額\n累計","上限到達フラグ","上限達成時の利用者負担額",{"$f":"VLOOKUP(H7,'データ '!F:G,2,FALSE)","v":{"$error":"#N/A"}}]
["月","日","曜日","計画\n日数","食事\n提供","入浴","送迎","開始時間","終了\n時間","食事\n提供","入浴","送迎",null,null,null,null,null,null,null,"請求額","利用者\n負担額",null,null,null,"（9割）"]
[{"$f":"IF(B13=\"\",\"\",TEXT(B13,\"m\"))","v":""},null,{"$f":"IF(B13=\"\",\"\",B13)","v":""},null,null,null,null,null,null,null,null,null,{"$f":"I13-H13","v":0},{"$f":"IF($I13=0,0,INDEX(単価,MATCH(Y13,時間,0),MATCH($Y$9,地域区分,0)))","v":0},{"$f":"IF(W13=0,U13,X13)","v":0},{"$f":"N13-O13","v":0},null,1,{"$f":"IF(A13=\"\",\"\",IF($A$13<>A13,\"月が異なります！\",IF(R13>$E$7,\"決定日数を超過しています！\",\"\")))","v":""},{"$f":"IF(AND($I13=0),0,IF($A$9=\"有\",INDEX(単価,MATCH(Y13,時間,0),MATCH($Y$9&$Y$12,地域区分,0)),INDEX(単価,MATCH(Y13,時間,0),MATCH($Y$9,地域区分,0))))","v":0},{"$f":"N13-T13","v":0},{"$f":"SUM($U$13:U13)","v":0},null,null,{"$f":"IF(M13>=$Z$8,$AA$9,IF(AND(M13<$Z$8,M13>=$Z$7),$AA$8,IF(M13<$Z$7,$AA$7)))&$Y$11","v":{"$error":"#N/A"}}]
[{"$f":"IF(B14=\"\",\"\",TEXT(B14,\"m\"))","v":""},null,{"$f":"IF(B14=\"\",\"\",B14)","v":""},null,null,null,null,null,null,null,null,null,{"$f":"I14-H14","v":0},0,{"$f":"IF(W14=0,U14,X14)","v":0},{"$f":"N14-O14","v":0},null,2,{"$f":"IF(A14=\"\",\"\",IF($A$13<>A14,\"月が異なります！\",IF(R14>$E$7,\"決定日数を超過しています！\",\"\")))","v":""},0,{"$f":"N14-T14","v":0},{"$f":"SUM($U$13:U14)","v":0},{"$f":"IF(AND(V13<$I$9,V14>$I$9),1,IF(V14>$I$9,2,0))","v":0},{"$f":"IF(W14=1,$I$9-V13,0)","v":0},{"$f":"IF(M14>=$Z$8,$AA$9,IF(AND(M14<$Z$8,M14>=$Z$7),$AA$8,IF(M14<$Z$7,$AA$7)))&$Y$11","v":{"$error":"#N/A"}}]
["",null,"",null,null,null,null,null,null,null,null,null,0,0,0,0,null,3,"",0,0,{"$f":"SUM($U$13:U15)","v":0},{"$f":"IF(AND(V14<$I$9,V15>$I$9),1,IF(V15>$I$9,2,0))","v":0},{"$f":"IF(W15=1,$I$9-V14,0)","v":0},{"$error":"#N/A"}]
["",null,"",null,null,null,null,null,null,null,null,null,0,0,0,0,null,4,"",0,0,{"$f":"SUM($U$13:U16)","v":0},0,0,{"$error":"#N/A"}]
["",null,"",null,null,null,null,null,null,null,null,null,0,0,0,0,null,5,"",0,0,{"$f":"SUM($U$13:U17)","v":0},0,0,{"$error":"#N/A"}]
["",null,"",null,null,null,null,null,null,null,null,null,0,0,0,0,null,6,"",0,0,{"$f":"SUM($U$13:U18)","v":0},0,0,{"$error":"#N/A"}]
["",null,"",null,null,null,null,null,null,null,null,null,0,0,0,0,null,7,"",0,0,{"$f":"SUM($U$13:U19)","v":0},0,0,{"$error":"#N/A"}]
["",null,"",null,null,null,null,null,null,null,null,null,0,0,0,0,null,8,"",0,0,{"$f":"SUM($U$13:U20)","v":0},0,0,{"$error":"#N/A"}]
["",null,"",null,null,null,null,null,null,null,null,null,0,0,{"$f":"IF(W21=0,U21,X21)","v":0},0,null,9,"",0,0,{"$f":"SUM($U$13:U21)","v":0},0,0,{"$error":"#N/A"}]
["",null,"",null,null,null,null,null,null,null,null,null,0,0,{"$f":"IF(W22=0,U22,X22)","v":0},0,null,10,"",0,{"$f":"N22-T22","v":0},{"$f":"SUM($U$13:U22)","v":0},0,{"$f":"IF(W22=1,$I$9-V21,0)","v":0},{"$error":"#N/A"}]
["",null,"",null,null,null,null,null,null,null,null,null,0,0,0,0,null,11,"",0,0,{"$f":"SUM($U$13:U23)","v":0},0,0,{"$error":"#N/A"}]
["",null,"",null,null,null,null,null,null,null,null,null,0,0,0,0,null,12,"",0,0,{"$f":"SUM($U$13:U24)","v":0},0,0,{"$error":"#N/A"}]
["",null,"",null,null,null,null,null,null,null,null,null,0,0,0,0,null,13,"",0,0,{"$f":"SUM($U$13:U25)","v":0},0,0,{"$error":"#N/A"}]
["",null,"",null,null,null,null,null,null,null,null,null,0,0,0,0,null,14,"",0,0,{"$f":"SUM($U$13:U26)","v":0},0,0,{"$error":"#N/A"}]
["",null,"",null,null,null,null,null,null,null,null,null,0,0,0,0,null,15,"",0,0,{"$f":"SUM($U$13:U27)","v":0},0,0,{"$error":"#N/A"}]
["",null,"",null,null,null,null,null,null,null,null,null,0,0,0,0,null,16,"",0,0,{"$f":"SUM($U$13:U28)","v":0},0,0,{"$error":"#N/A"}]
["",null,"",null,null,null,null,null,null,null,null,null,0,0,0,0,null,17,"",0,0,{"$f":"SUM($U$13:U29)","v":0},0,0,{"$error":"#N/A"}]
["",null,"",null,null,null,null,null,null,null,null,null,0,0,0,0,null,18,"",0,0,{"$f":"SUM($U$13:U30)","v":0},0,0,{"$error":"#N/A"}]
["",null,"",null,null,null,null,null,null,null,null,null,0,0,0,0,null,19,"",0,0,{"$f":"SUM($U$13:U31)","v":0},0,0,{"$error":"#N/A"}]
["",null,"",null,null,null,null,null,null,null,null,null,0,0,0,0,null,20,"",0,0,{"$f":"SUM($U$13:U32)","v":0},0,0,{"$error":"#N/A"}]
["",null,"",null,null,null,null,null,null,null,null,null,0,0,0,0,null,21,"",0,0,{"$f":"SUM($U$13:U33)","v":0},0,0,{"$error":"#N/A"}]
["",null,"",null,null,null,null,null,null,null,null,null,0,0,0,0,null,22,"",0,0,{"$f":"SUM($U$13:U34)","v":0},0,0,{"$error":"#N/A"}]
["",null,"",null,null,null,null,null,null,null,null,null,0,0,0,0,null,23,"",0,0,{"$f":"SUM($U$13:U35)","v":0},0,0,{"$error":"#N/A"}]
["",null,"",null,null,null,null,null,null,null,null,null,0,0,0,0,null,24,"",0,0,{"$f":"SUM($U$13:U36)","v":0},0,0,{"$error":"#N/A"}]
["",null,"",null,null,null,null,null,null,null,null,null,0,0,0,0,null,25,"",0,0,{"$f":"SUM($U$13:U37)","v":0},0,0,{"$error":"#N/A"}]
["",null,"",null,null,null,null,null,null,null,null,null,0,0,0,0,null,26,"",0,0,{"$f":"SUM($U$13:U38)","v":0},0,0,{"$error":"#N/A"}]
["",null,"",null,null,null,null,null,null,null,null,null,0,0,0,0,null,27,"",0,0,{"$f":"SUM($U$13:U39)","v":0},0,0,{"$error":"#N/A"}]
["",null,"",null,null,null,null,null,null,null,null,null,0,0,0,0,null,28,"",0,0,{"$f":"SUM($U$13:U40)","v":0},0,0,{"$error":"#N/A"}]
["",null,"",null,null,null,null,null,null,null,null,null,0,0,0,0,null,29,"",0,0,{"$f":"SUM($U$13:U41)","v":0},0,0,{"$error":"#N/A"}]
["",null,"",null,null,null,null,null,null,null,null,null,0,0,0,0,null,30,"",0,0,{"$f":"SUM($U$13:U42)","v":0},0,0,{"$error":"#N/A"}]
["",null,"",null,null,null,null,null,null,null,null,null,0,0,0,0,null,31,"",0,0,{"$f":"SUM($U$13:U43)","v":0},0,0,{"$error":"#N/A"}]
["合計",null,null,null,null,null,null,null,null,null,null,null,{"$f":"SUM(M13:M43)","v":0},{"$f":"SUM(N13:N43)","v":0},{"$f":"SUM(O13:O43)","v":0},{"$f":"SUM(P13:P43)","v":0},null,null,null,null,null,null,null,null,{"$error":"#N/A"}]

{"sheet":"20","index":24,"n_rows":44,"n_cols":27,"rows_kept":44,"cut":false,"hidden":false,"merged":[[6,18,8,18],[43,0,43,11],[10,15,11,15],[10,16,11,16],[10,18,11,18],[6,0,6,3],[6,11,8,11],[6,12,8,16],[7,0,7,4],[7,5,7,7],[7,8,7,10],[8,0,8,4],[8,5,8,7],[8,8,8,10],[10,21,11,21],[10,22,11,22],[10,23,11,23],[10,0,10,2],[10,3,10,6],[10,7,10,11],[10,12,11,12],[10,13,11,13],[10,14,11,14],[3,1,3,4],[3,5,3,13],[4,0,5,3],[4,4,5,6],[4,7,5,8],[4,9,5,12],[4,13,4,16],[5,13,5,16]]}
[null,"№",20]
[]
[]
[null,{"$f":"EOMONTH(B13,0)","v":"1900-01-31"},null,null,null,"鎌ケ谷市日中一時支援サービス提供実績記録票"]
["登録番号",null,null,null,{"$f":"VLOOKUP($C$1,利用者情報!A:U,COLUMN(利用者情報!B3),FALSE)","v":0},null,null,"支給決定障がい者等氏名\n（児童氏名）",null,{"$f":"VLOOKUP($C$1,利用者情報!A:U,COLUMN(利用者情報!C3),FALSE)","v":0},null,null,null,"事業所登録番号"]
[null,null,null,null,null,null,null,null,null,null,null,null,null,{"$f":"請求事業者!B3","v":0},null,null,null,null,"コメント",null,null,null,null,null,null,{"$f":"VLOOKUP(H7,'データ '!F:G,2,FALSE)","v":{"$error":"#N/A"}}]
["サービス内容及び\n契約支給量",null,null,null,{"$f":"VLOOKUP($C$1,利用者情報!A:U,COLUMN(利用者情報!D3),FALSE)","v":0},"日/月","区分",{"$f":"VLOOKUP($C$1,利用者情報!A:U,COLUMN(利用者情報!E4),FALSE)","v":0},null,null,null,"事業所及びその事務所",{"$f":"請求事業者!B7","v":0},null,null,null,null,null,{"$f":"利用者情報!J4","v":""},null,null,null,null,null,null,"04:00:00","４時間未満/"]
["利用者負担の有無",null,null,null,null,"利用者の負担割合",null,null,"利用者負担上限額",null,null,null,null,null,null,null,null,null,null,null,null,null,null,null,"地区区分","08:00:00","４～８時間未満/"]
[{"$f":"VLOOKUP($C$1,利用者情報!A:U,COLUMN(利用者情報!F3),FALSE)","v":0},null,null,null,null,{"$f":"IF(A9=\"有\",\"1割\",\"0割\")","v":"0割"},null,null,{"$f":"VLOOKUP($C$1,利用者情報!A:U,COLUMN(利用者情報!G3),FALSE)","v":0},null,null,null,null,null,null,null,null,null,null,null,null,null,null,null,{"$f":"請求事業者!C9","v":{"$error":"#N/A"}},null,"８時間以上/"]
[null,null,null,null,null,null,null,null,null,null,null,null,null,null,null,null,null,null,null,null,null,null,null,null,"便宜上区分"]
["日付",null,null,"サービス計画",null,null,null,"サービス提供実績",null,null,null,null,"算定\n時間","算定額","利用者\n負担額","請求額","利用者\n確認印",null,"コメント",null,null,"利用者負担額\n累計","上限到達フラグ","上限達成時の利用者負担額",{"$f":"VLOOKUP(H7,'データ '!F:G,2,FALSE)","v":{"$error":"#N/A"}}]
["月","日","曜日","計画\n日数","食事\n提供","入浴","送迎","開始時間","終了\n時間","食事\n提供","入浴","送迎",null,null,null,null,null,null,null,"請求額","利用者\n負担額",null,null,null,"（9割）"]
[{"$f":"IF(B13=\"\",\"\",TEXT(B13,\"m\"))","v":""},null,{"$f":"IF(B13=\"\",\"\",B13)","v":""},null,null,null,null,null,null,null,null,null,{"$f":"I13-H13","v":0},{"$f":"IF($I13=0,0,INDEX(単価,MATCH(Y13,時間,0),MATCH($Y$9,地域区分,0)))","v":0},{"$f":"IF(W13=0,U13,X13)","v":0},{"$f":"N13-O13","v":0},null,1,{"$f":"IF(A13=\"\",\"\",IF($A$13<>A13,\"月が異なります！\",IF(R13>$E$7,\"決定日数を超過しています！\",\"\")))","v":""},{"$f":"IF(AND($I13=0),0,IF($A$9=\"有\",INDEX(単価,MATCH(Y13,時間,0),MATCH($Y$9&$Y$12,地域区分,0)),INDEX(単価,MATCH(Y13,時間,0),MATCH($Y$9,地域区分,0))))","v":0},{"$f":"N13-T13","v":0},{"$f":"SUM($U$13:U13)","v":0},null,null,{"$f":"IF(M13>=$Z$8,$AA$9,IF(AND(M13<$Z$8,M13>=$Z$7),$AA$8,IF(M13<$Z$7,$AA$7)))&$Y$11","v":{"$error":"#N/A"}}]
[{"$f":"IF(B14=\"\",\"\",TEXT(B14,\"m\"))","v":""},null,{"$f":"IF(B14=\"\",\"\",B14)","v":""},null,null,null,null,null,null,null,null,null,{"$f":"I14-H14","v":0},0,{"$f":"IF(W14=0,U14,X14)","v":0},{"$f":"N14-O14","v":0},null,2,{"$f":"IF(A14=\"\",\"\",IF($A$13<>A14,\"月が異なります！\",IF(R14>$E$7,\"決定日数を超過しています！\",\"\")))","v":""},0,{"$f":"N14-T14","v":0},{"$f":"SUM($U$13:U14)","v":0},{"$f":"IF(AND(V13<$I$9,V14>$I$9),1,IF(V14>$I$9,2,0))","v":0},{"$f":"IF(W14=1,$I$9-V13,0)","v":0},{"$f":"IF(M14>=$Z$8,$AA$9,IF(AND(M14<$Z$8,M14>=$Z$7),$AA$8,IF(M14<$Z$7,$AA$7)))&$Y$11","v":{"$error":"#N/A"}}]
["",null,"",null,null,null,null,null,null,null,null,null,0,0,0,0,null,3,"",0,0,{"$f":"SUM($U$13:U15)","v":0},{"$f":"IF(AND(V14<$I$9,V15>$I$9),1,IF(V15>$I$9,2,0))","v":0},{"$f":"IF(W15=1,$I$9-V14,0)","v":0},{"$error":"#N/A"}]
["",null,"",null,null,null,null,null,null,null,null,null,0,0,0,0,null,4,"",0,0,{"$f":"SUM($U$13:U16)","v":0},0,0,{"$error":"#N/A"}]
["",null,"",null,null,null,null,null,null,null,null,null,0,0,0,0,null,5,"",0,0,{"$f":"SUM($U$13:U17)","v":0},0,0,{"$error":"#N/A"}]
["",null,"",null,null,null,null,null,null,null,null,null,0,0,0,0,null,6,"",0,0,{"$f":"SUM($U$13:U18)","v":0},0,0,{"$error":"#N/A"}]
["",null,"",null,null,null,null,null,null,null,null,null,0,0,0,0,null,7,"",0,0,{"$f":"SUM($U$13:U19)","v":0},0,0,{"$error":"#N/A"}]
["",null,"",null,null,null,null,null,null,null,null,null,0,0,0,0,null,8,"",0,0,{"$f":"SUM($U$13:U20)","v":0},0,0,{"$error":"#N/A"}]
["",null,"",null,null,null,null,null,null,null,null,null,0,0,{"$f":"IF(W21=0,U21,X21)","v":0},0,null,9,"",0,0,{"$f":"SUM($U$13:U21)","v":0},0,0,{"$error":"#N/A"}]
["",null,"",null,null,null,null,null,null,null,null,null,0,0,{"$f":"IF(W22=0,U22,X22)","v":0},0,null,10,"",0,{"$f":"N22-T22","v":0},{"$f":"SUM($U$13:U22)","v":0},0,{"$f":"IF(W22=1,$I$9-V21,0)","v":0},{"$error":"#N/A"}]
["",null,"",null,null,null,null,null,null,null,null,null,0,0,0,0,null,11,"",0,0,{"$f":"SUM($U$13:U23)","v":0},0,0,{"$error":"#N/A"}]
["",null,"",null,null,null,null,null,null,null,null,null,0,0,0,0,null,12,"",0,0,{"$f":"SUM($U$13:U24)","v":0},0,0,{"$error":"#N/A"}]
["",null,"",null,null,null,null,null,null,null,null,null,0,0,0,0,null,13,"",0,0,{"$f":"SUM($U$13:U25)","v":0},0,0,{"$error":"#N/A"}]
["",null,"",null,null,null,null,null,null,null,null,null,0,0,0,0,null,14,"",0,0,{"$f":"SUM($U$13:U26)","v":0},0,0,{"$error":"#N/A"}]
["",null,"",null,null,null,null,null,null,null,null,null,0,0,0,0,null,15,"",0,0,{"$f":"SUM($U$13:U27)","v":0},0,0,{"$error":"#N/A"}]
["",null,"",null,null,null,null,null,null,null,null,null,0,0,0,0,null,16,"",0,0,{"$f":"SUM($U$13:U28)","v":0},0,0,{"$error":"#N/A"}]
["",null,"",null,null,null,null,null,null,null,null,null,0,0,0,0,null,17,"",0,0,{"$f":"SUM($U$13:U29)","v":0},0,0,{"$error":"#N/A"}]
["",null,"",null,null,null,null,null,null,null,null,null,0,0,0,0,null,18,"",0,0,{"$f":"SUM($U$13:U30)","v":0},0,0,{"$error":"#N/A"}]
["",null,"",null,null,null,null,null,null,null,null,null,0,0,0,0,null,19,"",0,0,{"$f":"SUM($U$13:U31)","v":0},0,0,{"$error":"#N/A"}]
["",null,"",null,null,null,null,null,null,null,null,null,0,0,0,0,null,20,"",0,0,{"$f":"SUM($U$13:U32)","v":0},0,0,{"$error":"#N/A"}]
["",null,"",null,null,null,null,null,null,null,null,null,0,0,0,0,null,21,"",0,0,{"$f":"SUM($U$13:U33)","v":0},0,0,{"$error":"#N/A"}]
["",null,"",null,null,null,null,null,null,null,null,null,0,0,0,0,null,22,"",0,0,{"$f":"SUM($U$13:U34)","v":0},0,0,{"$error":"#N/A"}]
["",null,"",null,null,null,null,null,null,null,null,null,0,0,0,0,null,23,"",0,0,{"$f":"SUM($U$13:U35)","v":0},0,0,{"$error":"#N/A"}]
["",null,"",null,null,null,null,null,null,null,null,null,0,0,0,0,null,24,"",0,0,{"$f":"SUM($U$13:U36)","v":0},0,0,{"$error":"#N/A"}]
["",null,"",null,null,null,null,null,null,null,null,null,0,0,0,0,null,25,"",0,0,{"$f":"SUM($U$13:U37)","v":0},0,0,{"$error":"#N/A"}]
["",null,"",null,null,null,null,null,null,null,null,null,0,0,0,0,null,26,"",0,0,{"$f":"SUM($U$13:U38)","v":0},0,0,{"$error":"#N/A"}]
["",null,"",null,null,null,null,null,null,null,null,null,0,0,0,0,null,27,"",0,0,{"$f":"SUM($U$13:U39)","v":0},0,0,{"$error":"#N/A"}]
["",null,"",null,null,null,null,null,null,null,null,null,0,0,0,0,null,28,"",0,0,{"$f":"SUM($U$13:U40)","v":0},0,0,{"$error":"#N/A"}]
["",null,"",null,null,null,null,null,null,null,null,null,0,0,0,0,null,29,"",0,0,{"$f":"SUM($U$13:U41)","v":0},0,0,{"$error":"#N/A"}]
["",null,"",null,null,null,null,null,null,null,null,null,0,0,0,0,null,30,"",0,0,{"$f":"SUM($U$13:U42)","v":0},0,0,{"$error":"#N/A"}]
["",null,"",null,null,null,null,null,null,null,null,null,0,0,0,0,null,31,"",0,0,{"$f":"SUM($U$13:U43)","v":0},0,0,{"$error":"#N/A"}]
["合計",null,null,null,null,null,null,null,null,null,null,null,{"$f":"SUM(M13:M43)","v":0},{"$f":"SUM(N13:N43)","v":0},{"$f":"SUM(O13:O43)","v":0},{"$f":"SUM(P13:P43)","v":0},null,null,null,null,null,null,null,null,{"$error":"#N/A"}]

{"sheet":"データ ","index":25,"n_rows":22,"n_cols":24,"rows_kept":22,"cut":false,"hidden":true,"merged":[[0,5,0,6]]}
[null,null,null,null,null,"区分",null,null,null,null,null,null,"その他","その他（9割）",2,"2（9割）",3,"3（9割）",4,"4（9割）",5,"5（9割）",6,"6（9割）"]
[null,"柏市",5,null,null,1,"Ａ",null,"04:00:00","４時間未満",null,"４時間未満/Ａ",1225,1103,1335,1202,1313,1182,1298,1169,1269,1143,1247,1123]
[null,"茂原市",5,null,null,2,"Ａ",null,"08:00:00","４～８時間未満",null,"４～８時間未満/Ａ",2450,2205,2670,2403,2626,2364,2597,2338,2538,2285,2494,2245]
[null,"佐倉市",5,null,null,3,"Ｂ",null,null,"８時間以上",null,"８時間以上/Ａ",3675,3308,4005,3605,3939,3546,3895,3506,3807,3427,3741,3367]
[null,"市原市",5,null,null,4,"Ｂ",null,null,null,null,"４時間未満/Ｂ",1483,1335,1616,1455,1589,1431,1571,1414,1536,1383,1509,1359]
[null,"白井市",5,null,null,5,"Ｃ",null,null,null,null,"４～８時間未満/Ｂ",2965,2669,3231,2908,3178,2861,3142,2828,3071,2764,3018,2717]
[null,"我孫子市",5,null,null,6,"Ｃ",null,null,null,null,"８時間以上/Ｂ",4448,4004,4848,4364,4768,4292,4714,4243,4608,4148,4528,4076]
[null,"鎌ケ谷市",5,null,null,"児1","Ａ",null,null,null,null,"４時間未満/Ｃ",1893,1704,2063,1857,2029,1827,2006,1806,1961,1765,1927,1735]
[null,"長柄町",5,null,null,"児2","Ｂ",null,null,null,null,"４～８時間未満/Ｃ",3785,3407,4125,3713,4057,3652,4012,3611,3921,3529,3853,3468]
[null,"長南町",5,null,null,"児3","Ｃ",null,null,null,null,"８時間以上/Ｃ",5678,5111,6189,5571,6086,5478,6018,5417,5882,5294,5780,5202]
[null,"木更津市",5]
[null,"君津市",5]
[null,"船橋市",3,null,"有"]
[null,"浦安市",3,null,"無"]
[null,"袖ケ浦市",3]
[null,"千葉市",4]
[null,"市川市",4]
[null,"松戸市",4]
[null,"四街道市",4]
[null,"富津市",4]
[null,"習志野市",4]
[null,"その他","その他"]